{"text_format":"1","workbook":"xlsx","n_sheets":8,"sheets":["ATTENDANCE","SKILL 1","SKILL 2","SKILL 3","SKILL 4","SKILL 5","SKILL 6","GaDOE ONLY"],"not_rendered":{"charts":18,"images":0,"macros":1,"external_links":0,"defined_names":77,"comments":0,"pivot_tables":0},"unopened":[],"bounds":{"document_bytes":16777216,"sheet_cells":100000,"rows_first":2000,"rows_last":500,"rows_between":2000,"halvings":0,"cell_chars":16384,"cell_head_chars":4096},"cells_cut":0,"cells_raw":0,"read":"whole","date_system":"1900"}

{"sheet":"ATTENDANCE","index":0,"n_rows":58,"n_cols":23,"rows_kept":58,"cut":false,"hidden":false,"merged":[[7,10,7,13],[7,2,7,8],[1,1,1,6],[2,2,2,4],[3,2,3,4],[4,2,4,4],[5,2,5,4],[2,5,2,6],[3,5,3,6],[4,5,4,6],[5,5,5,6]]}
[]
[null,"ATTENDANCE"]
[null,"System ID",null,null,null,"Ex: \"999\""]
[null,"School ID",null,null,null,"Ex: \"9999\""]
[null,"Teacher Name ",null,null,null,"Ex: \"Doe J\""]
[null,"Grade Level",null,null,null,"Ex: \"3\""]
[]
[null,null,"INDIVIDUAL ATTENDANCE",null,null,null,null,null,null,null,"CLASS ATTENDANCE"]
[]
[null,null,null,null,null,"Meeting 1",null,"Meeting 2","Meeting 3",null,"Meeting 1","Individual Meeting","Meeting 2","Meeting 3"]
[null,null,null,null,"Date",null,null,null,null,null,{"$f":"AVERAGE(O15:O54)","v":{"$error":"#DIV/0!"}},{"$f":"AVERAGE(R15:R54)","v":{"$error":"#DIV/0!"}},{"$f":"AVERAGE(P15:P54)","v":{"$error":"#DIV/0!"}},{"$f":"AVERAGE(Q15:Q54)","v":{"$error":"#DIV/0!"}}]
[null,null,null,null,"Time"]
[]
[null,null,"Student Name","GTID","Student Graph Number","Did Family Attend Meeting 1?","Did Family Attend Individual Meeting?","Did Family Attend Meeting 2?","Did Family Attend Meeting 3?",null,null,null,null,null,"Meeting 1","Meeting 2","Meeting 3","Individual Meeting"]
[null,null,null,null,1,null,null,null,null,null,null,null,null,null,{"$f":"IF(F15=\"Yes\",1,IF(F15=\"No\", 0, IF(F15=\"Withdrawn\",\"\", IF(F15=\"Not Enrolled\", \"\"))))","v":false},{"$f":"IF(H15=\"Yes\",1,IF(H15=\"No\", 0, IF(H15=\"Withdrawn\",\"\", IF(H15=\"Not Enrolled\", \"\"))))","v":false},{"$f":"IF(I15=\"Yes\",1,IF(I15=\"No\", 0, IF(I15=\"Withdrawn\",\"\", IF(I15=\"Not Enrolled\", \"\"))))","v":false},{"$f":"IF(G15=\"Yes\",1,IF(G15=\"No\", 0, IF(G15=\"Withdrawn\",\"\", IF(G15=\"Not Enrolled\", \"\"))))","v":false}]
[null,null,null,null,2,null,null,null,null,null,null,null,null,null,false,{"$f":"IF(H16=\"Yes\",1,IF(H16=\"No\", 0, IF(H16=\"Withdrawn\",\"\", IF(H16=\"Not Enrolled\", \"\"))))","v":false},{"$f":"IF(I16=\"Yes\",1,IF(I16=\"No\", 0, IF(I16=\"Withdrawn\",\"\", IF(I16=\"Not Enrolled\", \"\"))))","v":false},{"$f":"IF(G16=\"Yes\",1,IF(G16=\"No\", 0, IF(G16=\"Withdrawn\",\"\", IF(G16=\"Not Enrolled\", \"\"))))","v":false}]
[null,null,null,null,3,null,null,null,null,null,null,null,null,null,false,false,false,false]
[null,null,null,null,4,null,null,null,null,null,null,null,null,null,false,false,false,false,null,"Meeting 1 and 2 Drop Down Options"]
[null,null,null,null,5,null,null,null,null,null,null,null,null,null,false,false,false,false," ","Yes"," "]
[null,null,null,null,6,null,null,null,null,null,null,null,null,null,false,false,false,false,null,"No"]
[null,null,null,null,7,null,null,null,null,null,null,null,null,null,false,false,false,false,null,"Withdrawn"]
[null,null,null,null,8,null,null,null,null,null,null,null,null,null,false,false,false,false,null,"Not Enrolled"]
[null,null,null,null,9,null,null,null,null,null,null,null,null,null,false,false,false,false]
[null,null,null,null,10,null,null,null,null,null,null,null,null,null,false,false,false,false,null,"Individual Meeting Drop Down Options"]
[null,null,null,null,11,null,null,null,null,null,null,null,null,null,false,false,false,false,null,"Yes"]
[null,null,null,null,12,null,null,null,null,null,null,null,null,null,false,false,false,false,null,"No"]
[null,null,null,null,13,null,null,null,null,null,null,null,null,null,false,false,false,false,null,"Withdrawn"]
[null,null,null,null,14,null,null,null,null,null,null,null,null,null,false,false,false,false,null,"Not Enrolled"]
[null,null,null,null,15,null,null,null,null,null,null,null,null,null,false,false,false,false,null,"Not Invited"]
[null,null,null,null,16,null,null,null,null,null,null,null,null,null,false,false,false,false]
[null,null,null,null,17,null,null,null,null,null,null,null,null,null,false,false,false,false,null,null,null,null," "]
[null,null,null,null,18,null,null,null,null,null,null,null,null,null,false,false,false,false]
[null,null,null,null,19,null,null,null,null,null,null,null,null,null,false,false,false,false]
[null,null,null,null,20,null,null,null,null,null,null,null,null,null,false,false,false,false]
[null,null,null,null,21,null,null,null,null,null,null,null,null,null,false,false,false,false]
[null,null,null,null,22,null,null,null,null,null,null,null,null,null,false,false,false,false]
[null,null,null,null,23,null,null,null,null,null,null,null,null,null,false,false,false,false]
[null,null,null,null,24,null,null,null,null,null,null,null,null,null,false,false,false,false]
[null,null,null,null,25,null,null,null,null,null,null,null,null,null,false,false,false,false,null,null,"Pre-K"]
[null,null,null,null,26,null,null,null,null,null,null,null,null,null,false,false,false,false,null,null,"K"]
[null,null,null,null,27,null,null,null,null,null,null,null,null,null,false,false,false,false,null,null,1]
[null,null,null,null,28,null,null,null,null,null,null,null,null,null,false,false,false,false,null,null,2]
[null,null,null,null,29,null,null,null,null,null,null,null,null,null,false,false,false,false,null,null,3]
[null,null,null,null,30,null,null,null,null,null,null,null,null,null,false,false,false,false,null,null,4]
[null,null,null,null,31,null,null,null,null,null,null,null,null,null,false,false,false,false,null,null,5]
[null,null,null,null,32,null,null,null,null,null,null,null,null,null,false,false,false,false,null,null,6]
[null,null,null,null,33,null,null,null,null,null,null,null,null,null,false,false,false,false,null,null,7]
[null,null,null,null,34,null,null,null,null,null,null,null,null,null,false,false,false,false,null,null,8]
[null,null,null,null,35,null,null,null,null,null,null,null,null,null,false,false,false,false,null,null,"Multi-Grade"]
[null,null,null,null,36,null,null,null,null,null,null,null,null,null,false,false,false,false]
[null,null,null,null,37,null,null,null,null,null,null,null,null,null,false,false,false,false]
[null,null,null,null,38,null,null,null,null,null,null,null,null,null,false,false,false,false]
[null,null,null,null,39,null,null,null,null,null,null,null,null,null,false,false,false,false]
[null,null,null,null,40,null,null,null,null,null,null,null,null,null,false,false,false,false]
[null,null,null,null,32,null,null,null,null,null,null,null,null,null,null,null,null,null,null,null,6]
[]
[null,null,null,null,null,null,null,null,null,null,null,null,null,null,null,null,null,null,null,null,8]
[null,null,null,null,null,null,null,null,null,null,null,null,null,null,null,null,null,null,null,null,"Multi-Grade"]

{"sheet":"SKILL 1","index":1,"n_rows":139,"n_cols":25,"rows_kept":139,"cut":false,"hidden":false,"merged":[[1,1,1,7],[5,6,5,7],[6,6,6,7],[8,7,8,9],[8,10,8,12],[2,2,2,4],[3,2,3,4],[4,2,4,4],[5,2,5,4],[2,6,2,7],[3,6,3,7],[4,6,4,7],[3,9,4,12],[10,3,10,4],[13,3,13,4],[58,1,58,12],[98,1,98,12],[138,1,138,12]]}
[]
[null,"SKILL ONE DATA"]
[null,"System ID",{"$f":"ATTENDANCE!C3","v":0},null,null,null,"Ex: \"999\""]
[null,"School ID",{"$f":"ATTENDANCE!C4","v":0},null,null,null,"Ex: \"9999\"",null,null,"NOTE: Scroll down for dynamic graphs."]
[null,"Teacher Name ",{"$f":"ATTENDANCE!C5","v":0},null,null,null,"Ex: \"Doe J\""]
[null,"Grade Level",{"$f":"ATTENDANCE!C6","v":0},null,null,null,"Ex: \"3\""]
[null,"Skill Label",null,null,null,null,"Ex: \"Reading Fluency\""]
[]
[null,null,null,null,null,null,"Pre-Test","Interim Test",null,null,"Post-Test"]
[]
[null,null,null,"Administration Date",null,null,null,null,null,null,null,null,null,null,null,null,null,null,null,null,null,null,null,null," "]
[]
[]
[null,null,null,"Benchmarks"]
[]
[null,null,"Student Name (First, Last)","GTID","Student Graph Number",null,"Score","SMART \nGoal","Score","Was SMART \nGoal Met?","SMART \nGoal","Score","Was SMART \nGoal Met?","Pre-Test to \nPost-Test Growth","Student Number","Pre-Test\nScore","Pre-Test Benchmark","Interim Test","Iterim Benchmark","Post-Test Score","Post-Test Benchmark"]
[null,null,{"$f":"ATTENDANCE!C15","v":0},{"$f":"ATTENDANCE!D15","v":0},{"$f":"ATTENDANCE!E15","v":1},null,null,null,null,{"$f":"IF(H17<>\"\",IF(I17>=H17,\"Yes\",\"No\"),\"\")","v":""},null,null,{"$f":"IF(K17<>\"\",IF(L17>=K17,\"Yes\",\"No\"),\"\")","v":""},{"$f":"IF(AND(L17<>\"\",G17<>\"\"),L17-G17, \"\")","v":""},{"$f":"IF($C17<>$D17,E17,\"#N/A\")","v":"#N/A"},{"$f":"IF(C17<>D17,G17,\"#N/A\")","v":"#N/A"},{"$f":"IF($C17<>$D17,$G$14,\"#N/A\")","v":"#N/A"},{"$f":"IF($C17<>$D17,I17,\"#N/A\")","v":"#N/A"},{"$f":"IF($C17<>$D17,$I$14,\"#N/A\")","v":"#N/A"},{"$f":"IF($C17<>$D17,L17,\"#N/A\")","v":"#N/A"},{"$f":"IF($C17<>$D17,$L$14,\"#N/A\")","v":"#N/A"}," "]
[null,null,{"$f":"ATTENDANCE!C16","v":0},{"$f":"ATTENDANCE!D16","v":0},{"$f":"ATTENDANCE!E16","v":2},null,null,null,null,{"$f":"IF(H18<>\"\",IF(I18>=H18,\"Yes\",\"No\"),\"\")","v":""},null,null,"","",{"$f":"IF($C18<>$D18,E18,\"#N/A\")","v":"#N/A"},{"$f":"IF(C18<>D18,G18,\"#N/A\")","v":"#N/A"},{"$f":"IF(C18<>D18,$G$14,\"#N/A\")","v":"#N/A"},{"$f":"IF($C18<>$D18,I18,\"#N/A\")","v":"#N/A"},{"$f":"IF($C18<>$D18,$I$14,\"#N/A\")","v":"#N/A"},{"$f":"IF($C18<>$D18,L18,\"#N/A\")","v":"#N/A"},{"$f":"IF($C18<>$D18,$L$14,\"#N/A\")","v":"#N/A"}]
[null,null,{"$f":"ATTENDANCE!C17","v":0},{"$f":"ATTENDANCE!D17","v":0},{"$f":"ATTENDANCE!E17","v":3},null,null,null,null,{"$f":"IF(H19<>\"\",IF(I19>=H19,\"Yes\",\"No\"),\"\")","v":""},null,null,"","","#N/A","#N/A","#N/A","#N/A","#N/A","#N/A","#N/A"]
[null,null,{"$f":"ATTENDANCE!C18","v":0},{"$f":"ATTENDANCE!D18","v":0},{"$f":"ATTENDANCE!E18","v":4},null,null,null,null,"",null,null,"","","#N/A","#N/A","#N/A","#N/A","#N/A","#N/A","#N/A"]
[null,null,{"$f":"ATTENDANCE!C19","v":0},{"$f":"ATTENDANCE!D19","v":0},{"$f":"ATTENDANCE!E19","v":5},null,null,null,null,"",null,null,"","","#N/A","#N/A","#N/A","#N/A","#N/A","#N/A","#N/A"]
[null,null,{"$f":"ATTENDANCE!C20","v":0},{"$f":"ATTENDANCE!D20","v":0},{"$f":"ATTENDANCE!E20","v":6},null,null,null,null,"",null,null,"","","#N/A","#N/A","#N/A","#N/A","#N/A","#N/A","#N/A"]
[null,null,{"$f":"ATTENDANCE!C21","v":0},{"$f":"ATTENDANCE!D21","v":0},{"$f":"ATTENDANCE!E21","v":7},null,null,null,null,"",null,null,"","","#N/A","#N/A","#N/A","#N/A","#N/A","#N/A","#N/A"]
[null,null,{"$f":"ATTENDANCE!C22","v":0},{"$f":"ATTENDANCE!D22","v":0},{"$f":"ATTENDANCE!E22","v":8},null,null,null,null,"",null,null,"","","#N/A","#N/A","#N/A","#N/A","#N/A","#N/A","#N/A"]
[null,null,{"$f":"ATTENDANCE!C23","v":0},{"$f":"ATTENDANCE!D23","v":0},{"$f":"ATTENDANCE!E23","v":9},null,null,null,null,"",null,null,"","","#N/A","#N/A","#N/A","#N/A","#N/A","#N/A","#N/A"]
[null,null,{"$f":"ATTENDANCE!C24","v":0},{"$f":"ATTENDANCE!D24","v":0},{"$f":"ATTENDANCE!E24","v":10},null,null,null,null,"",null,null,"","","#N/A","#N/A","#N/A","#N/A","#N/A","#N/A","#N/A"]
[null,null,{"$f":"ATTENDANCE!C25","v":0},{"$f":"ATTENDANCE!D25","v":0},{"$f":"ATTENDANCE!E25","v":11},null,null,null,null,"",null,null,"","","#N/A","#N/A","#N/A","#N/A","#N/A","#N/A","#N/A"," "]
[null,null,{"$f":"ATTENDANCE!C26","v":0},{"$f":"ATTENDANCE!D26","v":0},{"$f":"ATTENDANCE!E26","v":12},null,null,null,null,"",null,null,"","","#N/A","#N/A","#N/A","#N/A","#N/A","#N/A","#N/A"]
[null,null,{"$f":"ATTENDANCE!C27","v":0},{"$f":"ATTENDANCE!D27","v":0},{"$f":"ATTENDANCE!E27","v":13},null,null,null,null,"",null,null,"","","#N/A","#N/A","#N/A","#N/A","#N/A","#N/A","#N/A"]
[null,null,{"$f":"ATTENDANCE!C28","v":0},{"$f":"ATTENDANCE!D28","v":0},{"$f":"ATTENDANCE!E28","v":14},null,null,null,null,"",null,null,"","","#N/A","#N/A","#N/A","#N/A","#N/A","#N/A","#N/A"]
[null,null,{"$f":"ATTENDANCE!C29","v":0},{"$f":"ATTENDANCE!D29","v":0},{"$f":"ATTENDANCE!E29","v":15},null,null,null,null,"",null,null,"","","#N/A","#N/A","#N/A","#N/A","#N/A","#N/A","#N/A",null," "]
[null,null,{"$f":"ATTENDANCE!C30","v":0},{"$f":"ATTENDANCE!D30","v":0},{"$f":"ATTENDANCE!E30","v":16},null,null,null,null,"",null,null,"","","#N/A","#N/A","#N/A","#N/A","#N/A","#N/A","#N/A"]
[null,null,{"$f":"ATTENDANCE!C31","v":0},{"$f":"ATTENDANCE!D31","v":0},{"$f":"ATTENDANCE!E31","v":17},null,null,null,null,"",null,null,"","","#N/A","#N/A","#N/A","#N/A","#N/A","#N/A","#N/A"]
[null,null,{"$f":"ATTENDANCE!C32","v":0},{"$f":"ATTENDANCE!D32","v":0},{"$f":"ATTENDANCE!E32","v":18},null,null,null,null,"",null,null,"","","#N/A","#N/A","#N/A","#N/A","#N/A","#N/A","#N/A"]
[null,null,{"$f":"ATTENDANCE!C33","v":0},{"$f":"ATTENDANCE!D33","v":0},{"$f":"ATTENDANCE!E33","v":19},null,null,null,null,"",null,null,"","","#N/A","#N/A","#N/A","#N/A","#N/A","#N/A","#N/A"]
[null,null,{"$f":"ATTENDANCE!C34","v":0},{"$f":"ATTENDANCE!D34","v":0},{"$f":"ATTENDANCE!E34","v":20},null,null,null,null,"",null,null,"","","#N/A","#N/A","#N/A","#N/A","#N/A","#N/A","#N/A"]
[null,null,{"$f":"ATTENDANCE!C35","v":0},{"$f":"ATTENDANCE!D35","v":0},{"$f":"ATTENDANCE!E35","v":21},null,null,null,null,"",null,null,"","","#N/A","#N/A","#N/A","#N/A","#N/A","#N/A","#N/A"]
[null,null,{"$f":"ATTENDANCE!C36","v":0},{"$f":"ATTENDANCE!D36","v":0},{"$f":"ATTENDANCE!E36","v":22},null,null,null,null,"",null,null,"","","#N/A","#N/A","#N/A","#N/A","#N/A","#N/A","#N/A"]
[null,null,{"$f":"ATTENDANCE!C37","v":0},{"$f":"ATTENDANCE!D37","v":0},{"$f":"ATTENDANCE!E37","v":23},null,null,null,null,"",null,null,"","","#N/A","#N/A","#N/A","#N/A","#N/A","#N/A","#N/A"]
[null,null,{"$f":"ATTENDANCE!C38","v":0},{"$f":"ATTENDANCE!D38","v":0},{"$f":"ATTENDANCE!E38","v":24},null,null,null,null,"",null,null,"","","#N/A","#N/A","#N/A","#N/A","#N/A","#N/A","#N/A"]
[null,null,{"$f":"ATTENDANCE!C39","v":0},{"$f":"ATTENDANCE!D39","v":0},{"$f":"ATTENDANCE!E39","v":25},null,null,null,null,"",null,null,"","","#N/A","#N/A","#N/A","#N/A","#N/A","#N/A","#N/A"]
[null,null,{"$f":"ATTENDANCE!C40","v":0},{"$f":"ATTENDANCE!D40","v":0},{"$f":"ATTENDANCE!E40","v":26},null,null,null,null,"",null,null,"","","#N/A","#N/A","#N/A","#N/A","#N/A","#N/A","#N/A"]
[null,null,{"$f":"ATTENDANCE!C41","v":0},{"$f":"ATTENDANCE!D41","v":0},{"$f":"ATTENDANCE!E41","v":27},null,null,null,null,"",null,null,"","","#N/A","#N/A","#N/A","#N/A","#N/A","#N/A","#N/A"]
[null,null,{"$f":"ATTENDANCE!C42","v":0},{"$f":"ATTENDANCE!D42","v":0},{"$f":"ATTENDANCE!E42","v":28},null,null,null,null,"",null,null,"","","#N/A","#N/A","#N/A","#N/A","#N/A","#N/A","#N/A"]
[null,null,{"$f":"ATTENDANCE!C43","v":0},{"$f":"ATTENDANCE!D43","v":0},{"$f":"ATTENDANCE!E43","v":29},null,null,null,null,"",null,null,"","","#N/A","#N/A","#N/A","#N/A","#N/A","#N/A","#N/A"]
[null,null,{"$f":"ATTENDANCE!C44","v":0},{"$f":"ATTENDANCE!D44","v":0},{"$f":"ATTENDANCE!E44","v":30},null,null,null,null,"",null,null,"","","#N/A","#N/A","#N/A","#N/A","#N/A","#N/A","#N/A"]
[null,null,{"$f":"ATTENDANCE!C45","v":0},{"$f":"ATTENDANCE!D45","v":0},31,null,null,null,null,{"$f":"IF(H47<>\"\",IF(I47>=H47,\"Yes\",\"No\"),\"\")","v":""},null,null,{"$f":"IF(K47<>\"\",IF(L47>=K47,\"Yes\",\"No\"),\"\")","v":""},"",{"$f":"IF($C47<>$D47,E47,\"#N/A\")","v":"#N/A"},{"$f":"IF(C47<>D47,G47,\"#N/A\")","v":"#N/A"},{"$f":"IF(C47<>D47,$G$14,\"#N/A\")","v":"#N/A"},{"$f":"IF($C47<>$D47,I47,\"#N/A\")","v":"#N/A"},{"$f":"IF($C47<>$D47,$I$14,\"#N/A\")","v":"#N/A"},{"$f":"IF($C47<>$D47,L47,\"#N/A\")","v":"#N/A"},{"$f":"IF($C47<>$D47,$L$14,\"#N/A\")","v":"#N/A"}]
[null,null,{"$f":"ATTENDANCE!C46","v":0},{"$f":"ATTENDANCE!D46","v":0},32,null,null,null,null,"",null,null,"","","#N/A",{"$f":"IF(C48<>D48,G48,\"#N/A\")","v":"#N/A"},"#N/A","#N/A","#N/A","#N/A","#N/A"]
[null,null,{"$f":"ATTENDANCE!C47","v":0},{"$f":"ATTENDANCE!D47","v":0},33,null,null,null,null,"",null,null,"","","#N/A",{"$f":"IF(C49<>D49,G49,\"#N/A\")","v":"#N/A"},"#N/A","#N/A","#N/A","#N/A","#N/A"]
[null,null,{"$f":"ATTENDANCE!C48","v":0},{"$f":"ATTENDANCE!D48","v":0},34,null,null,null,null,"",null,null,"","","#N/A","#N/A","#N/A","#N/A","#N/A","#N/A","#N/A"]
[null,null,{"$f":"ATTENDANCE!C49","v":0},{"$f":"ATTENDANCE!D49","v":0},35,null,null,null,null,"",null,null,"","","#N/A","#N/A","#N/A","#N/A","#N/A","#N/A","#N/A"]
[null,null,{"$f":"ATTENDANCE!C50","v":0},{"$f":"ATTENDANCE!D50","v":0},36,null,null,null,null,"",null,null,"","","#N/A","#N/A","#N/A","#N/A","#N/A","#N/A","#N/A"]
[null,null,{"$f":"ATTENDANCE!C51","v":0},{"$f":"ATTENDANCE!D51","v":0},37,null,null,null,null,"",null,null,"","","#N/A","#N/A","#N/A","#N/A","#N/A","#N/A","#N/A"]
[null,null,{"$f":"ATTENDANCE!C52","v":0},{"$f":"ATTENDANCE!D52","v":0},38,null,null,null,null,"",null,null,"","","#N/A","#N/A","#N/A","#N/A","#N/A","#N/A","#N/A"]
[null,null,{"$f":"ATTENDANCE!C53","v":0},{"$f":"ATTENDANCE!D53","v":0},39,null,null,null,null,"",null,null,"","","#N/A","#N/A","#N/A","#N/A","#N/A","#N/A","#N/A"]
[null,null,{"$f":"ATTENDANCE!C54","v":0},{"$f":"ATTENDANCE!D54","v":0},40,null,null,null,null,"",null,null,"","","#N/A","#N/A","#N/A","#N/A","#N/A","#N/A","#N/A"]
[null,null,{"$f":"ATTENDANCE!C55","v":0},{"$f":"ATTENDANCE!D55","v":0},{"$f":"ATTENDANCE!E55","v":32},null,null,null,null,"",null,null,"",null,"#N/A","#N/A","#N/A","#N/A","#N/A","#N/A","#N/A"]
[]
[null,"PRE-TEST GRAPH"]
[]
[]
[]
[]
[]
[]
[]
[]
[]
[]
[]
[]
[]
[]
[]
[]
[]
[]
[]
[]
[]
[]
[]
[]
[]
[]
[]
[]
[]
[]
[]
[]
[]
[]
[]
[]
[]
[]
[]
[null,"PRE-TEST AND INTERIM GRAPH"]
[]
[]
[]
[]
[]
[]
[]
[null,null,null,null,null,null,null,null,null,null,null,null,null,null,null,null,null,null,null,null,null," "]
[]
[]
[]
[]
[]
[]
[]
[]
[]
[]
[]
[]
[]
[]
[]
[]
[]
[]
[]
[]
[]
[]
[]
[]
[]
[]
[]
[]
[]
[]
[]
[null,"PRE-TEST AND POST-TEST GRAPH"]

{"sheet":"SKILL 2","index":2,"n_rows":139,"n_cols":25,"rows_kept":139,"cut":false,"hidden":false,"merged":[[13,3,13,4],[58,1,58,12],[98,1,98,12],[138,1,138,12],[5,2,5,4],[5,6,5,7],[6,6,6,7],[8,7,8,9],[8,10,8,12],[10,3,10,4],[3,9,4,12],[4,2,4,4],[4,6,4,7],[1,1,1,7],[2,2,2,4],[2,6,2,7],[3,2,3,4],[3,6,3,7]]}
[]
[null,"SKILL TWO DATA"]
[null,"System ID",{"$f":"ATTENDANCE!C3","v":0},null,null,null,"Ex: \"999\""]
[null,"School ID",{"$f":"ATTENDANCE!C4","v":0},null,null,null,"Ex: \"9999\"",null,null,"NOTE: Scroll down for dynamic graphs."]
[null,"Teacher Name ",{"$f":"ATTENDANCE!C5","v":0},null,null,null,"Ex: \"Doe J\""]
[null,"Grade Level",{"$f":"ATTENDANCE!C6","v":0},null,null,null,"Ex: \"3\""]
[null,"Skill Label",null,null,null,null,"Ex: \"Reading Fluency\""]
[]
[null,null,null,null,null,null,"Pre-Test","Interim Test",null,null,"Post-Test"]
[]
[null,null,null,"Administration Date",null,null,null,null,null,null,null,null,null,null,null,null,null,null,null,null,null,null,null,null," "]
[]
[]
[null,null,null,"Benchmarks"]
[]
[null,null,"Student Name (First, Last)","GTID","Student Graph Number",null,"Score","SMART \nGoal","Score","Was SMART \nGoal Met?","SMART \nGoal","Score","Was SMART \nGoal Met?","Pre-Test to \nPost-Test Growth","Student Number","Pre-Test\nScore","Pre-Test Benchmark","Interim Test","Iterim Benchmark","Post-Test Score","Post-Test Benchmark"]
[null,null,{"$f":"ATTENDANCE!C15","v":0},{"$f":"ATTENDANCE!D15","v":0},{"$f":"ATTENDANCE!E15","v":1},null,null,null,null,{"$f":"IF(H17<>\"\",IF(I17>=H17,\"Yes\",\"No\"),\"\")","v":""},null,null,{"$f":"IF(K17<>\"\",IF(L17>=K17,\"Yes\",\"No\"),\"\")","v":""},{"$f":"IF(AND(L17<>\"\",G17<>\"\"),L17-G17, \"\")","v":""},{"$f":"IF($C17<>$D17,E17,\"#N/A\")","v":"#N/A"},{"$f":"IF(C17<>D17,G17,\"#N/A\")","v":"#N/A"},{"$f":"IF($C17<>$D17,$G$14,\"#N/A\")","v":"#N/A"},{"$f":"IF($C17<>$D17,I17,\"#N/A\")","v":"#N/A"},{"$f":"IF($C17<>$D17,$I$14,\"#N/A\")","v":"#N/A"},{"$f":"IF($C17<>$D17,L17,\"#N/A\")","v":"#N/A"},{"$f":"IF($C17<>$D17,$L$14,\"#N/A\")","v":"#N/A"}," "]
[null,null,{"$f":"ATTENDANCE!C16","v":0},{"$f":"ATTENDANCE!D16","v":0},{"$f":"ATTENDANCE!E16","v":2},null,null,null,null,{"$f":"IF(H18<>\"\",IF(I18>=H18,\"Yes\",\"No\"),\"\")","v":""},null,null,"","",{"$f":"IF($C18<>$D18,E18,\"#N/A\")","v":"#N/A"},{"$f":"IF(C18<>D18,G18,\"#N/A\")","v":"#N/A"},{"$f":"IF(C18<>D18,$G$14,\"#N/A\")","v":"#N/A"},{"$f":"IF($C18<>$D18,I18,\"#N/A\")","v":"#N/A"},{"$f":"IF($C18<>$D18,$I$14,\"#N/A\")","v":"#N/A"},{"$f":"IF($C18<>$D18,L18,\"#N/A\")","v":"#N/A"},{"$f":"IF($C18<>$D18,$L$14,\"#N/A\")","v":"#N/A"}]
[null,null,{"$f":"ATTENDANCE!C17","v":0},{"$f":"ATTENDANCE!D17","v":0},{"$f":"ATTENDANCE!E17","v":3},null,null,null,null,{"$f":"IF(H19<>\"\",IF(I19>=H19,\"Yes\",\"No\"),\"\")","v":""},null,null,"","","#N/A","#N/A","#N/A","#N/A","#N/A","#N/A","#N/A"]
[null,null,{"$f":"ATTENDANCE!C18","v":0},{"$f":"ATTENDANCE!D18","v":0},{"$f":"ATTENDANCE!E18","v":4},null,null,null,null,"",null,null,"","","#N/A","#N/A","#N/A","#N/A","#N/A","#N/A","#N/A"]
[null,null,{"$f":"ATTENDANCE!C19","v":0},{"$f":"ATTENDANCE!D19","v":0},{"$f":"ATTENDANCE!E19","v":5},null,null,null,null,"",null,null,"","","#N/A","#N/A","#N/A","#N/A","#N/A","#N/A","#N/A"]
[null,null,{"$f":"ATTENDANCE!C20","v":0},{"$f":"ATTENDANCE!D20","v":0},{"$f":"ATTENDANCE!E20","v":6},null,null,null,null,"",null,null,"","","#N/A","#N/A","#N/A","#N/A","#N/A","#N/A","#N/A"]
[null,null,{"$f":"ATTENDANCE!C21","v":0},{"$f":"ATTENDANCE!D21","v":0},{"$f":"ATTENDANCE!E21","v":7},null,null,null,null,"",null,null,"","","#N/A","#N/A","#N/A","#N/A","#N/A","#N/A","#N/A"]
[null,null,{"$f":"ATTENDANCE!C22","v":0},{"$f":"ATTENDANCE!D22","v":0},{"$f":"ATTENDANCE!E22","v":8},null,null,null,null,"",null,null,"","","#N/A","#N/A","#N/A","#N/A","#N/A","#N/A","#N/A"]
[null,null,{"$f":"ATTENDANCE!C23","v":0},{"$f":"ATTENDANCE!D23","v":0},{"$f":"ATTENDANCE!E23","v":9},null,null,null,null,"",null,null,"","","#N/A","#N/A","#N/A","#N/A","#N/A","#N/A","#N/A"]
[null,null,{"$f":"ATTENDANCE!C24","v":0},{"$f":"ATTENDANCE!D24","v":0},{"$f":"ATTENDANCE!E24","v":10},null,null,null,null,"",null,null,"","","#N/A","#N/A","#N/A","#N/A","#N/A","#N/A","#N/A"]
[null,null,{"$f":"ATTENDANCE!C25","v":0},{"$f":"ATTENDANCE!D25","v":0},{"$f":"ATTENDANCE!E25","v":11},null,null,null,null,"",null,null,"","","#N/A","#N/A","#N/A","#N/A","#N/A","#N/A","#N/A"," "]
[null,null,{"$f":"ATTENDANCE!C26","v":0},{"$f":"ATTENDANCE!D26","v":0},{"$f":"ATTENDANCE!E26","v":12},null,null,null,null,"",null,null,"","","#N/A","#N/A","#N/A","#N/A","#N/A","#N/A","#N/A"]
[null,null,{"$f":"ATTENDANCE!C27","v":0},{"$f":"ATTENDANCE!D27","v":0},{"$f":"ATTENDANCE!E27","v":13},null,null,null,null,"",null,null,"","","#N/A","#N/A","#N/A","#N/A","#N/A","#N/A","#N/A"]
[null,null,{"$f":"ATTENDANCE!C28","v":0},{"$f":"ATTENDANCE!D28","v":0},{"$f":"ATTENDANCE!E28","v":14},null,null,null,null,"",null,null,"","","#N/A","#N/A","#N/A","#N/A","#N/A","#N/A","#N/A"]
[null,null,{"$f":"ATTENDANCE!C29","v":0},{"$f":"ATTENDANCE!D29","v":0},{"$f":"ATTENDANCE!E29","v":15},null,null,null,null,"",null,null,"","","#N/A","#N/A","#N/A","#N/A","#N/A","#N/A","#N/A",null," "]
[null,null,{"$f":"ATTENDANCE!C30","v":0},{"$f":"ATTENDANCE!D30","v":0},{"$f":"ATTENDANCE!E30","v":16},null,null,null,null,"",null,null,"","","#N/A","#N/A","#N/A","#N/A","#N/A","#N/A","#N/A"]
[null,null,{"$f":"ATTENDANCE!C31","v":0},{"$f":"ATTENDANCE!D31","v":0},{"$f":"ATTENDANCE!E31","v":17},null,null,null,null,"",null,null,"","","#N/A","#N/A","#N/A","#N/A","#N/A","#N/A","#N/A"]
[null,null,{"$f":"ATTENDANCE!C32","v":0},{"$f":"ATTENDANCE!D32","v":0},{"$f":"ATTENDANCE!E32","v":18},null,null,null,null,"",null,null,"","","#N/A","#N/A","#N/A","#N/A","#N/A","#N/A","#N/A"]
[null,null,{"$f":"ATTENDANCE!C33","v":0},{"$f":"ATTENDANCE!D33","v":0},{"$f":"ATTENDANCE!E33","v":19},null,null,null,null,"",null,null,"","","#N/A","#N/A","#N/A","#N/A","#N/A","#N/A","#N/A"]
[null,null,{"$f":"ATTENDANCE!C34","v":0},{"$f":"ATTENDANCE!D34","v":0},{"$f":"ATTENDANCE!E34","v":20},null,null,null,null,"",null,null,"","","#N/A","#N/A","#N/A","#N/A","#N/A","#N/A","#N/A"]
[null,null,{"$f":"ATTENDANCE!C35","v":0},{"$f":"ATTENDANCE!D35","v":0},{"$f":"ATTENDANCE!E35","v":21},null,null,null,null,"",null,null,"","","#N/A","#N/A","#N/A","#N/A","#N/A","#N/A","#N/A"]
[null,null,{"$f":"ATTENDANCE!C36","v":0},{"$f":"ATTENDANCE!D36","v":0},{"$f":"ATTENDANCE!E36","v":22},null,null,null,null,"",null,null,"","","#N/A","#N/A","#N/A","#N/A","#N/A","#N/A","#N/A"]
[null,null,{"$f":"ATTENDANCE!C37","v":0},{"$f":"ATTENDANCE!D37","v":0},{"$f":"ATTENDANCE!E37","v":23},null,null,null,null,"",null,null,"","","#N/A","#N/A","#N/A","#N/A","#N/A","#N/A","#N/A"]
[null,null,{"$f":"ATTENDANCE!C38","v":0},{"$f":"ATTENDANCE!D38","v":0},{"$f":"ATTENDANCE!E38","v":24},null,null,null,null,"",null,null,"","","#N/A","#N/A","#N/A","#N/A","#N/A","#N/A","#N/A"]
[null,null,{"$f":"ATTENDANCE!C39","v":0},{"$f":"ATTENDANCE!D39","v":0},{"$f":"ATTENDANCE!E39","v":25},null,null,null,null,"",null,null,"","","#N/A","#N/A","#N/A","#N/A","#N/A","#N/A","#N/A"]
[null,null,{"$f":"ATTENDANCE!C40","v":0},{"$f":"ATTENDANCE!D40","v":0},{"$f":"ATTENDANCE!E40","v":26},null,null,null,null,"",null,null,"","","#N/A","#N/A","#N/A","#N/A","#N/A","#N/A","#N/A"]
[null,null,{"$f":"ATTENDANCE!C41","v":0},{"$f":"ATTENDANCE!D41","v":0},{"$f":"ATTENDANCE!E41","v":27},null,null,null,null,"",null,null,"","","#N/A","#N/A","#N/A","#N/A","#N/A","#N/A","#N/A"]
[null,null,{"$f":"ATTENDANCE!C42","v":0},{"$f":"ATTENDANCE!D42","v":0},{"$f":"ATTENDANCE!E42","v":28},null,null,null,null,"",null,null,"","","#N/A","#N/A","#N/A","#N/A","#N/A","#N/A","#N/A"]
[null,null,{"$f":"ATTENDANCE!C43","v":0},{"$f":"ATTENDANCE!D43","v":0},{"$f":"ATTENDANCE!E43","v":29},null,null,null,null,"",null,null,"","","#N/A","#N/A","#N/A","#N/A","#N/A","#N/A","#N/A"]
[null,null,{"$f":"ATTENDANCE!C44","v":0},{"$f":"ATTENDANCE!D44","v":0},{"$f":"ATTENDANCE!E44","v":30},null,null,null,null,"",null,null,"","","#N/A","#N/A","#N/A","#N/A","#N/A","#N/A","#N/A"]
[null,null,{"$f":"ATTENDANCE!C45","v":0},{"$f":"ATTENDANCE!D45","v":0},31,null,null,null,null,"",null,null,"","","#N/A",{"$f":"IF(C47<>D47,G47,\"#N/A\")","v":"#N/A"},"#N/A","#N/A","#N/A","#N/A","#N/A"]
[null,null,{"$f":"ATTENDANCE!C46","v":0},{"$f":"ATTENDANCE!D46","v":0},32,null,null,null,null,"",null,null,"","","#N/A",{"$f":"IF(C48<>D48,G48,\"#N/A\")","v":"#N/A"},"#N/A","#N/A","#N/A","#N/A","#N/A"]
[null,null,{"$f":"ATTENDANCE!C47","v":0},{"$f":"ATTENDANCE!D47","v":0},33,null,null,null,null,"",null,null,"","","#N/A",{"$f":"IF(C49<>D49,G49,\"#N/A\")","v":"#N/A"},"#N/A","#N/A","#N/A","#N/A","#N/A"]
[null,null,{"$f":"ATTENDANCE!C48","v":0},{"$f":"ATTENDANCE!D48","v":0},34,null,null,null,null,"",null,null,"","","#N/A","#N/A","#N/A","#N/A","#N/A","#N/A","#N/A"]
[null,null,{"$f":"ATTENDANCE!C49","v":0},{"$f":"ATTENDANCE!D49","v":0},35,null,null,null,null,"",null,null,"","","#N/A","#N/A","#N/A","#N/A","#N/A","#N/A","#N/A"]
[null,null,{"$f":"ATTENDANCE!C50","v":0},{"$f":"ATTENDANCE!D50","v":0},36,null,null,null,null,"",null,null,"","","#N/A","#N/A","#N/A","#N/A","#N/A","#N/A","#N/A"]
[null,null,{"$f":"ATTENDANCE!C51","v":0},{"$f":"ATTENDANCE!D51","v":0},37,null,null,null,null,"",null,null,"","","#N/A","#N/A","#N/A","#N/A","#N/A","#N/A","#N/A"]
[null,null,{"$f":"ATTENDANCE!C52","v":0},{"$f":"ATTENDANCE!D52","v":0},38,null,null,null,null,"",null,null,"","","#N/A","#N/A","#N/A","#N/A","#N/A","#N/A","#N/A"]
[null,null,{"$f":"ATTENDANCE!C53","v":0},{"$f":"ATTENDANCE!D53","v":0},39,null,null,null,null,"",null,null,"","","#N/A","#N/A","#N/A","#N/A","#N/A","#N/A","#N/A"]
[null,null,{"$f":"ATTENDANCE!C54","v":0},{"$f":"ATTENDANCE!D54","v":0},40,null,null,null,null,"",null,null,"","","#N/A","#N/A","#N/A","#N/A","#N/A","#N/A","#N/A"]
[null,null,{"$f":"ATTENDANCE!C55","v":0},{"$f":"ATTENDANCE!D55","v":0},{"$f":"ATTENDANCE!E55","v":32},null,null,null,null,"",null,null,"",null,"#N/A","#N/A","#N/A","#N/A","#N/A","#N/A","#N/A"]
[]
[null,"PRE-TEST GRAPH"]
[]
[]
[]
[]
[]
[]
[]
[]
[]
[]
[]
[]
[]
[]
[]
[]
[]
[]
[]
[]
[]
[]
[]
[]
[]
[]
[]
[]
[]
[]
[]
[]
[]
[]
[]
[]
[]
[]
[]
[null,"PRE-TEST AND INTERIM GRAPH"]
[]
[]
[]
[]
[]
[]
[]
[null,null,null,null,null,null,null,null,null,null,null,null,null,null,null,null,null,null,null,null,null," "]
[]
[]
[]
[]
[]
[]
[]
[]
[]
[]
[]
[]
[]
[]
[]
[]
[]
[]
[]
[]
[]
[]
[]
[]
[]
[]
[]
[]
[]
[]
[]
[null,"PRE-TEST AND POST-TEST GRAPH"]

{"sheet":"SKILL 3","index":3,"n_rows":139,"n_cols":25,"rows_kept":139,"cut":false,"hidden":false,"merged":[[13,3,13,4],[58,1,58,12],[98,1,98,12],[138,1,138,12],[5,2,5,4],[5,6,5,7],[6,6,6,7],[8,7,8,9],[8,10,8,12],[10,3,10,4],[3,9,4,12],[4,2,4,4],[4,6,4,7],[1,1,1,7],[2,2,2,4],[2,6,2,7],[3,2,3,4],[3,6,3,7]]}
[]
[null,"SKILL THREE DATA"]
[null,"System ID",{"$f":"ATTENDANCE!C3","v":0},null,null,null,"Ex: \"999\""]
[null,"School ID",{"$f":"ATTENDANCE!C4","v":0},null,null,null,"Ex: \"9999\"",null,null,"NOTE: Scroll down for dynamic graphs."]
[null,"Teacher Name ",{"$f":"ATTENDANCE!C5","v":0},null,null,null,"Ex: \"Doe J\""]
[null,"Grade Level",{"$f":"ATTENDANCE!C6","v":0},null,null,null,"Ex: \"3\""]
[null,"Skill Label",null,null,null,null,"Ex: \"Reading Fluency\""]
[]
[null,null,null,null,null,null,"Pre-Test","Interim Test",null,null,"Post-Test"]
[]
[null,null,null,"Administration Date",null,null,null,null,null,null,null,null,null,null,null,null,null,null,null,null,null,null,null,null," "]
[]
[]
[null,null,null,"Benchmarks"]
[]
[null,null,"Student Name (First, Last)","GTID","Student Graph Number",null,"Score","SMART \nGoal","Score","Was SMART \nGoal Met?","SMART \nGoal","Score","Was SMART \nGoal Met?","Pre-Test to \nPost-Test Growth","Student Number","Pre-Test\nScore","Pre-Test Benchmark","Interim Test","Iterim Benchmark","Post-Test Score","Post-Test Benchmark"]
[null,null,{"$f":"ATTENDANCE!C15","v":0},{"$f":"ATTENDANCE!D15","v":0},{"$f":"ATTENDANCE!E15","v":1},null,null,null,null,{"$f":"IF(H17<>\"\",IF(I17>=H17,\"Yes\",\"No\"),\"\")","v":""},null,null,{"$f":"IF(K17<>\"\",IF(L17>=K17,\"Yes\",\"No\"),\"\")","v":""},{"$f":"IF(AND(L17<>\"\",G17<>\"\"),L17-G17, \"\")","v":""},{"$f":"IF($C17<>$D17,E17,\"#N/A\")","v":"#N/A"},{"$f":"IF(C17<>D17,G17,\"#N/A\")","v":"#N/A"},{"$f":"IF($C17<>$D17,$G$14,\"#N/A\")","v":"#N/A"},{"$f":"IF($C17<>$D17,I17,\"#N/A\")","v":"#N/A"},{"$f":"IF($C17<>$D17,$I$14,\"#N/A\")","v":"#N/A"},{"$f":"IF($C17<>$D17,L17,\"#N/A\")","v":"#N/A"},{"$f":"IF($C17<>$D17,$L$14,\"#N/A\")","v":"#N/A"}," "]
[null,null,{"$f":"ATTENDANCE!C16","v":0},{"$f":"ATTENDANCE!D16","v":0},{"$f":"ATTENDANCE!E16","v":2},null,null,null,null,{"$f":"IF(H18<>\"\",IF(I18>=H18,\"Yes\",\"No\"),\"\")","v":""},null,null,"","",{"$f":"IF($C18<>$D18,E18,\"#N/A\")","v":"#N/A"},{"$f":"IF(C18<>D18,G18,\"#N/A\")","v":"#N/A"},{"$f":"IF(C18<>D18,$G$14,\"#N/A\")","v":"#N/A"},{"$f":"IF($C18<>$D18,I18,\"#N/A\")","v":"#N/A"},{"$f":"IF($C18<>$D18,$I$14,\"#N/A\")","v":"#N/A"},{"$f":"IF($C18<>$D18,L18,\"#N/A\")","v":"#N/A"},{"$f":"IF($C18<>$D18,$L$14,\"#N/A\")","v":"#N/A"}]
[null,null,{"$f":"ATTENDANCE!C17","v":0},{"$f":"ATTENDANCE!D17","v":0},{"$f":"ATTENDANCE!E17","v":3},null,null,null,null,{"$f":"IF(H19<>\"\",IF(I19>=H19,\"Yes\",\"No\"),\"\")","v":""},null,null,"","","#N/A","#N/A","#N/A","#N/A","#N/A","#N/A","#N/A"]
[null,null,{"$f":"ATTENDANCE!C18","v":0},{"$f":"ATTENDANCE!D18","v":0},{"$f":"ATTENDANCE!E18","v":4},null,null,null,null,"",null,null,"","","#N/A","#N/A","#N/A","#N/A","#N/A","#N/A","#N/A"]
[null,null,{"$f":"ATTENDANCE!C19","v":0},{"$f":"ATTENDANCE!D19","v":0},{"$f":"ATTENDANCE!E19","v":5},null,null,null,null,"",null,null,"","","#N/A","#N/A","#N/A","#N/A","#N/A","#N/A","#N/A"]
[null,null,{"$f":"ATTENDANCE!C20","v":0},{"$f":"ATTENDANCE!D20","v":0},{"$f":"ATTENDANCE!E20","v":6},null,null,null,null,"",null,null,"","","#N/A","#N/A","#N/A","#N/A","#N/A","#N/A","#N/A"]
[null,null,{"$f":"ATTENDANCE!C21","v":0},{"$f":"ATTENDANCE!D21","v":0},{"$f":"ATTENDANCE!E21","v":7},null,null,null,null,"",null,null,"","","#N/A","#N/A","#N/A","#N/A","#N/A","#N/A","#N/A"]
[null,null,{"$f":"ATTENDANCE!C22","v":0},{"$f":"ATTENDANCE!D22","v":0},{"$f":"ATTENDANCE!E22","v":8},null,null,null,null,"",null,null,"","","#N/A","#N/A","#N/A","#N/A","#N/A","#N/A","#N/A"]
[null,null,{"$f":"ATTENDANCE!C23","v":0},{"$f":"ATTENDANCE!D23","v":0},{"$f":"ATTENDANCE!E23","v":9},null,null,null,null,"",null,null,"","","#N/A","#N/A","#N/A","#N/A","#N/A","#N/A","#N/A"]
[null,null,{"$f":"ATTENDANCE!C24","v":0},{"$f":"ATTENDANCE!D24","v":0},{"$f":"ATTENDANCE!E24","v":10},null,null,null,null,"",null,null,"","","#N/A","#N/A","#N/A","#N/A","#N/A","#N/A","#N/A"]
[null,null,{"$f":"ATTENDANCE!C25","v":0},{"$f":"ATTENDANCE!D25","v":0},{"$f":"ATTENDANCE!E25","v":11},null,null,null,null,"",null,null,"","","#N/A","#N/A","#N/A","#N/A","#N/A","#N/A","#N/A"," "]
[null,null,{"$f":"ATTENDANCE!C26","v":0},{"$f":"ATTENDANCE!D26","v":0},{"$f":"ATTENDANCE!E26","v":12},null,null,null,null,"",null,null,"","","#N/A","#N/A","#N/A","#N/A","#N/A","#N/A","#N/A"]
[null,null,{"$f":"ATTENDANCE!C27","v":0},{"$f":"ATTENDANCE!D27","v":0},{"$f":"ATTENDANCE!E27","v":13},null,null,null,null,"",null,null,"","","#N/A","#N/A","#N/A","#N/A","#N/A","#N/A","#N/A"]
[null,null,{"$f":"ATTENDANCE!C28","v":0},{"$f":"ATTENDANCE!D28","v":0},{"$f":"ATTENDANCE!E28","v":14},null,null,null,null,"",null,null,"","","#N/A","#N/A","#N/A","#N/A","#N/A","#N/A","#N/A"]
[null,null,{"$f":"ATTENDANCE!C29","v":0},{"$f":"ATTENDANCE!D29","v":0},{"$f":"ATTENDANCE!E29","v":15},null,null,null,null,"",null,null,"","","#N/A","#N/A","#N/A","#N/A","#N/A","#N/A","#N/A",null," "]
[null,null,{"$f":"ATTENDANCE!C30","v":0},{"$f":"ATTENDANCE!D30","v":0},{"$f":"ATTENDANCE!E30","v":16},null,null,null,null,"",null,null,"","","#N/A","#N/A","#N/A","#N/A","#N/A","#N/A","#N/A"]
[null,null,{"$f":"ATTENDANCE!C31","v":0},{"$f":"ATTENDANCE!D31","v":0},{"$f":"ATTENDANCE!E31","v":17},null,null,null,null,"",null,null,"","","#N/A","#N/A","#N/A","#N/A","#N/A","#N/A","#N/A"]
[null,null,{"$f":"ATTENDANCE!C32","v":0},{"$f":"ATTENDANCE!D32","v":0},{"$f":"ATTENDANCE!E32","v":18},null,null,null,null,"",null,null,"","","#N/A","#N/A","#N/A","#N/A","#N/A","#N/A","#N/A"]
[null,null,{"$f":"ATTENDANCE!C33","v":0},{"$f":"ATTENDANCE!D33","v":0},{"$f":"ATTENDANCE!E33","v":19},null,null,null,null,"",null,null,"","","#N/A","#N/A","#N/A","#N/A","#N/A","#N/A","#N/A"]
[null,null,{"$f":"ATTENDANCE!C34","v":0},{"$f":"ATTENDANCE!D34","v":0},{"$f":"ATTENDANCE!E34","v":20},null,null,null,null,"",null,null,"","","#N/A","#N/A","#N/A","#N/A","#N/A","#N/A","#N/A"]
[null,null,{"$f":"ATTENDANCE!C35","v":0},{"$f":"ATTENDANCE!D35","v":0},{"$f":"ATTENDANCE!E35","v":21},null,null,null,null,"",null,null,"","","#N/A","#N/A","#N/A","#N/A","#N/A","#N/A","#N/A"]
[null,null,{"$f":"ATTENDANCE!C36","v":0},{"$f":"ATTENDANCE!D36","v":0},{"$f":"ATTENDANCE!E36","v":22},null,null,null,null,"",null,null,"","","#N/A","#N/A","#N/A","#N/A","#N/A","#N/A","#N/A"]
[null,null,{"$f":"ATTENDANCE!C37","v":0},{"$f":"ATTENDANCE!D37","v":0},{"$f":"ATTENDANCE!E37","v":23},null,null,null,null,"",null,null,"","","#N/A","#N/A","#N/A","#N/A","#N/A","#N/A","#N/A"]
[null,null,{"$f":"ATTENDANCE!C38","v":0},{"$f":"ATTENDANCE!D38","v":0},{"$f":"ATTENDANCE!E38","v":24},null,null,null,null,"",null,null,"","","#N/A","#N/A","#N/A","#N/A","#N/A","#N/A","#N/A"]
[null,null,{"$f":"ATTENDANCE!C39","v":0},{"$f":"ATTENDANCE!D39","v":0},{"$f":"ATTENDANCE!E39","v":25},null,null,null,null,"",null,null,"","","#N/A","#N/A","#N/A","#N/A","#N/A","#N/A","#N/A"]
[null,null,{"$f":"ATTENDANCE!C40","v":0},{"$f":"ATTENDANCE!D40","v":0},{"$f":"ATTENDANCE!E40","v":26},null,null,null,null,"",null,null,"","","#N/A","#N/A","#N/A","#N/A","#N/A","#N/A","#N/A"]
[null,null,{"$f":"ATTENDANCE!C41","v":0},{"$f":"ATTENDANCE!D41","v":0},{"$f":"ATTENDANCE!E41","v":27},null,null,null,null,"",null,null,"","","#N/A","#N/A","#N/A","#N/A","#N/A","#N/A","#N/A"]
[null,null,{"$f":"ATTENDANCE!C42","v":0},{"$f":"ATTENDANCE!D42","v":0},{"$f":"ATTENDANCE!E42","v":28},null,null,null,null,"",null,null,"","","#N/A","#N/A","#N/A","#N/A","#N/A","#N/A","#N/A"]
[null,null,{"$f":"ATTENDANCE!C43","v":0},{"$f":"ATTENDANCE!D43","v":0},{"$f":"ATTENDANCE!E43","v":29},null,null,null,null,"",null,null,"","","#N/A","#N/A","#N/A","#N/A","#N/A","#N/A","#N/A"]
[null,null,{"$f":"ATTENDANCE!C44","v":0},{"$f":"ATTENDANCE!D44","v":0},{"$f":"ATTENDANCE!E44","v":30},null,null,null,null,"",null,null,"","","#N/A","#N/A","#N/A","#N/A","#N/A","#N/A","#N/A"]
[null,null,{"$f":"ATTENDANCE!C45","v":0},{"$f":"ATTENDANCE!D45","v":0},31,null,null,null,null,"",null,null,"","","#N/A",{"$f":"IF(C47<>D47,G47,\"#N/A\")","v":"#N/A"},"#N/A","#N/A","#N/A","#N/A","#N/A"]
[null,null,{"$f":"ATTENDANCE!C46","v":0},{"$f":"ATTENDANCE!D46","v":0},32,null,null,null,null,"",null,null,"","","#N/A",{"$f":"IF(C48<>D48,G48,\"#N/A\")","v":"#N/A"},"#N/A","#N/A","#N/A","#N/A","#N/A"]
[null,null,{"$f":"ATTENDANCE!C47","v":0},{"$f":"ATTENDANCE!D47","v":0},33,null,null,null,null,"",null,null,"","","#N/A",{"$f":"IF(C49<>D49,G49,\"#N/A\")","v":"#N/A"},"#N/A","#N/A","#N/A","#N/A","#N/A"]
[null,null,{"$f":"ATTENDANCE!C48","v":0},{"$f":"ATTENDANCE!D48","v":0},34,null,null,null,null,"",null,null,"","","#N/A","#N/A","#N/A","#N/A","#N/A","#N/A","#N/A"]
[null,null,{"$f":"ATTENDANCE!C49","v":0},{"$f":"ATTENDANCE!D49","v":0},35,null,null,null,null,"",null,null,"","","#N/A","#N/A","#N/A","#N/A","#N/A","#N/A","#N/A"]
[null,null,{"$f":"ATTENDANCE!C50","v":0},{"$f":"ATTENDANCE!D50","v":0},36,null,null,null,null,"",null,null,"","","#N/A","#N/A","#N/A","#N/A","#N/A","#N/A","#N/A"]
[null,null,{"$f":"ATTENDANCE!C51","v":0},{"$f":"ATTENDANCE!D51","v":0},37,null,null,null,null,"",null,null,"","","#N/A","#N/A","#N/A","#N/A","#N/A","#N/A","#N/A"]
[null,null,{"$f":"ATTENDANCE!C52","v":0},{"$f":"ATTENDANCE!D52","v":0},38,null,null,null,null,"",null,null,"","","#N/A","#N/A","#N/A","#N/A","#N/A","#N/A","#N/A"]
[null,null,{"$f":"ATTENDANCE!C53","v":0},{"$f":"ATTENDANCE!D53","v":0},39,null,null,null,null,"",null,null,"","","#N/A","#N/A","#N/A","#N/A","#N/A","#N/A","#N/A"]
[null,null,{"$f":"ATTENDANCE!C54","v":0},{"$f":"ATTENDANCE!D54","v":0},40,null,null,null,null,"",null,null,"","","#N/A","#N/A","#N/A","#N/A","#N/A","#N/A","#N/A"]
[null,null,{"$f":"ATTENDANCE!C55","v":0},{"$f":"ATTENDANCE!D55","v":0},{"$f":"ATTENDANCE!E55","v":32},null,null,null,null,"",null,null,"",null,"#N/A","#N/A","#N/A","#N/A","#N/A","#N/A","#N/A"]
[]
[null,"PRE-TEST GRAPH"]
[]
[]
[]
[]
[]
[]
[]
[]
[]
[]
[]
[]
[]
[]
[]
[]
[]
[]
[]
[]
[]
[]
[]
[]
[]
[]
[]
[]
[]
[]
[]
[]
[]
[]
[]
[]
[]
[]
[]
[null,"PRE-TEST AND INTERIM GRAPH"]
[]
[]
[]
[]
[]
[]
[]
[null,null,null,null,null,null,null,null,null,null,null,null,null,null,null,null,null,null,null,null,null," "]
[]
[]
[]
[]
[]
[]
[]
[]
[]
[]
[]
[]
[]
[]
[]
[]
[]
[]
[]
[]
[]
[]
[]
[]
[]
[]
[]
[]
[]
[]
[]
[null,"PRE-TEST AND POST-TEST GRAPH"]

{"sheet":"SKILL 4","index":4,"n_rows":139,"n_cols":25,"rows_kept":139,"cut":false,"hidden":false,"merged":[[13,3,13,4],[58,1,58,12],[98,1,98,12],[138,1,138,12],[5,2,5,4],[5,6,5,7],[6,6,6,7],[8,7,8,9],[8,10,8,12],[10,3,10,4],[3,9,4,12],[4,2,4,4],[4,6,4,7],[1,1,1,7],[2,2,2,4],[2,6,2,7],[3,2,3,4],[3,6,3,7]]}
[]
[null,"SKILL FOUR DATA"]
[null,"System ID",{"$f":"ATTENDANCE!C3","v":0},null,null,null,"Ex: \"999\""]
[null,"School ID",{"$f":"ATTENDANCE!C4","v":0},null,null,null,"Ex: \"9999\"",null,null,"NOTE: Scroll down for dynamic graphs."]
[null,"Teacher Name ",{"$f":"ATTENDANCE!C5","v":0},null,null,null,"Ex: \"Doe J\""]
[null,"Grade Level",{"$f":"ATTENDANCE!C6","v":0},null,null,null,"Ex: \"3\""]
[null,"Skill Label",null,null,null,null,"Ex: \"Reading Fluency\""]
[]
[null,null,null,null,null,null,"Pre-Test","Interim Test",null,null,"Post-Test"]
[]
[null,null,null,"Administration Date",null,null,null,null,null,null,null,null,null,null,null,null,null,null,null,null,null,null,null,null," "]
[]
[]
[null,null,null,"Benchmarks"]
[]
[null,null,"Student Name (First, Last)","GTID","Student Graph Number",null,"Score","SMART \nGoal","Score","Was SMART \nGoal Met?","SMART \nGoal","Score","Was SMART \nGoal Met?","Pre-Test to \nPost-Test Growth","Student Number","Pre-Test\nScore","Pre-Test Benchmark","Interim Test","Iterim Benchmark","Post-Test Score","Post-Test Benchmark"]
[null,null,{"$f":"ATTENDANCE!C15","v":0},{"$f":"ATTENDANCE!D15","v":0},{"$f":"ATTENDANCE!E15","v":1},null,null,null,null,{"$f":"IF(H17<>\"\",IF(I17>=H17,\"Yes\",\"No\"),\"\")","v":""},null,null,{"$f":"IF(K17<>\"\",IF(L17>=K17,\"Yes\",\"No\"),\"\")","v":""},{"$f":"IF(AND(L17<>\"\",G17<>\"\"),L17-G17, \"\")","v":""},{"$f":"IF($C17<>$D17,E17,\"#N/A\")","v":"#N/A"},{"$f":"IF(C17<>D17,G17,\"#N/A\")","v":"#N/A"},{"$f":"IF($C17<>$D17,$G$14,\"#N/A\")","v":"#N/A"},{"$f":"IF($C17<>$D17,I17,\"#N/A\")","v":"#N/A"},{"$f":"IF($C17<>$D17,$I$14,\"#N/A\")","v":"#N/A"},{"$f":"IF($C17<>$D17,L17,\"#N/A\")","v":"#N/A"},{"$f":"IF($C17<>$D17,$L$14,\"#N/A\")","v":"#N/A"}," "]
[null,null,{"$f":"ATTENDANCE!C16","v":0},{"$f":"ATTENDANCE!D16","v":0},{"$f":"ATTENDANCE!E16","v":2},null,null,null,null,{"$f":"IF(H18<>\"\",IF(I18>=H18,\"Yes\",\"No\"),\"\")","v":""},null,null,"","",{"$f":"IF($C18<>$D18,E18,\"#N/A\")","v":"#N/A"},{"$f":"IF(C18<>D18,G18,\"#N/A\")","v":"#N/A"},{"$f":"IF(C18<>D18,$G$14,\"#N/A\")","v":"#N/A"},{"$f":"IF($C18<>$D18,I18,\"#N/A\")","v":"#N/A"},{"$f":"IF($C18<>$D18,$I$14,\"#N/A\")","v":"#N/A"},{"$f":"IF($C18<>$D18,L18,\"#N/A\")","v":"#N/A"},{"$f":"IF($C18<>$D18,$L$14,\"#N/A\")","v":"#N/A"}]
[null,null,{"$f":"ATTENDANCE!C17","v":0},{"$f":"ATTENDANCE!D17","v":0},{"$f":"ATTENDANCE!E17","v":3},null,null,null,null,{"$f":"IF(H19<>\"\",IF(I19>=H19,\"Yes\",\"No\"),\"\")","v":""},null,null,"","","#N/A","#N/A","#N/A","#N/A","#N/A","#N/A","#N/A"]
[null,null,{"$f":"ATTENDANCE!C18","v":0},{"$f":"ATTENDANCE!D18","v":0},{"$f":"ATTENDANCE!E18","v":4},null,null,null,null,"",null,null,"","","#N/A","#N/A","#N/A","#N/A","#N/A","#N/A","#N/A"]
[null,null,{"$f":"ATTENDANCE!C19","v":0},{"$f":"ATTENDANCE!D19","v":0},{"$f":"ATTENDANCE!E19","v":5},null,null,null,null,"",null,null,"","","#N/A","#N/A","#N/A","#N/A","#N/A","#N/A","#N/A"]
[null,null,{"$f":"ATTENDANCE!C20","v":0},{"$f":"ATTENDANCE!D20","v":0},{"$f":"ATTENDANCE!E20","v":6},null,null,null,null,"",null,null,"","","#N/A","#N/A","#N/A","#N/A","#N/A","#N/A","#N/A"]
[null,null,{"$f":"ATTENDANCE!C21","v":0},{"$f":"ATTENDANCE!D21","v":0},{"$f":"ATTENDANCE!E21","v":7},null,null,null,null,"",null,null,"","","#N/A","#N/A","#N/A","#N/A","#N/A","#N/A","#N/A"]
[null,null,{"$f":"ATTENDANCE!C22","v":0},{"$f":"ATTENDANCE!D22","v":0},{"$f":"ATTENDANCE!E22","v":8},null,null,null,null,"",null,null,"","","#N/A","#N/A","#N/A","#N/A","#N/A","#N/A","#N/A"]
[null,null,{"$f":"ATTENDANCE!C23","v":0},{"$f":"ATTENDANCE!D23","v":0},{"$f":"ATTENDANCE!E23","v":9},null,null,null,null,"",null,null,"","","#N/A","#N/A","#N/A","#N/A","#N/A","#N/A","#N/A"]
[null,null,{"$f":"ATTENDANCE!C24","v":0},{"$f":"ATTENDANCE!D24","v":0},{"$f":"ATTENDANCE!E24","v":10},null,null,null,null,"",null,null,"","","#N/A","#N/A","#N/A","#N/A","#N/A","#N/A","#N/A"]
[null,null,{"$f":"ATTENDANCE!C25","v":0},{"$f":"ATTENDANCE!D25","v":0},{"$f":"ATTENDANCE!E25","v":11},null,null,null,null,"",null,null,"","","#N/A","#N/A","#N/A","#N/A","#N/A","#N/A","#N/A"," "]
[null,null,{"$f":"ATTENDANCE!C26","v":0},{"$f":"ATTENDANCE!D26","v":0},{"$f":"ATTENDANCE!E26","v":12},null,null,null,null,"",null,null,"","","#N/A","#N/A","#N/A","#N/A","#N/A","#N/A","#N/A"]
[null,null,{"$f":"ATTENDANCE!C27","v":0},{"$f":"ATTENDANCE!D27","v":0},{"$f":"ATTENDANCE!E27","v":13},null,null,null,null,"",null,null,"","","#N/A","#N/A","#N/A","#N/A","#N/A","#N/A","#N/A"]
[null,null,{"$f":"ATTENDANCE!C28","v":0},{"$f":"ATTENDANCE!D28","v":0},{"$f":"ATTENDANCE!E28","v":14},null,null,null,null,"",null,null,"","","#N/A","#N/A","#N/A","#N/A","#N/A","#N/A","#N/A"]
[null,null,{"$f":"ATTENDANCE!C29","v":0},{"$f":"ATTENDANCE!D29","v":0},{"$f":"ATTENDANCE!E29","v":15},null,null,null,null,"",null,null,"","","#N/A","#N/A","#N/A","#N/A","#N/A","#N/A","#N/A",null," "]
[null,null,{"$f":"ATTENDANCE!C30","v":0},{"$f":"ATTENDANCE!D30","v":0},{"$f":"ATTENDANCE!E30","v":16},null,null,null,null,"",null,null,"","","#N/A","#N/A","#N/A","#N/A","#N/A","#N/A","#N/A"]
[null,null,{"$f":"ATTENDANCE!C31","v":0},{"$f":"ATTENDANCE!D31","v":0},{"$f":"ATTENDANCE!E31","v":17},null,null,null,null,"",null,null,"","","#N/A","#N/A","#N/A","#N/A","#N/A","#N/A","#N/A"]
[null,null,{"$f":"ATTENDANCE!C32","v":0},{"$f":"ATTENDANCE!D32","v":0},{"$f":"ATTENDANCE!E32","v":18},null,null,null,null,"",null,null,"","","#N/A","#N/A","#N/A","#N/A","#N/A","#N/A","#N/A"]
[null,null,{"$f":"ATTENDANCE!C33","v":0},{"$f":"ATTENDANCE!D33","v":0},{"$f":"ATTENDANCE!E33","v":19},null,null,null,null,"",null,null,"","","#N/A","#N/A","#N/A","#N/A","#N/A","#N/A","#N/A"]
[null,null,{"$f":"ATTENDANCE!C34","v":0},{"$f":"ATTENDANCE!D34","v":0},{"$f":"ATTENDANCE!E34","v":20},null,null,null,null,"",null,null,"","","#N/A","#N/A","#N/A","#N/A","#N/A","#N/A","#N/A"]
[null,null,{"$f":"ATTENDANCE!C35","v":0},{"$f":"ATTENDANCE!D35","v":0},{"$f":"ATTENDANCE!E35","v":21},null,null,null,null,"",null,null,"","","#N/A","#N/A","#N/A","#N/A","#N/A","#N/A","#N/A"]
[null,null,{"$f":"ATTENDANCE!C36","v":0},{"$f":"ATTENDANCE!D36","v":0},{"$f":"ATTENDANCE!E36","v":22},null,null,null,null,"",null,null,"","","#N/A","#N/A","#N/A","#N/A","#N/A","#N/A","#N/A"]
[null,null,{"$f":"ATTENDANCE!C37","v":0},{"$f":"ATTENDANCE!D37","v":0},{"$f":"ATTENDANCE!E37","v":23},null,null,null,null,"",null,null,"","","#N/A","#N/A","#N/A","#N/A","#N/A","#N/A","#N/A"]
[null,null,{"$f":"ATTENDANCE!C38","v":0},{"$f":"ATTENDANCE!D38","v":0},{"$f":"ATTENDANCE!E38","v":24},null,null,null,null,"",null,null,"","","#N/A","#N/A","#N/A","#N/A","#N/A","#N/A","#N/A"]
[null,null,{"$f":"ATTENDANCE!C39","v":0},{"$f":"ATTENDANCE!D39","v":0},{"$f":"ATTENDANCE!E39","v":25},null,null,null,null,"",null,null,"","","#N/A","#N/A","#N/A","#N/A","#N/A","#N/A","#N/A"]
[null,null,{"$f":"ATTENDANCE!C40","v":0},{"$f":"ATTENDANCE!D40","v":0},{"$f":"ATTENDANCE!E40","v":26},null,null,null,null,"",null,null,"","","#N/A","#N/A","#N/A","#N/A","#N/A","#N/A","#N/A"]
[null,null,{"$f":"ATTENDANCE!C41","v":0},{"$f":"ATTENDANCE!D41","v":0},{"$f":"ATTENDANCE!E41","v":27},null,null,null,null,"",null,null,"","","#N/A","#N/A","#N/A","#N/A","#N/A","#N/A","#N/A"]
[null,null,{"$f":"ATTENDANCE!C42","v":0},{"$f":"ATTENDANCE!D42","v":0},{"$f":"ATTENDANCE!E42","v":28},null,null,null,null,"",null,null,"","","#N/A","#N/A","#N/A","#N/A","#N/A","#N/A","#N/A"]
[null,null,{"$f":"ATTENDANCE!C43","v":0},{"$f":"ATTENDANCE!D43","v":0},{"$f":"ATTENDANCE!E43","v":29},null,null,null,null,"",null,null,"","","#N/A","#N/A","#N/A","#N/A","#N/A","#N/A","#N/A"]
[null,null,{"$f":"ATTENDANCE!C44","v":0},{"$f":"ATTENDANCE!D44","v":0},{"$f":"ATTENDANCE!E44","v":30},null,null,null,null,"",null,null,"","","#N/A","#N/A","#N/A","#N/A","#N/A","#N/A","#N/A"]
[null,null,{"$f":"ATTENDANCE!C45","v":0},{"$f":"ATTENDANCE!D45","v":0},31,null,null,null,null,"",null,null,"","","#N/A",{"$f":"IF(C47<>D47,G47,\"#N/A\")","v":"#N/A"},"#N/A","#N/A","#N/A","#N/A","#N/A"]
[null,null,{"$f":"ATTENDANCE!C46","v":0},{"$f":"ATTENDANCE!D46","v":0},32,null,null,null,null,"",null,null,"","","#N/A",{"$f":"IF(C48<>D48,G48,\"#N/A\")","v":"#N/A"},"#N/A","#N/A","#N/A","#N/A","#N/A"]
[null,null,{"$f":"ATTENDANCE!C47","v":0},{"$f":"ATTENDANCE!D47","v":0},33,null,null,null,null,"",null,null,"","","#N/A",{"$f":"IF(C49<>D49,G49,\"#N/A\")","v":"#N/A"},"#N/A","#N/A","#N/A","#N/A","#N/A"]
[null,null,{"$f":"ATTENDANCE!C48","v":0},{"$f":"ATTENDANCE!D48","v":0},34,null,null,null,null,"",null,null,"","","#N/A","#N/A","#N/A","#N/A","#N/A","#N/A","#N/A"]
[null,null,{"$f":"ATTENDANCE!C49","v":0},{"$f":"ATTENDANCE!D49","v":0},35,null,null,null,null,"",null,null,"","","#N/A","#N/A","#N/A","#N/A","#N/A","#N/A","#N/A"]
[null,null,{"$f":"ATTENDANCE!C50","v":0},{"$f":"ATTENDANCE!D50","v":0},36,null,null,null,null,"",null,null,"","","#N/A","#N/A","#N/A","#N/A","#N/A","#N/A","#N/A"]
[null,null,{"$f":"ATTENDANCE!C51","v":0},{"$f":"ATTENDANCE!D51","v":0},37,null,null,null,null,"",null,null,"","","#N/A","#N/A","#N/A","#N/A","#N/A","#N/A","#N/A"]
[null,null,{"$f":"ATTENDANCE!C52","v":0},{"$f":"ATTENDANCE!D52","v":0},38,null,null,null,null,"",null,null,"","","#N/A","#N/A","#N/A","#N/A","#N/A","#N/A","#N/A"]
[null,null,{"$f":"ATTENDANCE!C53","v":0},{"$f":"ATTENDANCE!D53","v":0},39,null,null,null,null,"",null,null,"","","#N/A","#N/A","#N/A","#N/A","#N/A","#N/A","#N/A"]
[null,null,{"$f":"ATTENDANCE!C54","v":0},{"$f":"ATTENDANCE!D54","v":0},40,null,null,null,null,"",null,null,"","","#N/A","#N/A","#N/A","#N/A","#N/A","#N/A","#N/A"]
[null,null,{"$f":"ATTENDANCE!C55","v":0},{"$f":"ATTENDANCE!D55","v":0},{"$f":"ATTENDANCE!E55","v":32},null,null,null,null,"",null,null,"",null,"#N/A","#N/A","#N/A","#N/A","#N/A","#N/A","#N/A"]
[]
[null,"PRE-TEST GRAPH"]
[]
[]
[]
[]
[]
[]
[]
[]
[]
[]
[]
[]
[]
[]
[]
[]
[]
[]
[]
[]
[]
[]
[]
[]
[]
[]
[]
[]
[]
[]
[]
[]
[]
[]
[]
[]
[]
[]
[]
[null,"PRE-TEST AND INTERIM GRAPH"]
[]
[]
[]
[]
[]
[]
[]
[null,null,null,null,null,null,null,null,null,null,null,null,null,null,null,null,null,null,null,null,null," "]
[]
[]
[]
[]
[]
[]
[]
[]
[]
[]
[]
[]
[]
[]
[]
[]
[]
[]
[]
[]
[]
[]
[]
[]
[]
[]
[]
[]
[]
[]
[]
[null,"PRE-TEST AND POST-TEST GRAPH"]

{"sheet":"SKILL 5","index":5,"n_rows":139,"n_cols":25,"rows_kept":139,"cut":false,"hidden":false,"merged":[[13,3,13,4],[58,1,58,12],[98,1,98,12],[138,1,138,12],[5,2,5,4],[5,6,5,7],[6,6,6,7],[8,7,8,9],[8,10,8,12],[10,3,10,4],[3,9,4,12],[4,2,4,4],[4,6,4,7],[1,1,1,7],[2,2,2,4],[2,6,2,7],[3,2,3,4],[3,6,3,7]]}
[]
[null,"SKILL FIVE DATA"]
[null,"System ID",{"$f":"ATTENDANCE!C3","v":0},null,null,null,"Ex: \"999\""]
[null,"School ID",{"$f":"ATTENDANCE!C4","v":0},null,null,null,"Ex: \"9999\"",null,null,"NOTE: Scroll down for dynamic graphs."]
[null,"Teacher Name ",{"$f":"ATTENDANCE!C5","v":0},null,null,null,"Ex: \"Doe J\""]
[null,"Grade Level",{"$f":"ATTENDANCE!C6","v":0},null,null,null,"Ex: \"3\""]
[null,"Skill Label",null,null,null,null,"Ex: \"Reading Fluency\""]
[]
[null,null,null,null,null,null,"Pre-Test","Interim Test",null,null,"Post-Test"]
[]
[null,null,null,"Administration Date",null,null,null,null,null,null,null,null,null,null,null,null,null,null,null,null,null,null,null,null," "]
[]
[]
[null,null,null,"Benchmarks"]
[]
[null,null,"Student Name (First, Last)","GTID","Student Graph Number",null,"Score","SMART \nGoal","Score","Was SMART \nGoal Met?","SMART \nGoal","Score","Was SMART \nGoal Met?","Pre-Test to \nPost-Test Growth","Student Number","Pre-Test\nScore","Pre-Test Benchmark","Interim Test","Iterim Benchmark","Post-Test Score","Post-Test Benchmark"]
[null,null,{"$f":"ATTENDANCE!C15","v":0},{"$f":"ATTENDANCE!D15","v":0},{"$f":"ATTENDANCE!E15","v":1},null,null,null,null,{"$f":"IF(H17<>\"\",IF(I17>=H17,\"Yes\",\"No\"),\"\")","v":""},null,null,{"$f":"IF(K17<>\"\",IF(L17>=K17,\"Yes\",\"No\"),\"\")","v":""},{"$f":"IF(AND(L17<>\"\",G17<>\"\"),L17-G17, \"\")","v":""},{"$f":"IF($C17<>$D17,E17,\"#N/A\")","v":"#N/A"},{"$f":"IF(C17<>D17,G17,\"#N/A\")","v":"#N/A"},{"$f":"IF($C17<>$D17,$G$14,\"#N/A\")","v":"#N/A"},{"$f":"IF($C17<>$D17,I17,\"#N/A\")","v":"#N/A"},{"$f":"IF($C17<>$D17,$I$14,\"#N/A\")","v":"#N/A"},{"$f":"IF($C17<>$D17,L17,\"#N/A\")","v":"#N/A"},{"$f":"IF($C17<>$D17,$L$14,\"#N/A\")","v":"#N/A"}," "]
[null,null,{"$f":"ATTENDANCE!C16","v":0},{"$f":"ATTENDANCE!D16","v":0},{"$f":"ATTENDANCE!E16","v":2},null,null,null,null,{"$f":"IF(H18<>\"\",IF(I18>=H18,\"Yes\",\"No\"),\"\")","v":""},null,null,"","",{"$f":"IF($C18<>$D18,E18,\"#N/A\")","v":"#N/A"},{"$f":"IF(C18<>D18,G18,\"#N/A\")","v":"#N/A"},{"$f":"IF(C18<>D18,$G$14,\"#N/A\")","v":"#N/A"},{"$f":"IF($C18<>$D18,I18,\"#N/A\")","v":"#N/A"},{"$f":"IF($C18<>$D18,$I$14,\"#N/A\")","v":"#N/A"},{"$f":"IF($C18<>$D18,L18,\"#N/A\")","v":"#N/A"},{"$f":"IF($C18<>$D18,$L$14,\"#N/A\")","v":"#N/A"}]
[null,null,{"$f":"ATTENDANCE!C17","v":0},{"$f":"ATTENDANCE!D17","v":0},{"$f":"ATTENDANCE!E17","v":3},null,null,null,null,{"$f":"IF(H19<>\"\",IF(I19>=H19,\"Yes\",\"No\"),\"\")","v":""},null,null,"","","#N/A","#N/A","#N/A","#N/A","#N/A","#N/A","#N/A"]
[null,null,{"$f":"ATTENDANCE!C18","v":0},{"$f":"ATTENDANCE!D18","v":0},{"$f":"ATTENDANCE!E18","v":4},null,null,null,null,"",null,null,"","","#N/A","#N/A","#N/A","#N/A","#N/A","#N/A","#N/A"]
[null,null,{"$f":"ATTENDANCE!C19","v":0},{"$f":"ATTENDANCE!D19","v":0},{"$f":"ATTENDANCE!E19","v":5},null,null,null,null,"",null,null,"","","#N/A","#N/A","#N/A","#N/A","#N/A","#N/A","#N/A"]
[null,null,{"$f":"ATTENDANCE!C20","v":0},{"$f":"ATTENDANCE!D20","v":0},{"$f":"ATTENDANCE!E20","v":6},null,null,null,null,"",null,null,"","","#N/A","#N/A","#N/A","#N/A","#N/A","#N/A","#N/A"]
[null,null,{"$f":"ATTENDANCE!C21","v":0},{"$f":"ATTENDANCE!D21","v":0},{"$f":"ATTENDANCE!E21","v":7},null,null,null,null,"",null,null,"","","#N/A","#N/A","#N/A","#N/A","#N/A","#N/A","#N/A"]
[null,null,{"$f":"ATTENDANCE!C22","v":0},{"$f":"ATTENDANCE!D22","v":0},{"$f":"ATTENDANCE!E22","v":8},null,null,null,null,"",null,null,"","","#N/A","#N/A","#N/A","#N/A","#N/A","#N/A","#N/A"]
[null,null,{"$f":"ATTENDANCE!C23","v":0},{"$f":"ATTENDANCE!D23","v":0},{"$f":"ATTENDANCE!E23","v":9},null,null,null,null,"",null,null,"","","#N/A","#N/A","#N/A","#N/A","#N/A","#N/A","#N/A"]
[null,null,{"$f":"ATTENDANCE!C24","v":0},{"$f":"ATTENDANCE!D24","v":0},{"$f":"ATTENDANCE!E24","v":10},null,null,null,null,"",null,null,"","","#N/A","#N/A","#N/A","#N/A","#N/A","#N/A","#N/A"]
[null,null,{"$f":"ATTENDANCE!C25","v":0},{"$f":"ATTENDANCE!D25","v":0},{"$f":"ATTENDANCE!E25","v":11},null,null,null,null,"",null,null,"","","#N/A","#N/A","#N/A","#N/A","#N/A","#N/A","#N/A"," "]
[null,null,{"$f":"ATTENDANCE!C26","v":0},{"$f":"ATTENDANCE!D26","v":0},{"$f":"ATTENDANCE!E26","v":12},null,null,null,null,"",null,null,"","","#N/A","#N/A","#N/A","#N/A","#N/A","#N/A","#N/A"]
[null,null,{"$f":"ATTENDANCE!C27","v":0},{"$f":"ATTENDANCE!D27","v":0},{"$f":"ATTENDANCE!E27","v":13},null,null,null,null,"",null,null,"","","#N/A","#N/A","#N/A","#N/A","#N/A","#N/A","#N/A"]
[null,null,{"$f":"ATTENDANCE!C28","v":0},{"$f":"ATTENDANCE!D28","v":0},{"$f":"ATTENDANCE!E28","v":14},null,null,null,null,"",null,null,"","","#N/A","#N/A","#N/A","#N/A","#N/A","#N/A","#N/A"]
[null,null,{"$f":"ATTENDANCE!C29","v":0},{"$f":"ATTENDANCE!D29","v":0},{"$f":"ATTENDANCE!E29","v":15},null,null,null,null,"",null,null,"","","#N/A","#N/A","#N/A","#N/A","#N/A","#N/A","#N/A",null," "]
[null,null,{"$f":"ATTENDANCE!C30","v":0},{"$f":"ATTENDANCE!D30","v":0},{"$f":"ATTENDANCE!E30","v":16},null,null,null,null,"",null,null,"","","#N/A","#N/A","#N/A","#N/A","#N/A","#N/A","#N/A"]
[null,null,{"$f":"ATTENDANCE!C31","v":0},{"$f":"ATTENDANCE!D31","v":0},{"$f":"ATTENDANCE!E31","v":17},null,null,null,null,"",null,null,"","","#N/A","#N/A","#N/A","#N/A","#N/A","#N/A","#N/A"]
[null,null,{"$f":"ATTENDANCE!C32","v":0},{"$f":"ATTENDANCE!D32","v":0},{"$f":"ATTENDANCE!E32","v":18},null,null,null,null,"",null,null,"","","#N/A","#N/A","#N/A","#N/A","#N/A","#N/A","#N/A"]
[null,null,{"$f":"ATTENDANCE!C33","v":0},{"$f":"ATTENDANCE!D33","v":0},{"$f":"ATTENDANCE!E33","v":19},null,null,null,null,"",null,null,"","","#N/A","#N/A","#N/A","#N/A","#N/A","#N/A","#N/A"]
[null,null,{"$f":"ATTENDANCE!C34","v":0},{"$f":"ATTENDANCE!D34","v":0},{"$f":"ATTENDANCE!E34","v":20},null,null,null,null,"",null,null,"","","#N/A","#N/A","#N/A","#N/A","#N/A","#N/A","#N/A"]
[null,null,{"$f":"ATTENDANCE!C35","v":0},{"$f":"ATTENDANCE!D35","v":0},{"$f":"ATTENDANCE!E35","v":21},null,null,null,null,"",null,null,"","","#N/A","#N/A","#N/A","#N/A","#N/A","#N/A","#N/A"]
[null,null,{"$f":"ATTENDANCE!C36","v":0},{"$f":"ATTENDANCE!D36","v":0},{"$f":"ATTENDANCE!E36","v":22},null,null,null,null,"",null,null,"","","#N/A","#N/A","#N/A","#N/A","#N/A","#N/A","#N/A"]
[null,null,{"$f":"ATTENDANCE!C37","v":0},{"$f":"ATTENDANCE!D37","v":0},{"$f":"ATTENDANCE!E37","v":23},null,null,null,null,"",null,null,"","","#N/A","#N/A","#N/A","#N/A","#N/A","#N/A","#N/A"]
[null,null,{"$f":"ATTENDANCE!C38","v":0},{"$f":"ATTENDANCE!D38","v":0},{"$f":"ATTENDANCE!E38","v":24},null,null,null,null,"",null,null,"","","#N/A","#N/A","#N/A","#N/A","#N/A","#N/A","#N/A"]
[null,null,{"$f":"ATTENDANCE!C39","v":0},{"$f":"ATTENDANCE!D39","v":0},{"$f":"ATTENDANCE!E39","v":25},null,null,null,null,"",null,null,"","","#N/A","#N/A","#N/A","#N/A","#N/A","#N/A","#N/A"]
[null,null,{"$f":"ATTENDANCE!C40","v":0},{"$f":"ATTENDANCE!D40","v":0},{"$f":"ATTENDANCE!E40","v":26},null,null,null,null,"",null,null,"","","#N/A","#N/A","#N/A","#N/A","#N/A","#N/A","#N/A"]
[null,null,{"$f":"ATTENDANCE!C41","v":0},{"$f":"ATTENDANCE!D41","v":0},{"$f":"ATTENDANCE!E41","v":27},null,null,null,null,"",null,null,"","","#N/A","#N/A","#N/A","#N/A","#N/A","#N/A","#N/A"]
[null,null,{"$f":"ATTENDANCE!C42","v":0},{"$f":"ATTENDANCE!D42","v":0},{"$f":"ATTENDANCE!E42","v":28},null,null,null,null,"",null,null,"","","#N/A","#N/A","#N/A","#N/A","#N/A","#N/A","#N/A"]
[null,null,{"$f":"ATTENDANCE!C43","v":0},{"$f":"ATTENDANCE!D43","v":0},{"$f":"ATTENDANCE!E43","v":29},null,null,null,null,"",null,null,"","","#N/A","#N/A","#N/A","#N/A","#N/A","#N/A","#N/A"]
[null,null,{"$f":"ATTENDANCE!C44","v":0},{"$f":"ATTENDANCE!D44","v":0},{"$f":"ATTENDANCE!E44","v":30},null,null,null,null,"",null,null,"","","#N/A","#N/A","#N/A","#N/A","#N/A","#N/A","#N/A"]
[null,null,{"$f":"ATTENDANCE!C45","v":0},{"$f":"ATTENDANCE!D45","v":0},31,null,null,null,null,"",null,null,"","","#N/A",{"$f":"IF(C47<>D47,G47,\"#N/A\")","v":"#N/A"},"#N/A","#N/A","#N/A","#N/A","#N/A"]
[null,null,{"$f":"ATTENDANCE!C46","v":0},{"$f":"ATTENDANCE!D46","v":0},32,null,null,null,null,"",null,null,"","","#N/A",{"$f":"IF(C48<>D48,G48,\"#N/A\")","v":"#N/A"},"#N/A","#N/A","#N/A","#N/A","#N/A"]
[null,null,{"$f":"ATTENDANCE!C47","v":0},{"$f":"ATTENDANCE!D47","v":0},33,null,null,null,null,"",null,null,"","","#N/A",{"$f":"IF(C49<>D49,G49,\"#N/A\")","v":"#N/A"},"#N/A","#N/A","#N/A","#N/A","#N/A"]
[null,null,{"$f":"ATTENDANCE!C48","v":0},{"$f":"ATTENDANCE!D48","v":0},34,null,null,null,null,"",null,null,"","","#N/A","#N/A","#N/A","#N/A","#N/A","#N/A","#N/A"]
[null,null,{"$f":"ATTENDANCE!C49","v":0},{"$f":"ATTENDANCE!D49","v":0},35,null,null,null,null,"",null,null,"","","#N/A","#N/A","#N/A","#N/A","#N/A","#N/A","#N/A"]
[null,null,{"$f":"ATTENDANCE!C50","v":0},{"$f":"ATTENDANCE!D50","v":0},36,null,null,null,null,"",null,null,"","","#N/A","#N/A","#N/A","#N/A","#N/A","#N/A","#N/A"]
[null,null,{"$f":"ATTENDANCE!C51","v":0},{"$f":"ATTENDANCE!D51","v":0},37,null,null,null,null,"",null,null,"","","#N/A","#N/A","#N/A","#N/A","#N/A","#N/A","#N/A"]
[null,null,{"$f":"ATTENDANCE!C52","v":0},{"$f":"ATTENDANCE!D52","v":0},38,null,null,null,null,"",null,null,"","","#N/A","#N/A","#N/A","#N/A","#N/A","#N/A","#N/A"]
[null,null,{"$f":"ATTENDANCE!C53","v":0},{"$f":"ATTENDANCE!D53","v":0},39,null,null,null,null,"",null,null,"","","#N/A","#N/A","#N/A","#N/A","#N/A","#N/A","#N/A"]
[null,null,{"$f":"ATTENDANCE!C54","v":0},{"$f":"ATTENDANCE!D54","v":0},40,null,null,null,null,"",null,null,"","","#N/A","#N/A","#N/A","#N/A","#N/A","#N/A","#N/A"]
[null,null,{"$f":"ATTENDANCE!C55","v":0},{"$f":"ATTENDANCE!D55","v":0},{"$f":"ATTENDANCE!E55","v":32},null,null,null,null,"",null,null,"",null,"#N/A","#N/A","#N/A","#N/A","#N/A","#N/A","#N/A"]
[]
[null,"PRE-TEST GRAPH"]
[]
[]
[]
[]
[]
[]
[]
[]
[]
[]
[]
[]
[]
[]
[]
[]
[]
[]
[]
[]
[]
[]
[]
[]
[]
[]
[]
[]
[]
[]
[]
[]
[]
[]
[]
[]
[]
[]
[]
[null,"PRE-TEST AND INTERIM GRAPH"]
[]
[]
[]
[]
[]
[]
[]
[null,null,null,null,null,null,null,null,null,null,null,null,null,null,null,null,null,null,null,null,null," "]
[]
[]
[]
[]
[]
[]
[]
[]
[]
[]
[]
[]
[]
[]
[]
[]
[]
[]
[]
[]
[]
[]
[]
[]
[]
[]
[]
[]
[]
[]
[]
[null,"PRE-TEST AND POST-TEST GRAPH"]

{"sheet":"SKILL 6","index":6,"n_rows":139,"n_cols":25,"rows_kept":139,"cut":false,"hidden":false,"merged":[[13,3,13,4],[58,1,58,12],[98,1,98,12],[138,1,138,12],[5,2,5,4],[5,6,5,7],[6,6,6,7],[8,7,8,9],[8,10,8,12],[10,3,10,4],[3,9,4,12],[4,2,4,4],[4,6,4,7],[1,1,1,7],[2,2,2,4],[2,6,2,7],[3,2,3,4],[3,6,3,7]]}
[]
[null,"SKILL SIX DATA"]
[null,"System ID",{"$f":"ATTENDANCE!C3","v":0},null,null,null,"Ex: \"999\""]
[null,"School ID",{"$f":"ATTENDANCE!C4","v":0},null,null,null,"Ex: \"9999\"",null,null,"NOTE: Scroll down for dynamic graphs."]
[null,"Teacher Name ",{"$f":"ATTENDANCE!C5","v":0},null,null,null,"Ex: \"Doe J\""]
[null,"Grade Level",{"$f":"ATTENDANCE!C6","v":0},null,null,null,"Ex: \"3\""]
[null,"Skill Label",null,null,null,null,"Ex: \"Reading Fluency\""]
[]
[null,null,null,null,null,null,"Pre-Test","Interim Test",null,null,"Post-Test"]
[]
[null,null,null,"Administration Date",null,null,null,null,null,null,null,null,null,null,null,null,null,null,null,null,null,null,null,null," "]
[]
[]
[null,null,null,"Benchmarks"]
[]
[null,null,"Student Name (First, Last)","GTID","Student Graph Number",null,"Score","SMART \nGoal","Score","Was SMART \nGoal Met?","SMART \nGoal","Score","Was SMART \nGoal Met?","Pre-Test to \nPost-Test Growth","Student Number","Pre-Test\nScore","Pre-Test Benchmark","Interim Test","Iterim Benchmark","Post-Test Score","Post-Test Benchmark"]
[null,null,{"$f":"ATTENDANCE!C15","v":0},{"$f":"ATTENDANCE!D15","v":0},{"$f":"ATTENDANCE!E15","v":1},null,null,null,null,{"$f":"IF(H17<>\"\",IF(I17>=H17,\"Yes\",\"No\"),\"\")","v":""},null,null,{"$f":"IF(K17<>\"\",IF(L17>=K17,\"Yes\",\"No\"),\"\")","v":""},{"$f":"IF(AND(L17<>\"\",G17<>\"\"),L17-G17, \"\")","v":""},{"$f":"IF($C17<>$D17,E17,\"#N/A\")","v":"#N/A"},{"$f":"IF(C17<>D17,G17,\"#N/A\")","v":"#N/A"},{"$f":"IF($C17<>$D17,$G$14,\"#N/A\")","v":"#N/A"},{"$f":"IF($C17<>$D17,I17,\"#N/A\")","v":"#N/A"},{"$f":"IF($C17<>$D17,$I$14,\"#N/A\")","v":"#N/A"},{"$f":"IF($C17<>$D17,L17,\"#N/A\")","v":"#N/A"},{"$f":"IF($C17<>$D17,$L$14,\"#N/A\")","v":"#N/A"}," "]
[null,null,{"$f":"ATTENDANCE!C16","v":0},{"$f":"ATTENDANCE!D16","v":0},{"$f":"ATTENDANCE!E16","v":2},null,null,null,null,{"$f":"IF(H18<>\"\",IF(I18>=H18,\"Yes\",\"No\"),\"\")","v":""},null,null,"","",{"$f":"IF($C18<>$D18,E18,\"#N/A\")","v":"#N/A"},{"$f":"IF(C18<>D18,G18,\"#N/A\")","v":"#N/A"},{"$f":"IF(C18<>D18,$G$14,\"#N/A\")","v":"#N/A"},{"$f":"IF($C18<>$D18,I18,\"#N/A\")","v":"#N/A"},{"$f":"IF($C18<>$D18,$I$14,\"#N/A\")","v":"#N/A"},{"$f":"IF($C18<>$D18,L18,\"#N/A\")","v":"#N/A"},{"$f":"IF($C18<>$D18,$L$14,\"#N/A\")","v":"#N/A"}]
[null,null,{"$f":"ATTENDANCE!C17","v":0},{"$f":"ATTENDANCE!D17","v":0},{"$f":"ATTENDANCE!E17","v":3},null,null,null,null,{"$f":"IF(H19<>\"\",IF(I19>=H19,\"Yes\",\"No\"),\"\")","v":""},null,null,"","","#N/A","#N/A","#N/A","#N/A","#N/A","#N/A","#N/A"]
[null,null,{"$f":"ATTENDANCE!C18","v":0},{"$f":"ATTENDANCE!D18","v":0},{"$f":"ATTENDANCE!E18","v":4},null,null,null,null,"",null,null,"","","#N/A","#N/A","#N/A","#N/A","#N/A","#N/A","#N/A"]
[null,null,{"$f":"ATTENDANCE!C19","v":0},{"$f":"ATTENDANCE!D19","v":0},{"$f":"ATTENDANCE!E19","v":5},null,null,null,null,"",null,null,"","","#N/A","#N/A","#N/A","#N/A","#N/A","#N/A","#N/A"]
[null,null,{"$f":"ATTENDANCE!C20","v":0},{"$f":"ATTENDANCE!D20","v":0},{"$f":"ATTENDANCE!E20","v":6},null,null,null,null,"",null,null,"","","#N/A","#N/A","#N/A","#N/A","#N/A","#N/A","#N/A"]
[null,null,{"$f":"ATTENDANCE!C21","v":0},{"$f":"ATTENDANCE!D21","v":0},{"$f":"ATTENDANCE!E21","v":7},null,null,null,null,"",null,null,"","","#N/A","#N/A","#N/A","#N/A","#N/A","#N/A","#N/A"]
[null,null,{"$f":"ATTENDANCE!C22","v":0},{"$f":"ATTENDANCE!D22","v":0},{"$f":"ATTENDANCE!E22","v":8},null,null,null,null,"",null,null,"","","#N/A","#N/A","#N/A","#N/A","#N/A","#N/A","#N/A"]
[null,null,{"$f":"ATTENDANCE!C23","v":0},{"$f":"ATTENDANCE!D23","v":0},{"$f":"ATTENDANCE!E23","v":9},null,null,null,null,"",null,null,"","","#N/A","#N/A","#N/A","#N/A","#N/A","#N/A","#N/A"]
[null,null,{"$f":"ATTENDANCE!C24","v":0},{"$f":"ATTENDANCE!D24","v":0},{"$f":"ATTENDANCE!E24","v":10},null,null,null,null,"",null,null,"","","#N/A","#N/A","#N/A","#N/A","#N/A","#N/A","#N/A"]
[null,null,{"$f":"ATTENDANCE!C25","v":0},{"$f":"ATTENDANCE!D25","v":0},{"$f":"ATTENDANCE!E25","v":11},null,null,null,null,"",null,null,"","","#N/A","#N/A","#N/A","#N/A","#N/A","#N/A","#N/A"," "]
[null,null,{"$f":"ATTENDANCE!C26","v":0},{"$f":"ATTENDANCE!D26","v":0},{"$f":"ATTENDANCE!E26","v":12},null,null,null,null,"",null,null,"","","#N/A","#N/A","#N/A","#N/A","#N/A","#N/A","#N/A"]
[null,null,{"$f":"ATTENDANCE!C27","v":0},{"$f":"ATTENDANCE!D27","v":0},{"$f":"ATTENDANCE!E27","v":13},null,null,null,null,"",null,null,"","","#N/A","#N/A","#N/A","#N/A","#N/A","#N/A","#N/A"]
[null,null,{"$f":"ATTENDANCE!C28","v":0},{"$f":"ATTENDANCE!D28","v":0},{"$f":"ATTENDANCE!E28","v":14},null,null,null,null,"",null,null,"","","#N/A","#N/A","#N/A","#N/A","#N/A","#N/A","#N/A"]
[null,null,{"$f":"ATTENDANCE!C29","v":0},{"$f":"ATTENDANCE!D29","v":0},{"$f":"ATTENDANCE!E29","v":15},null,null,null,null,"",null,null,"","","#N/A","#N/A","#N/A","#N/A","#N/A","#N/A","#N/A",null," "]
[null,null,{"$f":"ATTENDANCE!C30","v":0},{"$f":"ATTENDANCE!D30","v":0},{"$f":"ATTENDANCE!E30","v":16},null,null,null,null,"",null,null,"","","#N/A","#N/A","#N/A","#N/A","#N/A","#N/A","#N/A"]
[null,null,{"$f":"ATTENDANCE!C31","v":0},{"$f":"ATTENDANCE!D31","v":0},{"$f":"ATTENDANCE!E31","v":17},null,null,null,null,"",null,null,"","","#N/A","#N/A","#N/A","#N/A","#N/A","#N/A","#N/A"]
[null,null,{"$f":"ATTENDANCE!C32","v":0},{"$f":"ATTENDANCE!D32","v":0},{"$f":"ATTENDANCE!E32","v":18},null,null,null,null,"",null,null,"","","#N/A","#N/A","#N/A","#N/A","#N/A","#N/A","#N/A"]
[null,null,{"$f":"ATTENDANCE!C33","v":0},{"$f":"ATTENDANCE!D33","v":0},{"$f":"ATTENDANCE!E33","v":19},null,null,null,null,"",null,null,"","","#N/A","#N/A","#N/A","#N/A","#N/A","#N/A","#N/A"]
[null,null,{"$f":"ATTENDANCE!C34","v":0},{"$f":"ATTENDANCE!D34","v":0},{"$f":"ATTENDANCE!E34","v":20},null,null,null,null,"",null,null,"","","#N/A","#N/A","#N/A","#N/A","#N/A","#N/A","#N/A"]
[null,null,{"$f":"ATTENDANCE!C35","v":0},{"$f":"ATTENDANCE!D35","v":0},{"$f":"ATTENDANCE!E35","v":21},null,null,null,null,"",null,null,"","","#N/A","#N/A","#N/A","#N/A","#N/A","#N/A","#N/A"]
[null,null,{"$f":"ATTENDANCE!C36","v":0},{"$f":"ATTENDANCE!D36","v":0},{"$f":"ATTENDANCE!E36","v":22},null,null,null,null,"",null,null,"","","#N/A","#N/A","#N/A","#N/A","#N/A","#N/A","#N/A"]
[null,null,{"$f":"ATTENDANCE!C37","v":0},{"$f":"ATTENDANCE!D37","v":0},{"$f":"ATTENDANCE!E37","v":23},null,null,null,null,"",null,null,"","","#N/A","#N/A","#N/A","#N/A","#N/A","#N/A","#N/A"]
[null,null,{"$f":"ATTENDANCE!C38","v":0},{"$f":"ATTENDANCE!D38","v":0},{"$f":"ATTENDANCE!E38","v":24},null,null,null,null,"",null,null,"","","#N/A","#N/A","#N/A","#N/A","#N/A","#N/A","#N/A"]
[null,null,{"$f":"ATTENDANCE!C39","v":0},{"$f":"ATTENDANCE!D39","v":0},{"$f":"ATTENDANCE!E39","v":25},null,null,null,null,"",null,null,"","","#N/A","#N/A","#N/A","#N/A","#N/A","#N/A","#N/A"]
[null,null,{"$f":"ATTENDANCE!C40","v":0},{"$f":"ATTENDANCE!D40","v":0},{"$f":"ATTENDANCE!E40","v":26},null,null,null,null,"",null,null,"","","#N/A","#N/A","#N/A","#N/A","#N/A","#N/A","#N/A"]
[null,null,{"$f":"ATTENDANCE!C41","v":0},{"$f":"ATTENDANCE!D41","v":0},{"$f":"ATTENDANCE!E41","v":27},null,null,null,null,"",null,null,"","","#N/A","#N/A","#N/A","#N/A","#N/A","#N/A","#N/A"]
[null,null,{"$f":"ATTENDANCE!C42","v":0},{"$f":"ATTENDANCE!D42","v":0},{"$f":"ATTENDANCE!E42","v":28},null,null,null,null,"",null,null,"","","#N/A","#N/A","#N/A","#N/A","#N/A","#N/A","#N/A"]
[null,null,{"$f":"ATTENDANCE!C43","v":0},{"$f":"ATTENDANCE!D43","v":0},{"$f":"ATTENDANCE!E43","v":29},null,null,null,null,"",null,null,"","","#N/A","#N/A","#N/A","#N/A","#N/A","#N/A","#N/A"]
[null,null,{"$f":"ATTENDANCE!C44","v":0},{"$f":"ATTENDANCE!D44","v":0},{"$f":"ATTENDANCE!E44","v":30},null,null,null,null,"",null,null,"","","#N/A","#N/A","#N/A","#N/A","#N/A","#N/A","#N/A"]
[null,null,{"$f":"ATTENDANCE!C45","v":0},{"$f":"ATTENDANCE!D45","v":0},31,null,null,null,null,"",null,null,"","","#N/A",{"$f":"IF(C47<>D47,G47,\"#N/A\")","v":"#N/A"},"#N/A","#N/A","#N/A","#N/A","#N/A"]
[null,null,{"$f":"ATTENDANCE!C46","v":0},{"$f":"ATTENDANCE!D46","v":0},32,null,null,null,null,"",null,null,"","","#N/A",{"$f":"IF(C48<>D48,G48,\"#N/A\")","v":"#N/A"},"#N/A","#N/A","#N/A","#N/A","#N/A"]
[null,null,{"$f":"ATTENDANCE!C47","v":0},{"$f":"ATTENDANCE!D47","v":0},33,null,null,null,null,"",null,null,"","","#N/A",{"$f":"IF(C49<>D49,G49,\"#N/A\")","v":"#N/A"},"#N/A","#N/A","#N/A","#N/A","#N/A"]
[null,null,{"$f":"ATTENDANCE!C48","v":0},{"$f":"ATTENDANCE!D48","v":0},34,null,null,null,null,"",null,null,"","","#N/A","#N/A","#N/A","#N/A","#N/A","#N/A","#N/A"]
[null,null,{"$f":"ATTENDANCE!C49","v":0},{"$f":"ATTENDANCE!D49","v":0},35,null,null,null,null,"",null,null,"","","#N/A","#N/A","#N/A","#N/A","#N/A","#N/A","#N/A"]
[null,null,{"$f":"ATTENDANCE!C50","v":0},{"$f":"ATTENDANCE!D50","v":0},36,null,null,null,null,"",null,null,"","","#N/A","#N/A","#N/A","#N/A","#N/A","#N/A","#N/A"]
[null,null,{"$f":"ATTENDANCE!C51","v":0},{"$f":"ATTENDANCE!D51","v":0},37,null,null,null,null,"",null,null,"","","#N/A","#N/A","#N/A","#N/A","#N/A","#N/A","#N/A"]
[null,null,{"$f":"ATTENDANCE!C52","v":0},{"$f":"ATTENDANCE!D52","v":0},38,null,null,null,null,"",null,null,"","","#N/A","#N/A","#N/A","#N/A","#N/A","#N/A","#N/A"]
[null,null,{"$f":"ATTENDANCE!C53","v":0},{"$f":"ATTENDANCE!D53","v":0},39,null,null,null,null,"",null,null,"","","#N/A","#N/A","#N/A","#N/A","#N/A","#N/A","#N/A"]
[null,null,{"$f":"ATTENDANCE!C54","v":0},{"$f":"ATTENDANCE!D54","v":0},40,null,null,null,null,"",null,null,"","","#N/A","#N/A","#N/A","#N/A","#N/A","#N/A","#N/A"]
[null,null,{"$f":"ATTENDANCE!C55","v":0},{"$f":"ATTENDANCE!D55","v":0},{"$f":"ATTENDANCE!E55","v":32},null,null,null,null,"",null,null,"",null,"#N/A","#N/A","#N/A","#N/A","#N/A","#N/A","#N/A"]
[]
[null,"PRE-TEST GRAPH"]
[]
[]
[]
[]
[]
[]
[]
[]
[]
[]
[]
[]
[]
[]
[]
[]
[]
[]
[]
[]
[]
[]
[]
[]
[]
[]
[]
[]
[]
[]
[]
[]
[]
[]
[]
[]
[]
[]
[]
[null,"PRE-TEST AND INTERIM GRAPH"]
[]
[]
[]
[]
[]
[]
[]
[null,null,null,null,null,null,null,null,null,null,null,null,null,null,null,null,null,null,null,null,null," "]
[]
[]
[]
[]
[]
[]
[]
[]
[]
[]
[]
[]
[]
[]
[]
[]
[]
[]
[]
[]
[]
[]
[]
[]
[]
[]
[]
[]
[]
[]
[]
[null,"PRE-TEST AND POST-TEST GRAPH"]

{"sheet":"GaDOE ONLY","index":7,"n_rows":41,"n_cols":99,"rows_kept":41,"cut":false,"hidden":true,"merged":[]}
["GTID","DistrictNumber","SchoolNumber","TeacherName","GradeLevel","Meeting1Date","Meeting1Time","Meeting1Attend","MeetingIndivAttend","Meeting2Date","Meeting2Time","Meeting2Attend","Meeting3Date","Meeting3Time","Meeting3Attend","Skill1Label","Skill1PreTestDate","Skill1PreTestBench","Skill1PreTestScore","Skill1InterimTestDate","Skill1InterimTestBench","Skill1InterimTestGoal","Skill1InterimTestScore","Skill1InterimTestGoalMet","Skill1PostTestDate","Skill1PostTestBench","Skill1PostTestGoal","Skill1PostTestScore","Skill1PostTestGoalMet","Skill2Label","Skill2PreTestDate","Skill2PreTestBench","Skill2PreTestScore","Skill2InterimTestDate","Skill2InterimTestBench","Skill2InterimTestGoal","Skill2InterimTestScore","Skill2InterimTestGoalMet","Skill2PostTestDate","Skill2PostTestBench","Skill2PostTestGoal","Skill2PostTestScore","Skill2PostTestGoalMet","Skill3Label","Skill3PreTestDate","Skill3PreTestBench","Skill3PreTestScore","Skill3InterimTestDate","Skill3InterimTestBench","Skill3InterimTestGoal","Skill3InterimTestScore","Skill3InterimTestGoalMet","Skill3PostTestDate","Skill3PostTestBench","Skill3PostTestGoal","Skill3PostTestScore","Skill3PostTestGoalMet","Skill4Label","Skill4PreTestDate","Skill4PreTestBench","Skill4PreTestScore","Skill4InterimTestDate","Skill4InterimTestBench","Skill4InterimTestGoal","Skill4InterimTestScore","Skill4InterimTestGoalMet","Skill4PostTestDate","Skill4PostTestBench","Skill4PostTestGoal","Skill4PostTestScore","Skill4PostTestGoalMet","Skill5Label","Skill5PreTestDate","Skill5PreTestBench","Skill5PreTestScore","Skill5InterimTestDate","Skill5InterimTestBench","Skill5InterimTestGoal","Skill5InterimTestScore","Skill5InterimTestGoalMet","Skill5PostTestDate","Skill5PostTestBench","Skill5PostTestGoal","Skill5PostTestScore","Skill5PostTestGoalMet","Skill6Label","Skill6PreTestDate","Skill6PreTestBench","Skill6PreTestScore","Skill6InterimTestDate","Skill6InterimTestBench","Skill6InterimTestGoal","Skill6InterimTestScore","Skill6InterimTestGoalMet","Skill6PostTestDate","Skill6PostTestBench","Skill6PostTestGoal","Skill6PostTestScore","Skill6PostTestGoalMet"]
[{"$f":"IF(ATTENDANCE!$D$15=\"\", \"\", ATTENDANCE!$D$15)","v":""},{"$f":"IF(ATTENDANCE!$C$3=\"\", \"\", ATTENDANCE!$C$3)","v":""},{"$f":"IF(ATTENDANCE!$C$4=\"\", \"\", ATTENDANCE!$C$4)","v":""},{"$f":"IF(ATTENDANCE!$C$5=\"\", \"\", ATTENDANCE!$C$5)","v":""},{"$f":"IF(ATTENDANCE!$C$6=\"\", \"\", ATTENDANCE!$C$6)","v":""},{"$f":"IF(ATTENDANCE!$F$11=\"\", \"\", ATTENDANCE!$F$11)","v":""},{"$f":"IF(ATTENDANCE!$F$12=\"\", \"\", ATTENDANCE!$F$12)","v":""},{"$f":"IF(ATTENDANCE!$F15=\"\", \"\", ATTENDANCE!$F15)","v":""},{"$f":"IF(ATTENDANCE!$G15=\"\", \"\", ATTENDANCE!$G15)","v":""},{"$f":"IF(ATTENDANCE!$H$11=\"\", \"\", ATTENDANCE!$H$11)","v":""},{"$f":"IF(ATTENDANCE!$H$12=\"\", \"\", ATTENDANCE!$H$12)","v":""},{"$f":"IF(ATTENDANCE!$H15=\"\", \"\", ATTENDANCE!$H15)","v":""},{"$f":"IF(ATTENDANCE!$I$11=\"\", \"\", ATTENDANCE!$I$11)","v":""},{"$f":"IF(ATTENDANCE!$I$12=\"\", \"\", ATTENDANCE!$I$12)","v":""},{"$f":"IF(ATTENDANCE!$I15=\"\", \"\", ATTENDANCE!$I15)","v":""},{"$f":"IF('SKILL 1'!$C$7=\"\", \"\", 'SKILL 1'!$C$7)","v":""},{"$f":"IF('SKILL 1'!$G$11=\"\", \"\", 'SKILL 1'!$G$11)","v":""},{"$f":"IF('SKILL 1'!$G$14=\"\", \"\", 'SKILL 1'!$G$14)","v":""},{"$f":"IF('SKILL 1'!$G17=\"\", \"\", 'SKILL 1'!$G17)","v":""},{"$f":"IF('SKILL 1'!$I$11=\"\", \"\", 'SKILL 1'!$I$11)","v":""},{"$f":"IF('SKILL 1'!$I$14=\"\", \"\", 'SKILL 1'!$I$14)","v":""},{"$f":"IF('SKILL 1'!$H17=\"\", \"\", 'SKILL 1'!$H17)","v":""},{"$f":"IF('SKILL 1'!$I17=\"\", \"\", 'SKILL 1'!$I17)","v":""},{"$f":"IF('SKILL 1'!$J17=\"\", \"\", 'SKILL 1'!$J17)","v":""},{"$f":"IF('SKILL 1'!$L$11=\"\", \"\", 'SKILL 1'!$L$11)","v":""},{"$f":"IF('SKILL 1'!$L$14=\"\", \"\", 'SKILL 1'!$L$14)","v":""},{"$f":"IF('SKILL 1'!$K17=\"\", \"\", 'SKILL 1'!$K17)","v":""},{"$f":"IF('SKILL 1'!$L17=\"\", \"\", 'SKILL 1'!$L17)","v":""},{"$f":"IF('SKILL 1'!$M17=\"\", \"\", 'SKILL 1'!$M17)","v":""},{"$f":"IF('SKILL 2'!$C$7=\"\", \"\", 'SKILL 2'!$C$7)","v":""},{"$f":"IF('SKILL 2'!$G$11=\"\", \"\", 'SKILL 2'!$G$11)","v":""},{"$f":"IF('SKILL 2'!$G$14=\"\", \"\", 'SKILL 2'!$G$14)","v":""},{"$f":"IF('SKILL 2'!$G17=\"\", \"\", 'SKILL 2'!$G17)","v":""},{"$f":"IF('SKILL 2'!$I$11=\"\", \"\", 'SKILL 2'!$I$11)","v":""},{"$f":"IF('SKILL 2'!$I$14=\"\", \"\", 'SKILL 2'!$I$14)","v":""},{"$f":"IF('SKILL 2'!$H17=\"\", \"\", 'SKILL 2'!$H17)","v":""},{"$f":"IF('SKILL 2'!$I17=\"\", \"\", 'SKILL 2'!$I17)","v":""},{"$f":"IF('SKILL 2'!$J17=\"\", \"\", 'SKILL 2'!$J17)","v":""},{"$f":"IF('SKILL 2'!$L$11=\"\", \"\", 'SKILL 2'!$L$11)","v":""},{"$f":"IF('SKILL 2'!$L$14=\"\", \"\", 'SKILL 2'!$L$14)","v":""},{"$f":"IF('SKILL 2'!$K17=\"\", \"\", 'SKILL 2'!$K17)","v":""},{"$f":"IF('SKILL 2'!$L17=\"\", \"\", 'SKILL 2'!$L17)","v":""},{"$f":"IF('SKILL 2'!$M17=\"\", \"\", 'SKILL 2'!$M17)","v":""},{"$f":"IF('SKILL 3'!$C$7=\"\", \"\", 'SKILL 3'!$C$7)","v":""},{"$f":"IF('SKILL 3'!$G$11=\"\", \"\", 'SKILL 3'!$G$11)","v":""},{"$f":"IF('SKILL 3'!$G$14=\"\", \"\", 'SKILL 3'!$G$14)","v":""},{"$f":"IF('SKILL 3'!$G17=\"\", \"\", 'SKILL 3'!$G17)","v":""},{"$f":"IF('SKILL 3'!$I$11=\"\", \"\", 'SKILL 3'!$I$11)","v":""},{"$f":"IF('SKILL 3'!$I$14=\"\", \"\", 'SKILL 3'!$I$14)","v":""},{"$f":"IF('SKILL 3'!$H17=\"\", \"\", 'SKILL 3'!$H17)","v":""},{"$f":"IF('SKILL 3'!$I17=\"\", \"\", 'SKILL 3'!$I17)","v":""},{"$f":"IF('SKILL 3'!$J17=\"\", \"\", 'SKILL 3'!$J17)","v":""},{"$f":"IF('SKILL 3'!$L$11=\"\", \"\", 'SKILL 3'!$L$11)","v":""},{"$f":"IF('SKILL 3'!$L$14=\"\", \"\", 'SKILL 3'!$L$14)","v":""},{"$f":"IF('SKILL 3'!$K17=\"\", \"\", 'SKILL 3'!$K17)","v":""},{"$f":"IF('SKILL 3'!$L17=\"\", \"\", 'SKILL 3'!$L17)","v":""},{"$f":"IF('SKILL 3'!$M17=\"\", \"\", 'SKILL 3'!$M17)","v":""},{"$f":"IF('SKILL 4'!$C$7=\"\", \"\", 'SKILL 4'!$C$7)","v":""},{"$f":"IF('SKILL 4'!$G$11=\"\", \"\", 'SKILL 4'!$G$11)","v":""},{"$f":"IF('SKILL 4'!$G$14=\"\", \"\", 'SKILL 4'!$G$14)","v":""},{"$f":"IF('SKILL 4'!$G17=\"\", \"\", 'SKILL 4'!$G17)","v":""},{"$f":"IF('SKILL 4'!$I$11=\"\", \"\", 'SKILL 4'!$I$11)","v":""},{"$f":"IF('SKILL 4'!$I$14=\"\", \"\", 'SKILL 4'!$I$14)","v":""},{"$f":"IF('SKILL 4'!$H17=\"\", \"\", 'SKILL 4'!$H17)","v":""},{"$f":"IF('SKILL 4'!$I17=\"\", \"\", 'SKILL 4'!$I17)","v":""},{"$f":"IF('SKILL 4'!$J17=\"\", \"\", 'SKILL 4'!$J17)","v":""},{"$f":"IF('SKILL 4'!$L$11=\"\", \"\", 'SKILL 4'!$L$11)","v":""},{"$f":"IF('SKILL 4'!$L$14=\"\", \"\", 'SKILL 4'!$L$14)","v":""},{"$f":"IF('SKILL 4'!$K17=\"\", \"\", 'SKILL 4'!$K17)","v":""},{"$f":"IF('SKILL 4'!$L17=\"\", \"\", 'SKILL 4'!$L17)","v":""},{"$f":"IF('SKILL 4'!$M17=\"\", \"\", 'SKILL 4'!$M17)","v":""},{"$f":"IF('SKILL 5'!$C$7=\"\", \"\", 'SKILL 5'!$C$7)","v":""},{"$f":"IF('SKILL 5'!$G$11=\"\", \"\", 'SKILL 5'!$G$11)","v":""},{"$f":"IF('SKILL 5'!$G$14=\"\", \"\", 'SKILL 5'!$G$14)","v":""},{"$f":"IF('SKILL 5'!$G17=\"\", \"\", 'SKILL 5'!$G17)","v":""},{"$f":"IF('SKILL 5'!$I$11=\"\", \"\", 'SKILL 5'!$I$11)","v":""},{"$f":"IF('SKILL 5'!$I$14=\"\", \"\", 'SKILL 5'!$I$14)","v":""},{"$f":"IF('SKILL 5'!$H17=\"\", \"\", 'SKILL 5'!$H17)","v":""},{"$f":"IF('SKILL 5'!$I17=\"\", \"\", 'SKILL 5'!$I17)","v":""},{"$f":"IF('SKILL 5'!$J17=\"\", \"\", 'SKILL 5'!$J17)","v":""},{"$f":"IF('SKILL 5'!$L$11=\"\", \"\", 'SKILL 5'!$L$11)","v":""},{"$f":"IF('SKILL 5'!$L$14=\"\", \"\", 'SKILL 5'!$L$14)","v":""},{"$f":"IF('SKILL 5'!$K17=\"\", \"\", 'SKILL 5'!$K17)","v":""},{"$f":"IF('SKILL 5'!$L17=\"\", \"\", 'SKILL 5'!$L17)","v":""},{"$f":"IF('SKILL 5'!$M17=\"\", \"\", 'SKILL 5'!$M17)","v":""},{"$f":"IF('SKILL 6'!$C$7=\"\", \"\", 'SKILL 6'!$C$7)","v":""},{"$f":"IF('SKILL 6'!$G$11=\"\", \"\", 'SKILL 6'!$G$11)","v":""},{"$f":"IF('SKILL 6'!$G$14=\"\", \"\", 'SKILL 6'!$G$14)","v":""},{"$f":"IF('SKILL 6'!$G17=\"\", \"\", 'SKILL 6'!$G17)","v":""},{"$f":"IF('SKILL 6'!$I$11=\"\", \"\", 'SKILL 6'!$I$11)","v":""},{"$f":"IF('SKILL 6'!$I$14=\"\", \"\", 'SKILL 6'!$I$14)","v":""},{"$f":"IF('SKILL 6'!$H17=\"\", \"\", 'SKILL 6'!$H17)","v":""},{"$f":"IF('SKILL 6'!$I17=\"\", \"\", 'SKILL 6'!$I17)","v":""},{"$f":"IF('SKILL 6'!$J17=\"\", \"\", 'SKILL 6'!$J17)","v":""},{"$f":"IF('SKILL 6'!$L$11=\"\", \"\", 'SKILL 6'!$L$11)","v":""},{"$f":"IF('SKILL 6'!$L$14=\"\", \"\", 'SKILL 6'!$L$14)","v":""},{"$f":"IF('SKILL 6'!$K17=\"\", \"\", 'SKILL 6'!$K17)","v":""},{"$f":"IF('SKILL 6'!$L17=\"\", \"\", 'SKILL 6'!$L17)","v":""},{"$f":"IF('SKILL 6'!$M17=\"\", \"\", 'SKILL 6'!$M17)","v":""}]
[{"$f":"IF(ATTENDANCE!$D$16=\"\", \"\", ATTENDANCE!$D$16)","v":""},{"$f":"IF(ATTENDANCE!$C$3=\"\", \"\", ATTENDANCE!$C$3)","v":""},{"$f":"IF(ATTENDANCE!$C$4=\"\", \"\", ATTENDANCE!$C$4)","v":""},{"$f":"IF(ATTENDANCE!$C$5=\"\", \"\", ATTENDANCE!$C$5)","v":""},{"$f":"IF(ATTENDANCE!$C$6=\"\", \"\", ATTENDANCE!$C$6)","v":""},{"$f":"IF(ATTENDANCE!$F$11=\"\", \"\", ATTENDANCE!$F$11)","v":""},{"$f":"IF(ATTENDANCE!$F$12=\"\", \"\", ATTENDANCE!$F$12)","v":""},{"$f":"IF(ATTENDANCE!$F16=\"\", \"\", ATTENDANCE!$F16)","v":""},{"$f":"IF(ATTENDANCE!$G16=\"\", \"\", ATTENDANCE!$G16)","v":""},{"$f":"IF(ATTENDANCE!$H$11=\"\", \"\", ATTENDANCE!$H$11)","v":""},{"$f":"IF(ATTENDANCE!$H$12=\"\", \"\", ATTENDANCE!$H$12)","v":""},{"$f":"IF(ATTENDANCE!$H16=\"\", \"\", ATTENDANCE!$H16)","v":""},{"$f":"IF(ATTENDANCE!$I$11=\"\", \"\", ATTENDANCE!$I$11)","v":""},{"$f":"IF(ATTENDANCE!$I$12=\"\", \"\", ATTENDANCE!$I$12)","v":""},{"$f":"IF(ATTENDANCE!$I16=\"\", \"\", ATTENDANCE!$I16)","v":""},{"$f":"IF('SKILL 1'!$C$7=\"\", \"\", 'SKILL 1'!$C$7)","v":""},{"$f":"IF('SKILL 1'!$G$11=\"\", \"\", 'SKILL 1'!$G$11)","v":""},{"$f":"IF('SKILL 1'!$G$14=\"\", \"\", 'SKILL 1'!$G$14)","v":""},{"$f":"IF('SKILL 1'!$G18=\"\", \"\", 'SKILL 1'!$G18)","v":""},{"$f":"IF('SKILL 1'!$I$11=\"\", \"\", 'SKILL 1'!$I$11)","v":""},{"$f":"IF('SKILL 1'!$I$14=\"\", \"\", 'SKILL 1'!$I$14)","v":""},{"$f":"IF('SKILL 1'!$H18=\"\", \"\", 'SKILL 1'!$H18)","v":""},{"$f":"IF('SKILL 1'!$I18=\"\", \"\", 'SKILL 1'!$I18)","v":""},{"$f":"IF('SKILL 1'!$J18=\"\", \"\", 'SKILL 1'!$J18)","v":""},{"$f":"IF('SKILL 1'!$L$11=\"\", \"\", 'SKILL 1'!$L$11)","v":""},{"$f":"IF('SKILL 1'!$L$14=\"\", \"\", 'SKILL 1'!$L$14)","v":""},{"$f":"IF('SKILL 1'!$K18=\"\", \"\", 'SKILL 1'!$K18)","v":""},{"$f":"IF('SKILL 1'!$L18=\"\", \"\", 'SKILL 1'!$L18)","v":""},{"$f":"IF('SKILL 1'!$M18=\"\", \"\", 'SKILL 1'!$M18)","v":""},{"$f":"IF('SKILL 2'!$C$7=\"\", \"\", 'SKILL 2'!$C$7)","v":""},{"$f":"IF('SKILL 2'!$G$11=\"\", \"\", 'SKILL 2'!$G$11)","v":""},{"$f":"IF('SKILL 2'!$G$14=\"\", \"\", 'SKILL 2'!$G$14)","v":""},{"$f":"IF('SKILL 2'!$G18=\"\", \"\", 'SKILL 2'!$G18)","v":""},{"$f":"IF('SKILL 2'!$I$11=\"\", \"\", 'SKILL 2'!$I$11)","v":""},{"$f":"IF('SKILL 2'!$I$14=\"\", \"\", 'SKILL 2'!$I$14)","v":""},{"$f":"IF('SKILL 2'!$H18=\"\", \"\", 'SKILL 2'!$H18)","v":""},{"$f":"IF('SKILL 2'!$I18=\"\", \"\", 'SKILL 2'!$I18)","v":""},{"$f":"IF('SKILL 2'!$J18=\"\", \"\", 'SKILL 2'!$J18)","v":""},{"$f":"IF('SKILL 2'!$L$11=\"\", \"\", 'SKILL 2'!$L$11)","v":""},{"$f":"IF('SKILL 2'!$L$14=\"\", \"\", 'SKILL 2'!$L$14)","v":""},{"$f":"IF('SKILL 2'!$K18=\"\", \"\", 'SKILL 2'!$K18)","v":""},{"$f":"IF('SKILL 2'!$L18=\"\", \"\", 'SKILL 2'!$L18)","v":""},{"$f":"IF('SKILL 2'!$M18=\"\", \"\", 'SKILL 2'!$M18)","v":""},{"$f":"IF('SKILL 3'!$C$7=\"\", \"\", 'SKILL 3'!$C$7)","v":""},{"$f":"IF('SKILL 3'!$G$11=\"\", \"\", 'SKILL 3'!$G$11)","v":""},{"$f":"IF('SKILL 3'!$G$14=\"\", \"\", 'SKILL 3'!$G$14)","v":""},{"$f":"IF('SKILL 3'!$G18=\"\", \"\", 'SKILL 3'!$G18)","v":""},{"$f":"IF('SKILL 3'!$I$11=\"\", \"\", 'SKILL 3'!$I$11)","v":""},{"$f":"IF('SKILL 3'!$I$14=\"\", \"\", 'SKILL 3'!$I$14)","v":""},{"$f":"IF('SKILL 3'!$H18=\"\", \"\", 'SKILL 3'!$H18)","v":""},{"$f":"IF('SKILL 3'!$I18=\"\", \"\", 'SKILL 3'!$I18)","v":""},{"$f":"IF('SKILL 3'!$J18=\"\", \"\", 'SKILL 3'!$J18)","v":""},{"$f":"IF('SKILL 3'!$L$11=\"\", \"\", 'SKILL 3'!$L$11)","v":""},{"$f":"IF('SKILL 3'!$L$14=\"\", \"\", 'SKILL 3'!$L$14)","v":""},{"$f":"IF('SKILL 3'!$K18=\"\", \"\", 'SKILL 3'!$K18)","v":""},{"$f":"IF('SKILL 3'!$L18=\"\", \"\", 'SKILL 3'!$L18)","v":""},{"$f":"IF('SKILL 3'!$M18=\"\", \"\", 'SKILL 3'!$M18)","v":""},{"$f":"IF('SKILL 4'!$C$7=\"\", \"\", 'SKILL 4'!$C$7)","v":""},{"$f":"IF('SKILL 4'!$G$11=\"\", \"\", 'SKILL 4'!$G$11)","v":""},{"$f":"IF('SKILL 4'!$G$14=\"\", \"\", 'SKILL 4'!$G$14)","v":""},{"$f":"IF('SKILL 4'!$G18=\"\", \"\", 'SKILL 4'!$G18)","v":""},{"$f":"IF('SKILL 4'!$I$11=\"\", \"\", 'SKILL 4'!$I$11)","v":""},{"$f":"IF('SKILL 4'!$I$14=\"\", \"\", 'SKILL 4'!$I$14)","v":""},{"$f":"IF('SKILL 4'!$H18=\"\", \"\", 'SKILL 4'!$H18)","v":""},{"$f":"IF('SKILL 4'!$I18=\"\", \"\", 'SKILL 4'!$I18)","v":""},{"$f":"IF('SKILL 4'!$J18=\"\", \"\", 'SKILL 4'!$J18)","v":""},{"$f":"IF('SKILL 4'!$L$11=\"\", \"\", 'SKILL 4'!$L$11)","v":""},{"$f":"IF('SKILL 4'!$L$14=\"\", \"\", 'SKILL 4'!$L$14)","v":""},{"$f":"IF('SKILL 4'!$K18=\"\", \"\", 'SKILL 4'!$K18)","v":""},{"$f":"IF('SKILL 4'!$L18=\"\", \"\", 'SKILL 4'!$L18)","v":""},{"$f":"IF('SKILL 4'!$M18=\"\", \"\", 'SKILL 4'!$M18)","v":""},{"$f":"IF('SKILL 5'!$C$7=\"\", \"\", 'SKILL 5'!$C$7)","v":""},{"$f":"IF('SKILL 5'!$G$11=\"\", \"\", 'SKILL 5'!$G$11)","v":""},{"$f":"IF('SKILL 5'!$G$14=\"\", \"\", 'SKILL 5'!$G$14)","v":""},{"$f":"IF('SKILL 5'!$G18=\"\", \"\", 'SKILL 5'!$G18)","v":""},{"$f":"IF('SKILL 5'!$I$11=\"\", \"\", 'SKILL 5'!$I$11)","v":""},{"$f":"IF('SKILL 5'!$I$14=\"\", \"\", 'SKILL 5'!$I$14)","v":""},{"$f":"IF('SKILL 5'!$H18=\"\", \"\", 'SKILL 5'!$H18)","v":""},{"$f":"IF('SKILL 5'!$I18=\"\", \"\", 'SKILL 5'!$I18)","v":""},{"$f":"IF('SKILL 5'!$J18=\"\", \"\", 'SKILL 5'!$J18)","v":""},{"$f":"IF('SKILL 5'!$L$11=\"\", \"\", 'SKILL 5'!$L$11)","v":""},{"$f":"IF('SKILL 5'!$L$14=\"\", \"\", 'SKILL 5'!$L$14)","v":""},{"$f":"IF('SKILL 5'!$K18=\"\", \"\", 'SKILL 5'!$K18)","v":""},{"$f":"IF('SKILL 5'!$L18=\"\", \"\", 'SKILL 5'!$L18)","v":""},{"$f":"IF('SKILL 5'!$M18=\"\", \"\", 'SKILL 5'!$M18)","v":""},{"$f":"IF('SKILL 6'!$C$7=\"\", \"\", 'SKILL 6'!$C$7)","v":""},{"$f":"IF('SKILL 6'!$G$11=\"\", \"\", 'SKILL 6'!$G$11)","v":""},{"$f":"IF('SKILL 6'!$G$14=\"\", \"\", 'SKILL 6'!$G$14)","v":""},{"$f":"IF('SKILL 6'!$G18=\"\", \"\", 'SKILL 6'!$G18)","v":""},{"$f":"IF('SKILL 6'!$I$11=\"\", \"\", 'SKILL 6'!$I$11)","v":""},{"$f":"IF('SKILL 6'!$I$14=\"\", \"\", 'SKILL 6'!$I$14)","v":""},{"$f":"IF('SKILL 6'!$H18=\"\", \"\", 'SKILL 6'!$H18)","v":""},{"$f":"IF('SKILL 6'!$I18=\"\", \"\", 'SKILL 6'!$I18)","v":""},{"$f":"IF('SKILL 6'!$J18=\"\", \"\", 'SKILL 6'!$J18)","v":""},{"$f":"IF('SKILL 6'!$L$11=\"\", \"\", 'SKILL 6'!$L$11)","v":""},{"$f":"IF('SKILL 6'!$L$14=\"\", \"\", 'SKILL 6'!$L$14)","v":""},{"$f":"IF('SKILL 6'!$K18=\"\", \"\", 'SKILL 6'!$K18)","v":""},{"$f":"IF('SKILL 6'!$L18=\"\", \"\", 'SKILL 6'!$L18)","v":""},{"$f":"IF('SKILL 6'!$M18=\"\", \"\", 'SKILL 6'!$M18)","v":""}]
[{"$f":"IF(ATTENDANCE!$D$17=\"\", \"\", ATTENDANCE!$D$17)","v":""},{"$f":"IF(ATTENDANCE!$C$3=\"\", \"\", ATTENDANCE!$C$3)","v":""},{"$f":"IF(ATTENDANCE!$C$4=\"\", \"\", ATTENDANCE!$C$4)","v":""},{"$f":"IF(ATTENDANCE!$C$5=\"\", \"\", ATTENDANCE!$C$5)","v":""},{"$f":"IF(ATTENDANCE!$C$6=\"\", \"\", ATTENDANCE!$C$6)","v":""},{"$f":"IF(ATTENDANCE!$F$11=\"\", \"\", ATTENDANCE!$F$11)","v":""},{"$f":"IF(ATTENDANCE!$F$12=\"\", \"\", ATTENDANCE!$F$12)","v":""},{"$f":"IF(ATTENDANCE!$F17=\"\", \"\", ATTENDANCE!$F17)","v":""},{"$f":"IF(ATTENDANCE!$G17=\"\", \"\", ATTENDANCE!$G17)","v":""},{"$f":"IF(ATTENDANCE!$H$11=\"\", \"\", ATTENDANCE!$H$11)","v":""},{"$f":"IF(ATTENDANCE!$H$12=\"\", \"\", ATTENDANCE!$H$12)","v":""},{"$f":"IF(ATTENDANCE!$H17=\"\", \"\", ATTENDANCE!$H17)","v":""},{"$f":"IF(ATTENDANCE!$I$11=\"\", \"\", ATTENDANCE!$I$11)","v":""},{"$f":"IF(ATTENDANCE!$I$12=\"\", \"\", ATTENDANCE!$I$12)","v":""},{"$f":"IF(ATTENDANCE!$I17=\"\", \"\", ATTENDANCE!$I17)","v":""},{"$f":"IF('SKILL 1'!$C$7=\"\", \"\", 'SKILL 1'!$C$7)","v":""},{"$f":"IF('SKILL 1'!$G$11=\"\", \"\", 'SKILL 1'!$G$11)","v":""},{"$f":"IF('SKILL 1'!$G$14=\"\", \"\", 'SKILL 1'!$G$14)","v":""},{"$f":"IF('SKILL 1'!$G19=\"\", \"\", 'SKILL 1'!$G19)","v":""},{"$f":"IF('SKILL 1'!$I$11=\"\", \"\", 'SKILL 1'!$I$11)","v":""},{"$f":"IF('SKILL 1'!$I$14=\"\", \"\", 'SKILL 1'!$I$14)","v":""},{"$f":"IF('SKILL 1'!$H19=\"\", \"\", 'SKILL 1'!$H19)","v":""},{"$f":"IF('SKILL 1'!$I19=\"\", \"\", 'SKILL 1'!$I19)","v":""},{"$f":"IF('SKILL 1'!$J19=\"\", \"\", 'SKILL 1'!$J19)","v":""},{"$f":"IF('SKILL 1'!$L$11=\"\", \"\", 'SKILL 1'!$L$11)","v":""},{"$f":"IF('SKILL 1'!$L$14=\"\", \"\", 'SKILL 1'!$L$14)","v":""},{"$f":"IF('SKILL 1'!$K19=\"\", \"\", 'SKILL 1'!$K19)","v":""},{"$f":"IF('SKILL 1'!$L19=\"\", \"\", 'SKILL 1'!$L19)","v":""},{"$f":"IF('SKILL 1'!$M19=\"\", \"\", 'SKILL 1'!$M19)","v":""},{"$f":"IF('SKILL 2'!$C$7=\"\", \"\", 'SKILL 2'!$C$7)","v":""},{"$f":"IF('SKILL 2'!$G$11=\"\", \"\", 'SKILL 2'!$G$11)","v":""},{"$f":"IF('SKILL 2'!$G$14=\"\", \"\", 'SKILL 2'!$G$14)","v":""},{"$f":"IF('SKILL 2'!$G19=\"\", \"\", 'SKILL 2'!$G19)","v":""},{"$f":"IF('SKILL 2'!$I$11=\"\", \"\", 'SKILL 2'!$I$11)","v":""},{"$f":"IF('SKILL 2'!$I$14=\"\", \"\", 'SKILL 2'!$I$14)","v":""},{"$f":"IF('SKILL 2'!$H19=\"\", \"\", 'SKILL 2'!$H19)","v":""},{"$f":"IF('SKILL 2'!$I19=\"\", \"\", 'SKILL 2'!$I19)","v":""},{"$f":"IF('SKILL 2'!$J19=\"\", \"\", 'SKILL 2'!$J19)","v":""},{"$f":"IF('SKILL 2'!$L$11=\"\", \"\", 'SKILL 2'!$L$11)","v":""},{"$f":"IF('SKILL 2'!$L$14=\"\", \"\", 'SKILL 2'!$L$14)","v":""},{"$f":"IF('SKILL 2'!$K19=\"\", \"\", 'SKILL 2'!$K19)","v":""},{"$f":"IF('SKILL 2'!$L19=\"\", \"\", 'SKILL 2'!$L19)","v":""},{"$f":"IF('SKILL 2'!$M19=\"\", \"\", 'SKILL 2'!$M19)","v":""},{"$f":"IF('SKILL 3'!$C$7=\"\", \"\", 'SKILL 3'!$C$7)","v":""},{"$f":"IF('SKILL 3'!$G$11=\"\", \"\", 'SKILL 3'!$G$11)","v":""},{"$f":"IF('SKILL 3'!$G$14=\"\", \"\", 'SKILL 3'!$G$14)","v":""},{"$f":"IF('SKILL 3'!$G19=\"\", \"\", 'SKILL 3'!$G19)","v":""},{"$f":"IF('SKILL 3'!$I$11=\"\", \"\", 'SKILL 3'!$I$11)","v":""},{"$f":"IF('SKILL 3'!$I$14=\"\", \"\", 'SKILL 3'!$I$14)","v":""},{"$f":"IF('SKILL 3'!$H19=\"\", \"\", 'SKILL 3'!$H19)","v":""},{"$f":"IF('SKILL 3'!$I19=\"\", \"\", 'SKILL 3'!$I19)","v":""},{"$f":"IF('SKILL 3'!$J19=\"\", \"\", 'SKILL 3'!$J19)","v":""},{"$f":"IF('SKILL 3'!$L$11=\"\", \"\", 'SKILL 3'!$L$11)","v":""},{"$f":"IF('SKILL 3'!$L$14=\"\", \"\", 'SKILL 3'!$L$14)","v":""},{"$f":"IF('SKILL 3'!$K19=\"\", \"\", 'SKILL 3'!$K19)","v":""},{"$f":"IF('SKILL 3'!$L19=\"\", \"\", 'SKILL 3'!$L19)","v":""},{"$f":"IF('SKILL 3'!$M19=\"\", \"\", 'SKILL 3'!$M19)","v":""},{"$f":"IF('SKILL 4'!$C$7=\"\", \"\", 'SKILL 4'!$C$7)","v":""},{"$f":"IF('SKILL 4'!$G$11=\"\", \"\", 'SKILL 4'!$G$11)","v":""},{"$f":"IF('SKILL 4'!$G$14=\"\", \"\", 'SKILL 4'!$G$14)","v":""},{"$f":"IF('SKILL 4'!$G19=\"\", \"\", 'SKILL 4'!$G19)","v":""},{"$f":"IF('SKILL 4'!$I$11=\"\", \"\", 'SKILL 4'!$I$11)","v":""},{"$f":"IF('SKILL 4'!$I$14=\"\", \"\", 'SKILL 4'!$I$14)","v":""},{"$f":"IF('SKILL 4'!$H19=\"\", \"\", 'SKILL 4'!$H19)","v":""},{"$f":"IF('SKILL 4'!$I19=\"\", \"\", 'SKILL 4'!$I19)","v":""},{"$f":"IF('SKILL 4'!$J19=\"\", \"\", 'SKILL 4'!$J19)","v":""},{"$f":"IF('SKILL 4'!$L$11=\"\", \"\", 'SKILL 4'!$L$11)","v":""},{"$f":"IF('SKILL 4'!$L$14=\"\", \"\", 'SKILL 4'!$L$14)","v":""},{"$f":"IF('SKILL 4'!$K19=\"\", \"\", 'SKILL 4'!$K19)","v":""},{"$f":"IF('SKILL 4'!$L19=\"\", \"\", 'SKILL 4'!$L19)","v":""},{"$f":"IF('SKILL 4'!$M19=\"\", \"\", 'SKILL 4'!$M19)","v":""},{"$f":"IF('SKILL 5'!$C$7=\"\", \"\", 'SKILL 5'!$C$7)","v":""},{"$f":"IF('SKILL 5'!$G$11=\"\", \"\", 'SKILL 5'!$G$11)","v":""},{"$f":"IF('SKILL 5'!$G$14=\"\", \"\", 'SKILL 5'!$G$14)","v":""},{"$f":"IF('SKILL 5'!$G19=\"\", \"\", 'SKILL 5'!$G19)","v":""},{"$f":"IF('SKILL 5'!$I$11=\"\", \"\", 'SKILL 5'!$I$11)","v":""},{"$f":"IF('SKILL 5'!$I$14=\"\", \"\", 'SKILL 5'!$I$14)","v":""},{"$f":"IF('SKILL 5'!$H19=\"\", \"\", 'SKILL 5'!$H19)","v":""},{"$f":"IF('SKILL 5'!$I19=\"\", \"\", 'SKILL 5'!$I19)","v":""},{"$f":"IF('SKILL 5'!$J19=\"\", \"\", 'SKILL 5'!$J19)","v":""},{"$f":"IF('SKILL 5'!$L$11=\"\", \"\", 'SKILL 5'!$L$11)","v":""},{"$f":"IF('SKILL 5'!$L$14=\"\", \"\", 'SKILL 5'!$L$14)","v":""},{"$f":"IF('SKILL 5'!$K19=\"\", \"\", 'SKILL 5'!$K19)","v":""},{"$f":"IF('SKILL 5'!$L19=\"\", \"\", 'SKILL 5'!$L19)","v":""},{"$f":"IF('SKILL 5'!$M19=\"\", \"\", 'SKILL 5'!$M19)","v":""},{"$f":"IF('SKILL 6'!$C$7=\"\", \"\", 'SKILL 6'!$C$7)","v":""},{"$f":"IF('SKILL 6'!$G$11=\"\", \"\", 'SKILL 6'!$G$11)","v":""},{"$f":"IF('SKILL 6'!$G$14=\"\", \"\", 'SKILL 6'!$G$14)","v":""},{"$f":"IF('SKILL 6'!$G19=\"\", \"\", 'SKILL 6'!$G19)","v":""},{"$f":"IF('SKILL 6'!$I$11=\"\", \"\", 'SKILL 6'!$I$11)","v":""},{"$f":"IF('SKILL 6'!$I$14=\"\", \"\", 'SKILL 6'!$I$14)","v":""},{"$f":"IF('SKILL 6'!$H19=\"\", \"\", 'SKILL 6'!$H19)","v":""},{"$f":"IF('SKILL 6'!$I19=\"\", \"\", 'SKILL 6'!$I19)","v":""},{"$f":"IF('SKILL 6'!$J19=\"\", \"\", 'SKILL 6'!$J19)","v":""},{"$f":"IF('SKILL 6'!$L$11=\"\", \"\", 'SKILL 6'!$L$11)","v":""},{"$f":"IF('SKILL 6'!$L$14=\"\", \"\", 'SKILL 6'!$L$14)","v":""},{"$f":"IF('SKILL 6'!$K19=\"\", \"\", 'SKILL 6'!$K19)","v":""},{"$f":"IF('SKILL 6'!$L19=\"\", \"\", 'SKILL 6'!$L19)","v":""},{"$f":"IF('SKILL 6'!$M19=\"\", \"\", 'SKILL 6'!$M19)","v":""}]
[{"$f":"IF(ATTENDANCE!$D$18=\"\", \"\", ATTENDANCE!$D$18)","v":""},{"$f":"IF(ATTENDANCE!$C$3=\"\", \"\", ATTENDANCE!$C$3)","v":""},{"$f":"IF(ATTENDANCE!$C$4=\"\", \"\", ATTENDANCE!$C$4)","v":""},{"$f":"IF(ATTENDANCE!$C$5=\"\", \"\", ATTENDANCE!$C$5)","v":""},{"$f":"IF(ATTENDANCE!$C$6=\"\", \"\", ATTENDANCE!$C$6)","v":""},{"$f":"IF(ATTENDANCE!$F$11=\"\", \"\", ATTENDANCE!$F$11)","v":""},{"$f":"IF(ATTENDANCE!$F$12=\"\", \"\", ATTENDANCE!$F$12)","v":""},{"$f":"IF(ATTENDANCE!$F18=\"\", \"\", ATTENDANCE!$F18)","v":""},{"$f":"IF(ATTENDANCE!$G18=\"\", \"\", ATTENDANCE!$G18)","v":""},{"$f":"IF(ATTENDANCE!$H$11=\"\", \"\", ATTENDANCE!$H$11)","v":""},{"$f":"IF(ATTENDANCE!$H$12=\"\", \"\", ATTENDANCE!$H$12)","v":""},{"$f":"IF(ATTENDANCE!$H18=\"\", \"\", ATTENDANCE!$H18)","v":""},{"$f":"IF(ATTENDANCE!$I$11=\"\", \"\", ATTENDANCE!$I$11)","v":""},{"$f":"IF(ATTENDANCE!$I$12=\"\", \"\", ATTENDANCE!$I$12)","v":""},{"$f":"IF(ATTENDANCE!$I18=\"\", \"\", ATTENDANCE!$I18)","v":""},{"$f":"IF('SKILL 1'!$C$7=\"\", \"\", 'SKILL 1'!$C$7)","v":""},{"$f":"IF('SKILL 1'!$G$11=\"\", \"\", 'SKILL 1'!$G$11)","v":""},{"$f":"IF('SKILL 1'!$G$14=\"\", \"\", 'SKILL 1'!$G$14)","v":""},{"$f":"IF('SKILL 1'!$G20=\"\", \"\", 'SKILL 1'!$G20)","v":""},{"$f":"IF('SKILL 1'!$I$11=\"\", \"\", 'SKILL 1'!$I$11)","v":""},{"$f":"IF('SKILL 1'!$I$14=\"\", \"\", 'SKILL 1'!$I$14)","v":""},{"$f":"IF('SKILL 1'!$H20=\"\", \"\", 'SKILL 1'!$H20)","v":""},{"$f":"IF('SKILL 1'!$I20=\"\", \"\", 'SKILL 1'!$I20)","v":""},{"$f":"IF('SKILL 1'!$J20=\"\", \"\", 'SKILL 1'!$J20)","v":""},{"$f":"IF('SKILL 1'!$L$11=\"\", \"\", 'SKILL 1'!$L$11)","v":""},{"$f":"IF('SKILL 1'!$L$14=\"\", \"\", 'SKILL 1'!$L$14)","v":""},{"$f":"IF('SKILL 1'!$K20=\"\", \"\", 'SKILL 1'!$K20)","v":""},{"$f":"IF('SKILL 1'!$L20=\"\", \"\", 'SKILL 1'!$L20)","v":""},{"$f":"IF('SKILL 1'!$M20=\"\", \"\", 'SKILL 1'!$M20)","v":""},{"$f":"IF('SKILL 2'!$C$7=\"\", \"\", 'SKILL 2'!$C$7)","v":""},{"$f":"IF('SKILL 2'!$G$11=\"\", \"\", 'SKILL 2'!$G$11)","v":""},{"$f":"IF('SKILL 2'!$G$14=\"\", \"\", 'SKILL 2'!$G$14)","v":""},{"$f":"IF('SKILL 2'!$G20=\"\", \"\", 'SKILL 2'!$G20)","v":""},{"$f":"IF('SKILL 2'!$I$11=\"\", \"\", 'SKILL 2'!$I$11)","v":""},{"$f":"IF('SKILL 2'!$I$14=\"\", \"\", 'SKILL 2'!$I$14)","v":""},{"$f":"IF('SKILL 2'!$H20=\"\", \"\", 'SKILL 2'!$H20)","v":""},{"$f":"IF('SKILL 2'!$I20=\"\", \"\", 'SKILL 2'!$I20)","v":""},{"$f":"IF('SKILL 2'!$J20=\"\", \"\", 'SKILL 2'!$J20)","v":""},{"$f":"IF('SKILL 2'!$L$11=\"\", \"\", 'SKILL 2'!$L$11)","v":""},{"$f":"IF('SKILL 2'!$L$14=\"\", \"\", 'SKILL 2'!$L$14)","v":""},{"$f":"IF('SKILL 2'!$K20=\"\", \"\", 'SKILL 2'!$K20)","v":""},{"$f":"IF('SKILL 2'!$L20=\"\", \"\", 'SKILL 2'!$L20)","v":""},{"$f":"IF('SKILL 2'!$M20=\"\", \"\", 'SKILL 2'!$M20)","v":""},{"$f":"IF('SKILL 3'!$C$7=\"\", \"\", 'SKILL 3'!$C$7)","v":""},{"$f":"IF('SKILL 3'!$G$11=\"\", \"\", 'SKILL 3'!$G$11)","v":""},{"$f":"IF('SKILL 3'!$G$14=\"\", \"\", 'SKILL 3'!$G$14)","v":""},{"$f":"IF('SKILL 3'!$G20=\"\", \"\", 'SKILL 3'!$G20)","v":""},{"$f":"IF('SKILL 3'!$I$11=\"\", \"\", 'SKILL 3'!$I$11)","v":""},{"$f":"IF('SKILL 3'!$I$14=\"\", \"\", 'SKILL 3'!$I$14)","v":""},{"$f":"IF('SKILL 3'!$H20=\"\", \"\", 'SKILL 3'!$H20)","v":""},{"$f":"IF('SKILL 3'!$I20=\"\", \"\", 'SKILL 3'!$I20)","v":""},{"$f":"IF('SKILL 3'!$J20=\"\", \"\", 'SKILL 3'!$J20)","v":""},{"$f":"IF('SKILL 3'!$L$11=\"\", \"\", 'SKILL 3'!$L$11)","v":""},{"$f":"IF('SKILL 3'!$L$14=\"\", \"\", 'SKILL 3'!$L$14)","v":""},{"$f":"IF('SKILL 3'!$K20=\"\", \"\", 'SKILL 3'!$K20)","v":""},{"$f":"IF('SKILL 3'!$L20=\"\", \"\", 'SKILL 3'!$L20)","v":""},{"$f":"IF('SKILL 3'!$M20=\"\", \"\", 'SKILL 3'!$M20)","v":""},{"$f":"IF('SKILL 4'!$C$7=\"\", \"\", 'SKILL 4'!$C$7)","v":""},{"$f":"IF('SKILL 4'!$G$11=\"\", \"\", 'SKILL 4'!$G$11)","v":""},{"$f":"IF('SKILL 4'!$G$14=\"\", \"\", 'SKILL 4'!$G$14)","v":""},{"$f":"IF('SKILL 4'!$G20=\"\", \"\", 'SKILL 4'!$G20)","v":""},{"$f":"IF('SKILL 4'!$I$11=\"\", \"\", 'SKILL 4'!$I$11)","v":""},{"$f":"IF('SKILL 4'!$I$14=\"\", \"\", 'SKILL 4'!$I$14)","v":""},{"$f":"IF('SKILL 4'!$H20=\"\", \"\", 'SKILL 4'!$H20)","v":""},{"$f":"IF('SKILL 4'!$I20=\"\", \"\", 'SKILL 4'!$I20)","v":""},{"$f":"IF('SKILL 4'!$J20=\"\", \"\", 'SKILL 4'!$J20)","v":""},{"$f":"IF('SKILL 4'!$L$11=\"\", \"\", 'SKILL 4'!$L$11)","v":""},{"$f":"IF('SKILL 4'!$L$14=\"\", \"\", 'SKILL 4'!$L$14)","v":""},{"$f":"IF('SKILL 4'!$K20=\"\", \"\", 'SKILL 4'!$K20)","v":""},{"$f":"IF('SKILL 4'!$L20=\"\", \"\", 'SKILL 4'!$L20)","v":""},{"$f":"IF('SKILL 4'!$M20=\"\", \"\", 'SKILL 4'!$M20)","v":""},{"$f":"IF('SKILL 5'!$C$7=\"\", \"\", 'SKILL 5'!$C$7)","v":""},{"$f":"IF('SKILL 5'!$G$11=\"\", \"\", 'SKILL 5'!$G$11)","v":""},{"$f":"IF('SKILL 5'!$G$14=\"\", \"\", 'SKILL 5'!$G$14)","v":""},{"$f":"IF('SKILL 5'!$G20=\"\", \"\", 'SKILL 5'!$G20)","v":""},{"$f":"IF('SKILL 5'!$I$11=\"\", \"\", 'SKILL 5'!$I$11)","v":""},{"$f":"IF('SKILL 5'!$I$14=\"\", \"\", 'SKILL 5'!$I$14)","v":""},{"$f":"IF('SKILL 5'!$H20=\"\", \"\", 'SKILL 5'!$H20)","v":""},{"$f":"IF('SKILL 5'!$I20=\"\", \"\", 'SKILL 5'!$I20)","v":""},{"$f":"IF('SKILL 5'!$J20=\"\", \"\", 'SKILL 5'!$J20)","v":""},{"$f":"IF('SKILL 5'!$L$11=\"\", \"\", 'SKILL 5'!$L$11)","v":""},{"$f":"IF('SKILL 5'!$L$14=\"\", \"\", 'SKILL 5'!$L$14)","v":""},{"$f":"IF('SKILL 5'!$K20=\"\", \"\", 'SKILL 5'!$K20)","v":""},{"$f":"IF('SKILL 5'!$L20=\"\", \"\", 'SKILL 5'!$L20)","v":""},{"$f":"IF('SKILL 5'!$M20=\"\", \"\", 'SKILL 5'!$M20)","v":""},{"$f":"IF('SKILL 6'!$C$7=\"\", \"\", 'SKILL 6'!$C$7)","v":""},{"$f":"IF('SKILL 6'!$G$11=\"\", \"\", 'SKILL 6'!$G$11)","v":""},{"$f":"IF('SKILL 6'!$G$14=\"\", \"\", 'SKILL 6'!$G$14)","v":""},{"$f":"IF('SKILL 6'!$G20=\"\", \"\", 'SKILL 6'!$G20)","v":""},{"$f":"IF('SKILL 6'!$I$11=\"\", \"\", 'SKILL 6'!$I$11)","v":""},{"$f":"IF('SKILL 6'!$I$14=\"\", \"\", 'SKILL 6'!$I$14)","v":""},{"$f":"IF('SKILL 6'!$H20=\"\", \"\", 'SKILL 6'!$H20)","v":""},{"$f":"IF('SKILL 6'!$I20=\"\", \"\", 'SKILL 6'!$I20)","v":""},{"$f":"IF('SKILL 6'!$J20=\"\", \"\", 'SKILL 6'!$J20)","v":""},{"$f":"IF('SKILL 6'!$L$11=\"\", \"\", 'SKILL 6'!$L$11)","v":""},{"$f":"IF('SKILL 6'!$L$14=\"\", \"\", 'SKILL 6'!$L$14)","v":""},{"$f":"IF('SKILL 6'!$K20=\"\", \"\", 'SKILL 6'!$K20)","v":""},{"$f":"IF('SKILL 6'!$L20=\"\", \"\", 'SKILL 6'!$L20)","v":""},{"$f":"IF('SKILL 6'!$M20=\"\", \"\", 'SKILL 6'!$M20)","v":""}]
[{"$f":"IF(ATTENDANCE!$D$19=\"\", \"\", ATTENDANCE!$D$19)","v":""},{"$f":"IF(ATTENDANCE!$C$3=\"\", \"\", ATTENDANCE!$C$3)","v":""},{"$f":"IF(ATTENDANCE!$C$4=\"\", \"\", ATTENDANCE!$C$4)","v":""},{"$f":"IF(ATTENDANCE!$C$5=\"\", \"\", ATTENDANCE!$C$5)","v":""},{"$f":"IF(ATTENDANCE!$C$6=\"\", \"\", ATTENDANCE!$C$6)","v":""},{"$f":"IF(ATTENDANCE!$F$11=\"\", \"\", ATTENDANCE!$F$11)","v":""},{"$f":"IF(ATTENDANCE!$F$12=\"\", \"\", ATTENDANCE!$F$12)","v":""},{"$f":"IF(ATTENDANCE!$F19=\"\", \"\", ATTENDANCE!$F19)","v":""},{"$f":"IF(ATTENDANCE!$G19=\"\", \"\", ATTENDANCE!$G19)","v":""},{"$f":"IF(ATTENDANCE!$H$11=\"\", \"\", ATTENDANCE!$H$11)","v":""},{"$f":"IF(ATTENDANCE!$H$12=\"\", \"\", ATTENDANCE!$H$12)","v":""},{"$f":"IF(ATTENDANCE!$H19=\"\", \"\", ATTENDANCE!$H19)","v":""},{"$f":"IF(ATTENDANCE!$I$11=\"\", \"\", ATTENDANCE!$I$11)","v":""},{"$f":"IF(ATTENDANCE!$I$12=\"\", \"\", ATTENDANCE!$I$12)","v":""},{"$f":"IF(ATTENDANCE!$I19=\"\", \"\", ATTENDANCE!$I19)","v":""},{"$f":"IF('SKILL 1'!$C$7=\"\", \"\", 'SKILL 1'!$C$7)","v":""},{"$f":"IF('SKILL 1'!$G$11=\"\", \"\", 'SKILL 1'!$G$11)","v":""},{"$f":"IF('SKILL 1'!$G$14=\"\", \"\", 'SKILL 1'!$G$14)","v":""},{"$f":"IF('SKILL 1'!$G21=\"\", \"\", 'SKILL 1'!$G21)","v":""},{"$f":"IF('SKILL 1'!$I$11=\"\", \"\", 'SKILL 1'!$I$11)","v":""},{"$f":"IF('SKILL 1'!$I$14=\"\", \"\", 'SKILL 1'!$I$14)","v":""},{"$f":"IF('SKILL 1'!$H21=\"\", \"\", 'SKILL 1'!$H21)","v":""},{"$f":"IF('SKILL 1'!$I21=\"\", \"\", 'SKILL 1'!$I21)","v":""},{"$f":"IF('SKILL 1'!$J21=\"\", \"\", 'SKILL 1'!$J21)","v":""},{"$f":"IF('SKILL 1'!$L$11=\"\", \"\", 'SKILL 1'!$L$11)","v":""},{"$f":"IF('SKILL 1'!$L$14=\"\", \"\", 'SKILL 1'!$L$14)","v":""},{"$f":"IF('SKILL 1'!$K21=\"\", \"\", 'SKILL 1'!$K21)","v":""},{"$f":"IF('SKILL 1'!$L21=\"\", \"\", 'SKILL 1'!$L21)","v":""},{"$f":"IF('SKILL 1'!$M21=\"\", \"\", 'SKILL 1'!$M21)","v":""},{"$f":"IF('SKILL 2'!$C$7=\"\", \"\", 'SKILL 2'!$C$7)","v":""},{"$f":"IF('SKILL 2'!$G$11=\"\", \"\", 'SKILL 2'!$G$11)","v":""},{"$f":"IF('SKILL 2'!$G$14=\"\", \"\", 'SKILL 2'!$G$14)","v":""},{"$f":"IF('SKILL 2'!$G21=\"\", \"\", 'SKILL 2'!$G21)","v":""},{"$f":"IF('SKILL 2'!$I$11=\"\", \"\", 'SKILL 2'!$I$11)","v":""},{"$f":"IF('SKILL 2'!$I$14=\"\", \"\", 'SKILL 2'!$I$14)","v":""},{"$f":"IF('SKILL 2'!$H21=\"\", \"\", 'SKILL 2'!$H21)","v":""},{"$f":"IF('SKILL 2'!$I21=\"\", \"\", 'SKILL 2'!$I21)","v":""},{"$f":"IF('SKILL 2'!$J21=\"\", \"\", 'SKILL 2'!$J21)","v":""},{"$f":"IF('SKILL 2'!$L$11=\"\", \"\", 'SKILL 2'!$L$11)","v":""},{"$f":"IF('SKILL 2'!$L$14=\"\", \"\", 'SKILL 2'!$L$14)","v":""},{"$f":"IF('SKILL 2'!$K21=\"\", \"\", 'SKILL 2'!$K21)","v":""},{"$f":"IF('SKILL 2'!$L21=\"\", \"\", 'SKILL 2'!$L21)","v":""},{"$f":"IF('SKILL 2'!$M21=\"\", \"\", 'SKILL 2'!$M21)","v":""},{"$f":"IF('SKILL 3'!$C$7=\"\", \"\", 'SKILL 3'!$C$7)","v":""},{"$f":"IF('SKILL 3'!$G$11=\"\", \"\", 'SKILL 3'!$G$11)","v":""},{"$f":"IF('SKILL 3'!$G$14=\"\", \"\", 'SKILL 3'!$G$14)","v":""},{"$f":"IF('SKILL 3'!$G21=\"\", \"\", 'SKILL 3'!$G21)","v":""},{"$f":"IF('SKILL 3'!$I$11=\"\", \"\", 'SKILL 3'!$I$11)","v":""},{"$f":"IF('SKILL 3'!$I$14=\"\", \"\", 'SKILL 3'!$I$14)","v":""},{"$f":"IF('SKILL 3'!$H21=\"\", \"\", 'SKILL 3'!$H21)","v":""},{"$f":"IF('SKILL 3'!$I21=\"\", \"\", 'SKILL 3'!$I21)","v":""},{"$f":"IF('SKILL 3'!$J21=\"\", \"\", 'SKILL 3'!$J21)","v":""},{"$f":"IF('SKILL 3'!$L$11=\"\", \"\", 'SKILL 3'!$L$11)","v":""},{"$f":"IF('SKILL 3'!$L$14=\"\", \"\", 'SKILL 3'!$L$14)","v":""},{"$f":"IF('SKILL 3'!$K21=\"\", \"\", 'SKILL 3'!$K21)","v":""},{"$f":"IF('SKILL 3'!$L21=\"\", \"\", 'SKILL 3'!$L21)","v":""},{"$f":"IF('SKILL 3'!$M21=\"\", \"\", 'SKILL 3'!$M21)","v":""},{"$f":"IF('SKILL 4'!$C$7=\"\", \"\", 'SKILL 4'!$C$7)","v":""},{"$f":"IF('SKILL 4'!$G$11=\"\", \"\", 'SKILL 4'!$G$11)","v":""},{"$f":"IF('SKILL 4'!$G$14=\"\", \"\", 'SKILL 4'!$G$14)","v":""},{"$f":"IF('SKILL 4'!$G21=\"\", \"\", 'SKILL 4'!$G21)","v":""},{"$f":"IF('SKILL 4'!$I$11=\"\", \"\", 'SKILL 4'!$I$11)","v":""},{"$f":"IF('SKILL 4'!$I$14=\"\", \"\", 'SKILL 4'!$I$14)","v":""},{"$f":"IF('SKILL 4'!$H21=\"\", \"\", 'SKILL 4'!$H21)","v":""},{"$f":"IF('SKILL 4'!$I21=\"\", \"\", 'SKILL 4'!$I21)","v":""},{"$f":"IF('SKILL 4'!$J21=\"\", \"\", 'SKILL 4'!$J21)","v":""},{"$f":"IF('SKILL 4'!$L$11=\"\", \"\", 'SKILL 4'!$L$11)","v":""},{"$f":"IF('SKILL 4'!$L$14=\"\", \"\", 'SKILL 4'!$L$14)","v":""},{"$f":"IF('SKILL 4'!$K21=\"\", \"\", 'SKILL 4'!$K21)","v":""},{"$f":"IF('SKILL 4'!$L21=\"\", \"\", 'SKILL 4'!$L21)","v":""},{"$f":"IF('SKILL 4'!$M21=\"\", \"\", 'SKILL 4'!$M21)","v":""},{"$f":"IF('SKILL 5'!$C$7=\"\", \"\", 'SKILL 5'!$C$7)","v":""},{"$f":"IF('SKILL 5'!$G$11=\"\", \"\", 'SKILL 5'!$G$11)","v":""},{"$f":"IF('SKILL 5'!$G$14=\"\", \"\", 'SKILL 5'!$G$14)","v":""},{"$f":"IF('SKILL 5'!$G21=\"\", \"\", 'SKILL 5'!$G21)","v":""},{"$f":"IF('SKILL 5'!$I$11=\"\", \"\", 'SKILL 5'!$I$11)","v":""},{"$f":"IF('SKILL 5'!$I$14=\"\", \"\", 'SKILL 5'!$I$14)","v":""},{"$f":"IF('SKILL 5'!$H21=\"\", \"\", 'SKILL 5'!$H21)","v":""},{"$f":"IF('SKILL 5'!$I21=\"\", \"\", 'SKILL 5'!$I21)","v":""},{"$f":"IF('SKILL 5'!$J21=\"\", \"\", 'SKILL 5'!$J21)","v":""},{"$f":"IF('SKILL 5'!$L$11=\"\", \"\", 'SKILL 5'!$L$11)","v":""},{"$f":"IF('SKILL 5'!$L$14=\"\", \"\", 'SKILL 5'!$L$14)","v":""},{"$f":"IF('SKILL 5'!$K21=\"\", \"\", 'SKILL 5'!$K21)","v":""},{"$f":"IF('SKILL 5'!$L21=\"\", \"\", 'SKILL 5'!$L21)","v":""},{"$f":"IF('SKILL 5'!$M21=\"\", \"\", 'SKILL 5'!$M21)","v":""},{"$f":"IF('SKILL 6'!$C$7=\"\", \"\", 'SKILL 6'!$C$7)","v":""},{"$f":"IF('SKILL 6'!$G$11=\"\", \"\", 'SKILL 6'!$G$11)","v":""},{"$f":"IF('SKILL 6'!$G$14=\"\", \"\", 'SKILL 6'!$G$14)","v":""},{"$f":"IF('SKILL 6'!$G21=\"\", \"\", 'SKILL 6'!$G21)","v":""},{"$f":"IF('SKILL 6'!$I$11=\"\", \"\", 'SKILL 6'!$I$11)","v":""},{"$f":"IF('SKILL 6'!$I$14=\"\", \"\", 'SKILL 6'!$I$14)","v":""},{"$f":"IF('SKILL 6'!$H21=\"\", \"\", 'SKILL 6'!$H21)","v":""},{"$f":"IF('SKILL 6'!$I21=\"\", \"\", 'SKILL 6'!$I21)","v":""},{"$f":"IF('SKILL 6'!$J21=\"\", \"\", 'SKILL 6'!$J21)","v":""},{"$f":"IF('SKILL 6'!$L$11=\"\", \"\", 'SKILL 6'!$L$11)","v":""},{"$f":"IF('SKILL 6'!$L$14=\"\", \"\", 'SKILL 6'!$L$14)","v":""},{"$f":"IF('SKILL 6'!$K21=\"\", \"\", 'SKILL 6'!$K21)","v":""},{"$f":"IF('SKILL 6'!$L21=\"\", \"\", 'SKILL 6'!$L21)","v":""},{"$f":"IF('SKILL 6'!$M21=\"\", \"\", 'SKILL 6'!$M21)","v":""}]
[{"$f":"IF(ATTENDANCE!$D$20=\"\", \"\", ATTENDANCE!$D$20)","v":""},{"$f":"IF(ATTENDANCE!$C$3=\"\", \"\", ATTENDANCE!$C$3)","v":""},{"$f":"IF(ATTENDANCE!$C$4=\"\", \"\", ATTENDANCE!$C$4)","v":""},{"$f":"IF(ATTENDANCE!$C$5=\"\", \"\", ATTENDANCE!$C$5)","v":""},{"$f":"IF(ATTENDANCE!$C$6=\"\", \"\", ATTENDANCE!$C$6)","v":""},{"$f":"IF(ATTENDANCE!$F$11=\"\", \"\", ATTENDANCE!$F$11)","v":""},{"$f":"IF(ATTENDANCE!$F$12=\"\", \"\", ATTENDANCE!$F$12)","v":""},{"$f":"IF(ATTENDANCE!$F20=\"\", \"\", ATTENDANCE!$F20)","v":""},{"$f":"IF(ATTENDANCE!$G20=\"\", \"\", ATTENDANCE!$G20)","v":""},{"$f":"IF(ATTENDANCE!$H$11=\"\", \"\", ATTENDANCE!$H$11)","v":""},{"$f":"IF(ATTENDANCE!$H$12=\"\", \"\", ATTENDANCE!$H$12)","v":""},{"$f":"IF(ATTENDANCE!$H20=\"\", \"\", ATTENDANCE!$H20)","v":""},{"$f":"IF(ATTENDANCE!$I$11=\"\", \"\", ATTENDANCE!$I$11)","v":""},{"$f":"IF(ATTENDANCE!$I$12=\"\", \"\", ATTENDANCE!$I$12)","v":""},{"$f":"IF(ATTENDANCE!$I20=\"\", \"\", ATTENDANCE!$I20)","v":""},{"$f":"IF('SKILL 1'!$C$7=\"\", \"\", 'SKILL 1'!$C$7)","v":""},{"$f":"IF('SKILL 1'!$G$11=\"\", \"\", 'SKILL 1'!$G$11)","v":""},{"$f":"IF('SKILL 1'!$G$14=\"\", \"\", 'SKILL 1'!$G$14)","v":""},{"$f":"IF('SKILL 1'!$G22=\"\", \"\", 'SKILL 1'!$G22)","v":""},{"$f":"IF('SKILL 1'!$I$11=\"\", \"\", 'SKILL 1'!$I$11)","v":""},{"$f":"IF('SKILL 1'!$I$14=\"\", \"\", 'SKILL 1'!$I$14)","v":""},{"$f":"IF('SKILL 1'!$H22=\"\", \"\", 'SKILL 1'!$H22)","v":""},{"$f":"IF('SKILL 1'!$I22=\"\", \"\", 'SKILL 1'!$I22)","v":""},{"$f":"IF('SKILL 1'!$J22=\"\", \"\", 'SKILL 1'!$J22)","v":""},{"$f":"IF('SKILL 1'!$L$11=\"\", \"\", 'SKILL 1'!$L$11)","v":""},{"$f":"IF('SKILL 1'!$L$14=\"\", \"\", 'SKILL 1'!$L$14)","v":""},{"$f":"IF('SKILL 1'!$K22=\"\", \"\", 'SKILL 1'!$K22)","v":""},{"$f":"IF('SKILL 1'!$L22=\"\", \"\", 'SKILL 1'!$L22)","v":""},{"$f":"IF('SKILL 1'!$M22=\"\", \"\", 'SKILL 1'!$M22)","v":""},{"$f":"IF('SKILL 2'!$C$7=\"\", \"\", 'SKILL 2'!$C$7)","v":""},{"$f":"IF('SKILL 2'!$G$11=\"\", \"\", 'SKILL 2'!$G$11)","v":""},{"$f":"IF('SKILL 2'!$G$14=\"\", \"\", 'SKILL 2'!$G$14)","v":""},{"$f":"IF('SKILL 2'!$G22=\"\", \"\", 'SKILL 2'!$G22)","v":""},{"$f":"IF('SKILL 2'!$I$11=\"\", \"\", 'SKILL 2'!$I$11)","v":""},{"$f":"IF('SKILL 2'!$I$14=\"\", \"\", 'SKILL 2'!$I$14)","v":""},{"$f":"IF('SKILL 2'!$H22=\"\", \"\", 'SKILL 2'!$H22)","v":""},{"$f":"IF('SKILL 2'!$I22=\"\", \"\", 'SKILL 2'!$I22)","v":""},{"$f":"IF('SKILL 2'!$J22=\"\", \"\", 'SKILL 2'!$J22)","v":""},{"$f":"IF('SKILL 2'!$L$11=\"\", \"\", 'SKILL 2'!$L$11)","v":""},{"$f":"IF('SKILL 2'!$L$14=\"\", \"\", 'SKILL 2'!$L$14)","v":""},{"$f":"IF('SKILL 2'!$K22=\"\", \"\", 'SKILL 2'!$K22)","v":""},{"$f":"IF('SKILL 2'!$L22=\"\", \"\", 'SKILL 2'!$L22)","v":""},{"$f":"IF('SKILL 2'!$M22=\"\", \"\", 'SKILL 2'!$M22)","v":""},{"$f":"IF('SKILL 3'!$C$7=\"\", \"\", 'SKILL 3'!$C$7)","v":""},{"$f":"IF('SKILL 3'!$G$11=\"\", \"\", 'SKILL 3'!$G$11)","v":""},{"$f":"IF('SKILL 3'!$G$14=\"\", \"\", 'SKILL 3'!$G$14)","v":""},{"$f":"IF('SKILL 3'!$G22=\"\", \"\", 'SKILL 3'!$G22)","v":""},{"$f":"IF('SKILL 3'!$I$11=\"\", \"\", 'SKILL 3'!$I$11)","v":""},{"$f":"IF('SKILL 3'!$I$14=\"\", \"\", 'SKILL 3'!$I$14)","v":""},{"$f":"IF('SKILL 3'!$H22=\"\", \"\", 'SKILL 3'!$H22)","v":""},{"$f":"IF('SKILL 3'!$I22=\"\", \"\", 'SKILL 3'!$I22)","v":""},{"$f":"IF('SKILL 3'!$J22=\"\", \"\", 'SKILL 3'!$J22)","v":""},{"$f":"IF('SKILL 3'!$L$11=\"\", \"\", 'SKILL 3'!$L$11)","v":""},{"$f":"IF('SKILL 3'!$L$14=\"\", \"\", 'SKILL 3'!$L$14)","v":""},{"$f":"IF('SKILL 3'!$K22=\"\", \"\", 'SKILL 3'!$K22)","v":""},{"$f":"IF('SKILL 3'!$L22=\"\", \"\", 'SKILL 3'!$L22)","v":""},{"$f":"IF('SKILL 3'!$M22=\"\", \"\", 'SKILL 3'!$M22)","v":""},{"$f":"IF('SKILL 4'!$C$7=\"\", \"\", 'SKILL 4'!$C$7)","v":""},{"$f":"IF('SKILL 4'!$G$11=\"\", \"\", 'SKILL 4'!$G$11)","v":""},{"$f":"IF('SKILL 4'!$G$14=\"\", \"\", 'SKILL 4'!$G$14)","v":""},{"$f":"IF('SKILL 4'!$G22=\"\", \"\", 'SKILL 4'!$G22)","v":""},{"$f":"IF('SKILL 4'!$I$11=\"\", \"\", 'SKILL 4'!$I$11)","v":""},{"$f":"IF('SKILL 4'!$I$14=\"\", \"\", 'SKILL 4'!$I$14)","v":""},{"$f":"IF('SKILL 4'!$H22=\"\", \"\", 'SKILL 4'!$H22)","v":""},{"$f":"IF('SKILL 4'!$I22=\"\", \"\", 'SKILL 4'!$I22)","v":""},{"$f":"IF('SKILL 4'!$J22=\"\", \"\", 'SKILL 4'!$J22)","v":""},{"$f":"IF('SKILL 4'!$L$11=\"\", \"\", 'SKILL 4'!$L$11)","v":""},{"$f":"IF('SKILL 4'!$L$14=\"\", \"\", 'SKILL 4'!$L$14)","v":""},{"$f":"IF('SKILL 4'!$K22=\"\", \"\", 'SKILL 4'!$K22)","v":""},{"$f":"IF('SKILL 4'!$L22=\"\", \"\", 'SKILL 4'!$L22)","v":""},{"$f":"IF('SKILL 4'!$M22=\"\", \"\", 'SKILL 4'!$M22)","v":""},{"$f":"IF('SKILL 5'!$C$7=\"\", \"\", 'SKILL 5'!$C$7)","v":""},{"$f":"IF('SKILL 5'!$G$11=\"\", \"\", 'SKILL 5'!$G$11)","v":""},{"$f":"IF('SKILL 5'!$G$14=\"\", \"\", 'SKILL 5'!$G$14)","v":""},{"$f":"IF('SKILL 5'!$G22=\"\", \"\", 'SKILL 5'!$G22)","v":""},{"$f":"IF('SKILL 5'!$I$11=\"\", \"\", 'SKILL 5'!$I$11)","v":""},{"$f":"IF('SKILL 5'!$I$14=\"\", \"\", 'SKILL 5'!$I$14)","v":""},{"$f":"IF('SKILL 5'!$H22=\"\", \"\", 'SKILL 5'!$H22)","v":""},{"$f":"IF('SKILL 5'!$I22=\"\", \"\", 'SKILL 5'!$I22)","v":""},{"$f":"IF('SKILL 5'!$J22=\"\", \"\", 'SKILL 5'!$J22)","v":""},{"$f":"IF('SKILL 5'!$L$11=\"\", \"\", 'SKILL 5'!$L$11)","v":""},{"$f":"IF('SKILL 5'!$L$14=\"\", \"\", 'SKILL 5'!$L$14)","v":""},{"$f":"IF('SKILL 5'!$K22=\"\", \"\", 'SKILL 5'!$K22)","v":""},{"$f":"IF('SKILL 5'!$L22=\"\", \"\", 'SKILL 5'!$L22)","v":""},{"$f":"IF('SKILL 5'!$M22=\"\", \"\", 'SKILL 5'!$M22)","v":""},{"$f":"IF('SKILL 6'!$C$7=\"\", \"\", 'SKILL 6'!$C$7)","v":""},{"$f":"IF('SKILL 6'!$G$11=\"\", \"\", 'SKILL 6'!$G$11)","v":""},{"$f":"IF('SKILL 6'!$G$14=\"\", \"\", 'SKILL 6'!$G$14)","v":""},{"$f":"IF('SKILL 6'!$G22=\"\", \"\", 'SKILL 6'!$G22)","v":""},{"$f":"IF('SKILL 6'!$I$11=\"\", \"\", 'SKILL 6'!$I$11)","v":""},{"$f":"IF('SKILL 6'!$I$14=\"\", \"\", 'SKILL 6'!$I$14)","v":""},{"$f":"IF('SKILL 6'!$H22=\"\", \"\", 'SKILL 6'!$H22)","v":""},{"$f":"IF('SKILL 6'!$I22=\"\", \"\", 'SKILL 6'!$I22)","v":""},{"$f":"IF('SKILL 6'!$J22=\"\", \"\", 'SKILL 6'!$J22)","v":""},{"$f":"IF('SKILL 6'!$L$11=\"\", \"\", 'SKILL 6'!$L$11)","v":""},{"$f":"IF('SKILL 6'!$L$14=\"\", \"\", 'SKILL 6'!$L$14)","v":""},{"$f":"IF('SKILL 6'!$K22=\"\", \"\", 'SKILL 6'!$K22)","v":""},{"$f":"IF('SKILL 6'!$L22=\"\", \"\", 'SKILL 6'!$L22)","v":""},{"$f":"IF('SKILL 6'!$M22=\"\", \"\", 'SKILL 6'!$M22)","v":""}]
[{"$f":"IF(ATTENDANCE!$D$21=\"\", \"\", ATTENDANCE!$D$21)","v":""},{"$f":"IF(ATTENDANCE!$C$3=\"\", \"\", ATTENDANCE!$C$3)","v":""},{"$f":"IF(ATTENDANCE!$C$4=\"\", \"\", ATTENDANCE!$C$4)","v":""},{"$f":"IF(ATTENDANCE!$C$5=\"\", \"\", ATTENDANCE!$C$5)","v":""},{"$f":"IF(ATTENDANCE!$C$6=\"\", \"\", ATTENDANCE!$C$6)","v":""},{"$f":"IF(ATTENDANCE!$F$11=\"\", \"\", ATTENDANCE!$F$11)","v":""},{"$f":"IF(ATTENDANCE!$F$12=\"\", \"\", ATTENDANCE!$F$12)","v":""},{"$f":"IF(ATTENDANCE!$F21=\"\", \"\", ATTENDANCE!$F21)","v":""},{"$f":"IF(ATTENDANCE!$G21=\"\", \"\", ATTENDANCE!$G21)","v":""},{"$f":"IF(ATTENDANCE!$H$11=\"\", \"\", ATTENDANCE!$H$11)","v":""},{"$f":"IF(ATTENDANCE!$H$12=\"\", \"\", ATTENDANCE!$H$12)","v":""},{"$f":"IF(ATTENDANCE!$H21=\"\", \"\", ATTENDANCE!$H21)","v":""},{"$f":"IF(ATTENDANCE!$I$11=\"\", \"\", ATTENDANCE!$I$11)","v":""},{"$f":"IF(ATTENDANCE!$I$12=\"\", \"\", ATTENDANCE!$I$12)","v":""},{"$f":"IF(ATTENDANCE!$I21=\"\", \"\", ATTENDANCE!$I21)","v":""},{"$f":"IF('SKILL 1'!$C$7=\"\", \"\", 'SKILL 1'!$C$7)","v":""},{"$f":"IF('SKILL 1'!$G$11=\"\", \"\", 'SKILL 1'!$G$11)","v":""},{"$f":"IF('SKILL 1'!$G$14=\"\", \"\", 'SKILL 1'!$G$14)","v":""},{"$f":"IF('SKILL 1'!$G23=\"\", \"\", 'SKILL 1'!$G23)","v":""},{"$f":"IF('SKILL 1'!$I$11=\"\", \"\", 'SKILL 1'!$I$11)","v":""},{"$f":"IF('SKILL 1'!$I$14=\"\", \"\", 'SKILL 1'!$I$14)","v":""},{"$f":"IF('SKILL 1'!$H23=\"\", \"\", 'SKILL 1'!$H23)","v":""},{"$f":"IF('SKILL 1'!$I23=\"\", \"\", 'SKILL 1'!$I23)","v":""},{"$f":"IF('SKILL 1'!$J23=\"\", \"\", 'SKILL 1'!$J23)","v":""},{"$f":"IF('SKILL 1'!$L$11=\"\", \"\", 'SKILL 1'!$L$11)","v":""},{"$f":"IF('SKILL 1'!$L$14=\"\", \"\", 'SKILL 1'!$L$14)","v":""},{"$f":"IF('SKILL 1'!$K23=\"\", \"\", 'SKILL 1'!$K23)","v":""},{"$f":"IF('SKILL 1'!$L23=\"\", \"\", 'SKILL 1'!$L23)","v":""},{"$f":"IF('SKILL 1'!$M23=\"\", \"\", 'SKILL 1'!$M23)","v":""},{"$f":"IF('SKILL 2'!$C$7=\"\", \"\", 'SKILL 2'!$C$7)","v":""},{"$f":"IF('SKILL 2'!$G$11=\"\", \"\", 'SKILL 2'!$G$11)","v":""},{"$f":"IF('SKILL 2'!$G$14=\"\", \"\", 'SKILL 2'!$G$14)","v":""},{"$f":"IF('SKILL 2'!$G23=\"\", \"\", 'SKILL 2'!$G23)","v":""},{"$f":"IF('SKILL 2'!$I$11=\"\", \"\", 'SKILL 2'!$I$11)","v":""},{"$f":"IF('SKILL 2'!$I$14=\"\", \"\", 'SKILL 2'!$I$14)","v":""},{"$f":"IF('SKILL 2'!$H23=\"\", \"\", 'SKILL 2'!$H23)","v":""},{"$f":"IF('SKILL 2'!$I23=\"\", \"\", 'SKILL 2'!$I23)","v":""},{"$f":"IF('SKILL 2'!$J23=\"\", \"\", 'SKILL 2'!$J23)","v":""},{"$f":"IF('SKILL 2'!$L$11=\"\", \"\", 'SKILL 2'!$L$11)","v":""},{"$f":"IF('SKILL 2'!$L$14=\"\", \"\", 'SKILL 2'!$L$14)","v":""},{"$f":"IF('SKILL 2'!$K23=\"\", \"\", 'SKILL 2'!$K23)","v":""},{"$f":"IF('SKILL 2'!$L23=\"\", \"\", 'SKILL 2'!$L23)","v":""},{"$f":"IF('SKILL 2'!$M23=\"\", \"\", 'SKILL 2'!$M23)","v":""},{"$f":"IF('SKILL 3'!$C$7=\"\", \"\", 'SKILL 3'!$C$7)","v":""},{"$f":"IF('SKILL 3'!$G$11=\"\", \"\", 'SKILL 3'!$G$11)","v":""},{"$f":"IF('SKILL 3'!$G$14=\"\", \"\", 'SKILL 3'!$G$14)","v":""},{"$f":"IF('SKILL 3'!$G23=\"\", \"\", 'SKILL 3'!$G23)","v":""},{"$f":"IF('SKILL 3'!$I$11=\"\", \"\", 'SKILL 3'!$I$11)","v":""},{"$f":"IF('SKILL 3'!$I$14=\"\", \"\", 'SKILL 3'!$I$14)","v":""},{"$f":"IF('SKILL 3'!$H23=\"\", \"\", 'SKILL 3'!$H23)","v":""},{"$f":"IF('SKILL 3'!$I23=\"\", \"\", 'SKILL 3'!$I23)","v":""},{"$f":"IF('SKILL 3'!$J23=\"\", \"\", 'SKILL 3'!$J23)","v":""},{"$f":"IF('SKILL 3'!$L$11=\"\", \"\", 'SKILL 3'!$L$11)","v":""},{"$f":"IF('SKILL 3'!$L$14=\"\", \"\", 'SKILL 3'!$L$14)","v":""},{"$f":"IF('SKILL 3'!$K23=\"\", \"\", 'SKILL 3'!$K23)","v":""},{"$f":"IF('SKILL 3'!$L23=\"\", \"\", 'SKILL 3'!$L23)","v":""},{"$f":"IF('SKILL 3'!$M23=\"\", \"\", 'SKILL 3'!$M23)","v":""},{"$f":"IF('SKILL 4'!$C$7=\"\", \"\", 'SKILL 4'!$C$7)","v":""},{"$f":"IF('SKILL 4'!$G$11=\"\", \"\", 'SKILL 4'!$G$11)","v":""},{"$f":"IF('SKILL 4'!$G$14=\"\", \"\", 'SKILL 4'!$G$14)","v":""},{"$f":"IF('SKILL 4'!$G23=\"\", \"\", 'SKILL 4'!$G23)","v":""},{"$f":"IF('SKILL 4'!$I$11=\"\", \"\", 'SKILL 4'!$I$11)","v":""},{"$f":"IF('SKILL 4'!$I$14=\"\", \"\", 'SKILL 4'!$I$14)","v":""},{"$f":"IF('SKILL 4'!$H23=\"\", \"\", 'SKILL 4'!$H23)","v":""},{"$f":"IF('SKILL 4'!$I23=\"\", \"\", 'SKILL 4'!$I23)","v":""},{"$f":"IF('SKILL 4'!$J23=\"\", \"\", 'SKILL 4'!$J23)","v":""},{"$f":"IF('SKILL 4'!$L$11=\"\", \"\", 'SKILL 4'!$L$11)","v":""},{"$f":"IF('SKILL 4'!$L$14=\"\", \"\", 'SKILL 4'!$L$14)","v":""},{"$f":"IF('SKILL 4'!$K23=\"\", \"\", 'SKILL 4'!$K23)","v":""},{"$f":"IF('SKILL 4'!$L23=\"\", \"\", 'SKILL 4'!$L23)","v":""},{"$f":"IF('SKILL 4'!$M23=\"\", \"\", 'SKILL 4'!$M23)","v":""},{"$f":"IF('SKILL 5'!$C$7=\"\", \"\", 'SKILL 5'!$C$7)","v":""},{"$f":"IF('SKILL 5'!$G$11=\"\", \"\", 'SKILL 5'!$G$11)","v":""},{"$f":"IF('SKILL 5'!$G$14=\"\", \"\", 'SKILL 5'!$G$14)","v":""},{"$f":"IF('SKILL 5'!$G23=\"\", \"\", 'SKILL 5'!$G23)","v":""},{"$f":"IF('SKILL 5'!$I$11=\"\", \"\", 'SKILL 5'!$I$11)","v":""},{"$f":"IF('SKILL 5'!$I$14=\"\", \"\", 'SKILL 5'!$I$14)","v":""},{"$f":"IF('SKILL 5'!$H23=\"\", \"\", 'SKILL 5'!$H23)","v":""},{"$f":"IF('SKILL 5'!$I23=\"\", \"\", 'SKILL 5'!$I23)","v":""},{"$f":"IF('SKILL 5'!$J23=\"\", \"\", 'SKILL 5'!$J23)","v":""},{"$f":"IF('SKILL 5'!$L$11=\"\", \"\", 'SKILL 5'!$L$11)","v":""},{"$f":"IF('SKILL 5'!$L$14=\"\", \"\", 'SKILL 5'!$L$14)","v":""},{"$f":"IF('SKILL 5'!$K23=\"\", \"\", 'SKILL 5'!$K23)","v":""},{"$f":"IF('SKILL 5'!$L23=\"\", \"\", 'SKILL 5'!$L23)","v":""},{"$f":"IF('SKILL 5'!$M23=\"\", \"\", 'SKILL 5'!$M23)","v":""},{"$f":"IF('SKILL 6'!$C$7=\"\", \"\", 'SKILL 6'!$C$7)","v":""},{"$f":"IF('SKILL 6'!$G$11=\"\", \"\", 'SKILL 6'!$G$11)","v":""},{"$f":"IF('SKILL 6'!$G$14=\"\", \"\", 'SKILL 6'!$G$14)","v":""},{"$f":"IF('SKILL 6'!$G23=\"\", \"\", 'SKILL 6'!$G23)","v":""},{"$f":"IF('SKILL 6'!$I$11=\"\", \"\", 'SKILL 6'!$I$11)","v":""},{"$f":"IF('SKILL 6'!$I$14=\"\", \"\", 'SKILL 6'!$I$14)","v":""},{"$f":"IF('SKILL 6'!$H23=\"\", \"\", 'SKILL 6'!$H23)","v":""},{"$f":"IF('SKILL 6'!$I23=\"\", \"\", 'SKILL 6'!$I23)","v":""},{"$f":"IF('SKILL 6'!$J23=\"\", \"\", 'SKILL 6'!$J23)","v":""},{"$f":"IF('SKILL 6'!$L$11=\"\", \"\", 'SKILL 6'!$L$11)","v":""},{"$f":"IF('SKILL 6'!$L$14=\"\", \"\", 'SKILL 6'!$L$14)","v":""},{"$f":"IF('SKILL 6'!$K23=\"\", \"\", 'SKILL 6'!$K23)","v":""},{"$f":"IF('SKILL 6'!$L23=\"\", \"\", 'SKILL 6'!$L23)","v":""},{"$f":"IF('SKILL 6'!$M23=\"\", \"\", 'SKILL 6'!$M23)","v":""}]
[{"$f":"IF(ATTENDANCE!$D$22=\"\", \"\", ATTENDANCE!$D$22)","v":""},{"$f":"IF(ATTENDANCE!$C$3=\"\", \"\", ATTENDANCE!$C$3)","v":""},{"$f":"IF(ATTENDANCE!$C$4=\"\", \"\", ATTENDANCE!$C$4)","v":""},{"$f":"IF(ATTENDANCE!$C$5=\"\", \"\", ATTENDANCE!$C$5)","v":""},{"$f":"IF(ATTENDANCE!$C$6=\"\", \"\", ATTENDANCE!$C$6)","v":""},{"$f":"IF(ATTENDANCE!$F$11=\"\", \"\", ATTENDANCE!$F$11)","v":""},{"$f":"IF(ATTENDANCE!$F$12=\"\", \"\", ATTENDANCE!$F$12)","v":""},{"$f":"IF(ATTENDANCE!$F22=\"\", \"\", ATTENDANCE!$F22)","v":""},{"$f":"IF(ATTENDANCE!$G22=\"\", \"\", ATTENDANCE!$G22)","v":""},{"$f":"IF(ATTENDANCE!$H$11=\"\", \"\", ATTENDANCE!$H$11)","v":""},{"$f":"IF(ATTENDANCE!$H$12=\"\", \"\", ATTENDANCE!$H$12)","v":""},{"$f":"IF(ATTENDANCE!$H22=\"\", \"\", ATTENDANCE!$H22)","v":""},{"$f":"IF(ATTENDANCE!$I$11=\"\", \"\", ATTENDANCE!$I$11)","v":""},{"$f":"IF(ATTENDANCE!$I$12=\"\", \"\", ATTENDANCE!$I$12)","v":""},{"$f":"IF(ATTENDANCE!$I22=\"\", \"\", ATTENDANCE!$I22)","v":""},{"$f":"IF('SKILL 1'!$C$7=\"\", \"\", 'SKILL 1'!$C$7)","v":""},{"$f":"IF('SKILL 1'!$G$11=\"\", \"\", 'SKILL 1'!$G$11)","v":""},{"$f":"IF('SKILL 1'!$G$14=\"\", \"\", 'SKILL 1'!$G$14)","v":""},{"$f":"IF('SKILL 1'!$G24=\"\", \"\", 'SKILL 1'!$G24)","v":""},{"$f":"IF('SKILL 1'!$I$11=\"\", \"\", 'SKILL 1'!$I$11)","v":""},{"$f":"IF('SKILL 1'!$I$14=\"\", \"\", 'SKILL 1'!$I$14)","v":""},{"$f":"IF('SKILL 1'!$H24=\"\", \"\", 'SKILL 1'!$H24)","v":""},{"$f":"IF('SKILL 1'!$I24=\"\", \"\", 'SKILL 1'!$I24)","v":""},{"$f":"IF('SKILL 1'!$J24=\"\", \"\", 'SKILL 1'!$J24)","v":""},{"$f":"IF('SKILL 1'!$L$11=\"\", \"\", 'SKILL 1'!$L$11)","v":""},{"$f":"IF('SKILL 1'!$L$14=\"\", \"\", 'SKILL 1'!$L$14)","v":""},{"$f":"IF('SKILL 1'!$K24=\"\", \"\", 'SKILL 1'!$K24)","v":""},{"$f":"IF('SKILL 1'!$L24=\"\", \"\", 'SKILL 1'!$L24)","v":""},{"$f":"IF('SKILL 1'!$M24=\"\", \"\", 'SKILL 1'!$M24)","v":""},{"$f":"IF('SKILL 2'!$C$7=\"\", \"\", 'SKILL 2'!$C$7)","v":""},{"$f":"IF('SKILL 2'!$G$11=\"\", \"\", 'SKILL 2'!$G$11)","v":""},{"$f":"IF('SKILL 2'!$G$14=\"\", \"\", 'SKILL 2'!$G$14)","v":""},{"$f":"IF('SKILL 2'!$G24=\"\", \"\", 'SKILL 2'!$G24)","v":""},{"$f":"IF('SKILL 2'!$I$11=\"\", \"\", 'SKILL 2'!$I$11)","v":""},{"$f":"IF('SKILL 2'!$I$14=\"\", \"\", 'SKILL 2'!$I$14)","v":""},{"$f":"IF('SKILL 2'!$H24=\"\", \"\", 'SKILL 2'!$H24)","v":""},{"$f":"IF('SKILL 2'!$I24=\"\", \"\", 'SKILL 2'!$I24)","v":""},{"$f":"IF('SKILL 2'!$J24=\"\", \"\", 'SKILL 2'!$J24)","v":""},{"$f":"IF('SKILL 2'!$L$11=\"\", \"\", 'SKILL 2'!$L$11)","v":""},{"$f":"IF('SKILL 2'!$L$14=\"\", \"\", 'SKILL 2'!$L$14)","v":""},{"$f":"IF('SKILL 2'!$K24=\"\", \"\", 'SKILL 2'!$K24)","v":""},{"$f":"IF('SKILL 2'!$L24=\"\", \"\", 'SKILL 2'!$L24)","v":""},{"$f":"IF('SKILL 2'!$M24=\"\", \"\", 'SKILL 2'!$M24)","v":""},{"$f":"IF('SKILL 3'!$C$7=\"\", \"\", 'SKILL 3'!$C$7)","v":""},{"$f":"IF('SKILL 3'!$G$11=\"\", \"\", 'SKILL 3'!$G$11)","v":""},{"$f":"IF('SKILL 3'!$G$14=\"\", \"\", 'SKILL 3'!$G$14)","v":""},{"$f":"IF('SKILL 3'!$G24=\"\", \"\", 'SKILL 3'!$G24)","v":""},{"$f":"IF('SKILL 3'!$I$11=\"\", \"\", 'SKILL 3'!$I$11)","v":""},{"$f":"IF('SKILL 3'!$I$14=\"\", \"\", 'SKILL 3'!$I$14)","v":""},{"$f":"IF('SKILL 3'!$H24=\"\", \"\", 'SKILL 3'!$H24)","v":""},{"$f":"IF('SKILL 3'!$I24=\"\", \"\", 'SKILL 3'!$I24)","v":""},{"$f":"IF('SKILL 3'!$J24=\"\", \"\", 'SKILL 3'!$J24)","v":""},{"$f":"IF('SKILL 3'!$L$11=\"\", \"\", 'SKILL 3'!$L$11)","v":""},{"$f":"IF('SKILL 3'!$L$14=\"\", \"\", 'SKILL 3'!$L$14)","v":""},{"$f":"IF('SKILL 3'!$K24=\"\", \"\", 'SKILL 3'!$K24)","v":""},{"$f":"IF('SKILL 3'!$L24=\"\", \"\", 'SKILL 3'!$L24)","v":""},{"$f":"IF('SKILL 3'!$M24=\"\", \"\", 'SKILL 3'!$M24)","v":""},{"$f":"IF('SKILL 4'!$C$7=\"\", \"\", 'SKILL 4'!$C$7)","v":""},{"$f":"IF('SKILL 4'!$G$11=\"\", \"\", 'SKILL 4'!$G$11)","v":""},{"$f":"IF('SKILL 4'!$G$14=\"\", \"\", 'SKILL 4'!$G$14)","v":""},{"$f":"IF('SKILL 4'!$G24=\"\", \"\", 'SKILL 4'!$G24)","v":""},{"$f":"IF('SKILL 4'!$I$11=\"\", \"\", 'SKILL 4'!$I$11)","v":""},{"$f":"IF('SKILL 4'!$I$14=\"\", \"\", 'SKILL 4'!$I$14)","v":""},{"$f":"IF('SKILL 4'!$H24=\"\", \"\", 'SKILL 4'!$H24)","v":""},{"$f":"IF('SKILL 4'!$I24=\"\", \"\", 'SKILL 4'!$I24)","v":""},{"$f":"IF('SKILL 4'!$J24=\"\", \"\", 'SKILL 4'!$J24)","v":""},{"$f":"IF('SKILL 4'!$L$11=\"\", \"\", 'SKILL 4'!$L$11)","v":""},{"$f":"IF('SKILL 4'!$L$14=\"\", \"\", 'SKILL 4'!$L$14)","v":""},{"$f":"IF('SKILL 4'!$K24=\"\", \"\", 'SKILL 4'!$K24)","v":""},{"$f":"IF('SKILL 4'!$L24=\"\", \"\", 'SKILL 4'!$L24)","v":""},{"$f":"IF('SKILL 4'!$M24=\"\", \"\", 'SKILL 4'!$M24)","v":""},{"$f":"IF('SKILL 5'!$C$7=\"\", \"\", 'SKILL 5'!$C$7)","v":""},{"$f":"IF('SKILL 5'!$G$11=\"\", \"\", 'SKILL 5'!$G$11)","v":""},{"$f":"IF('SKILL 5'!$G$14=\"\", \"\", 'SKILL 5'!$G$14)","v":""},{"$f":"IF('SKILL 5'!$G24=\"\", \"\", 'SKILL 5'!$G24)","v":""},{"$f":"IF('SKILL 5'!$I$11=\"\", \"\", 'SKILL 5'!$I$11)","v":""},{"$f":"IF('SKILL 5'!$I$14=\"\", \"\", 'SKILL 5'!$I$14)","v":""},{"$f":"IF('SKILL 5'!$H24=\"\", \"\", 'SKILL 5'!$H24)","v":""},{"$f":"IF('SKILL 5'!$I24=\"\", \"\", 'SKILL 5'!$I24)","v":""},{"$f":"IF('SKILL 5'!$J24=\"\", \"\", 'SKILL 5'!$J24)","v":""},{"$f":"IF('SKILL 5'!$L$11=\"\", \"\", 'SKILL 5'!$L$11)","v":""},{"$f":"IF('SKILL 5'!$L$14=\"\", \"\", 'SKILL 5'!$L$14)","v":""},{"$f":"IF('SKILL 5'!$K24=\"\", \"\", 'SKILL 5'!$K24)","v":""},{"$f":"IF('SKILL 5'!$L24=\"\", \"\", 'SKILL 5'!$L24)","v":""},{"$f":"IF('SKILL 5'!$M24=\"\", \"\", 'SKILL 5'!$M24)","v":""},{"$f":"IF('SKILL 6'!$C$7=\"\", \"\", 'SKILL 6'!$C$7)","v":""},{"$f":"IF('SKILL 6'!$G$11=\"\", \"\", 'SKILL 6'!$G$11)","v":""},{"$f":"IF('SKILL 6'!$G$14=\"\", \"\", 'SKILL 6'!$G$14)","v":""},{"$f":"IF('SKILL 6'!$G24=\"\", \"\", 'SKILL 6'!$G24)","v":""},{"$f":"IF('SKILL 6'!$I$11=\"\", \"\", 'SKILL 6'!$I$11)","v":""},{"$f":"IF('SKILL 6'!$I$14=\"\", \"\", 'SKILL 6'!$I$14)","v":""},{"$f":"IF('SKILL 6'!$H24=\"\", \"\", 'SKILL 6'!$H24)","v":""},{"$f":"IF('SKILL 6'!$I24=\"\", \"\", 'SKILL 6'!$I24)","v":""},{"$f":"IF('SKILL 6'!$J24=\"\", \"\", 'SKILL 6'!$J24)","v":""},{"$f":"IF('SKILL 6'!$L$11=\"\", \"\", 'SKILL 6'!$L$11)","v":""},{"$f":"IF('SKILL 6'!$L$14=\"\", \"\", 'SKILL 6'!$L$14)","v":""},{"$f":"IF('SKILL 6'!$K24=\"\", \"\", 'SKILL 6'!$K24)","v":""},{"$f":"IF('SKILL 6'!$L24=\"\", \"\", 'SKILL 6'!$L24)","v":""},{"$f":"IF('SKILL 6'!$M24=\"\", \"\", 'SKILL 6'!$M24)","v":""}]
[{"$f":"IF(ATTENDANCE!$D$23=\"\", \"\", ATTENDANCE!$D$23)","v":""},{"$f":"IF(ATTENDANCE!$C$3=\"\", \"\", ATTENDANCE!$C$3)","v":""},{"$f":"IF(ATTENDANCE!$C$4=\"\", \"\", ATTENDANCE!$C$4)","v":""},{"$f":"IF(ATTENDANCE!$C$5=\"\", \"\", ATTENDANCE!$C$5)","v":""},{"$f":"IF(ATTENDANCE!$C$6=\"\", \"\", ATTENDANCE!$C$6)","v":""},{"$f":"IF(ATTENDANCE!$F$11=\"\", \"\", ATTENDANCE!$F$11)","v":""},{"$f":"IF(ATTENDANCE!$F$12=\"\", \"\", ATTENDANCE!$F$12)","v":""},{"$f":"IF(ATTENDANCE!$F23=\"\", \"\", ATTENDANCE!$F23)","v":""},{"$f":"IF(ATTENDANCE!$G23=\"\", \"\", ATTENDANCE!$G23)","v":""},{"$f":"IF(ATTENDANCE!$H$11=\"\", \"\", ATTENDANCE!$H$11)","v":""},{"$f":"IF(ATTENDANCE!$H$12=\"\", \"\", ATTENDANCE!$H$12)","v":""},{"$f":"IF(ATTENDANCE!$H23=\"\", \"\", ATTENDANCE!$H23)","v":""},{"$f":"IF(ATTENDANCE!$I$11=\"\", \"\", ATTENDANCE!$I$11)","v":""},{"$f":"IF(ATTENDANCE!$I$12=\"\", \"\", ATTENDANCE!$I$12)","v":""},{"$f":"IF(ATTENDANCE!$I23=\"\", \"\", ATTENDANCE!$I23)","v":""},{"$f":"IF('SKILL 1'!$C$7=\"\", \"\", 'SKILL 1'!$C$7)","v":""},{"$f":"IF('SKILL 1'!$G$11=\"\", \"\", 'SKILL 1'!$G$11)","v":""},{"$f":"IF('SKILL 1'!$G$14=\"\", \"\", 'SKILL 1'!$G$14)","v":""},{"$f":"IF('SKILL 1'!$G25=\"\", \"\", 'SKILL 1'!$G25)","v":""},{"$f":"IF('SKILL 1'!$I$11=\"\", \"\", 'SKILL 1'!$I$11)","v":""},{"$f":"IF('SKILL 1'!$I$14=\"\", \"\", 'SKILL 1'!$I$14)","v":""},{"$f":"IF('SKILL 1'!$H25=\"\", \"\", 'SKILL 1'!$H25)","v":""},{"$f":"IF('SKILL 1'!$I25=\"\", \"\", 'SKILL 1'!$I25)","v":""},{"$f":"IF('SKILL 1'!$J25=\"\", \"\", 'SKILL 1'!$J25)","v":""},{"$f":"IF('SKILL 1'!$L$11=\"\", \"\", 'SKILL 1'!$L$11)","v":""},{"$f":"IF('SKILL 1'!$L$14=\"\", \"\", 'SKILL 1'!$L$14)","v":""},{"$f":"IF('SKILL 1'!$K25=\"\", \"\", 'SKILL 1'!$K25)","v":""},{"$f":"IF('SKILL 1'!$L25=\"\", \"\", 'SKILL 1'!$L25)","v":""},{"$f":"IF('SKILL 1'!$M25=\"\", \"\", 'SKILL 1'!$M25)","v":""},{"$f":"IF('SKILL 2'!$C$7=\"\", \"\", 'SKILL 2'!$C$7)","v":""},{"$f":"IF('SKILL 2'!$G$11=\"\", \"\", 'SKILL 2'!$G$11)","v":""},{"$f":"IF('SKILL 2'!$G$14=\"\", \"\", 'SKILL 2'!$G$14)","v":""},{"$f":"IF('SKILL 2'!$G25=\"\", \"\", 'SKILL 2'!$G25)","v":""},{"$f":"IF('SKILL 2'!$I$11=\"\", \"\", 'SKILL 2'!$I$11)","v":""},{"$f":"IF('SKILL 2'!$I$14=\"\", \"\", 'SKILL 2'!$I$14)","v":""},{"$f":"IF('SKILL 2'!$H25=\"\", \"\", 'SKILL 2'!$H25)","v":""},{"$f":"IF('SKILL 2'!$I25=\"\", \"\", 'SKILL 2'!$I25)","v":""},{"$f":"IF('SKILL 2'!$J25=\"\", \"\", 'SKILL 2'!$J25)","v":""},{"$f":"IF('SKILL 2'!$L$11=\"\", \"\", 'SKILL 2'!$L$11)","v":""},{"$f":"IF('SKILL 2'!$L$14=\"\", \"\", 'SKILL 2'!$L$14)","v":""},{"$f":"IF('SKILL 2'!$K25=\"\", \"\", 'SKILL 2'!$K25)","v":""},{"$f":"IF('SKILL 2'!$L25=\"\", \"\", 'SKILL 2'!$L25)","v":""},{"$f":"IF('SKILL 2'!$M25=\"\", \"\", 'SKILL 2'!$M25)","v":""},{"$f":"IF('SKILL 3'!$C$7=\"\", \"\", 'SKILL 3'!$C$7)","v":""},{"$f":"IF('SKILL 3'!$G$11=\"\", \"\", 'SKILL 3'!$G$11)","v":""},{"$f":"IF('SKILL 3'!$G$14=\"\", \"\", 'SKILL 3'!$G$14)","v":""},{"$f":"IF('SKILL 3'!$G25=\"\", \"\", 'SKILL 3'!$G25)","v":""},{"$f":"IF('SKILL 3'!$I$11=\"\", \"\", 'SKILL 3'!$I$11)","v":""},{"$f":"IF('SKILL 3'!$I$14=\"\", \"\", 'SKILL 3'!$I$14)","v":""},{"$f":"IF('SKILL 3'!$H25=\"\", \"\", 'SKILL 3'!$H25)","v":""},{"$f":"IF('SKILL 3'!$I25=\"\", \"\", 'SKILL 3'!$I25)","v":""},{"$f":"IF('SKILL 3'!$J25=\"\", \"\", 'SKILL 3'!$J25)","v":""},{"$f":"IF('SKILL 3'!$L$11=\"\", \"\", 'SKILL 3'!$L$11)","v":""},{"$f":"IF('SKILL 3'!$L$14=\"\", \"\", 'SKILL 3'!$L$14)","v":""},{"$f":"IF('SKILL 3'!$K25=\"\", \"\", 'SKILL 3'!$K25)","v":""},{"$f":"IF('SKILL 3'!$L25=\"\", \"\", 'SKILL 3'!$L25)","v":""},{"$f":"IF('SKILL 3'!$M25=\"\", \"\", 'SKILL 3'!$M25)","v":""},{"$f":"IF('SKILL 4'!$C$7=\"\", \"\", 'SKILL 4'!$C$7)","v":""},{"$f":"IF('SKILL 4'!$G$11=\"\", \"\", 'SKILL 4'!$G$11)","v":""},{"$f":"IF('SKILL 4'!$G$14=\"\", \"\", 'SKILL 4'!$G$14)","v":""},{"$f":"IF('SKILL 4'!$G25=\"\", \"\", 'SKILL 4'!$G25)","v":""},{"$f":"IF('SKILL 4'!$I$11=\"\", \"\", 'SKILL 4'!$I$11)","v":""},{"$f":"IF('SKILL 4'!$I$14=\"\", \"\", 'SKILL 4'!$I$14)","v":""},{"$f":"IF('SKILL 4'!$H25=\"\", \"\", 'SKILL 4'!$H25)","v":""},{"$f":"IF('SKILL 4'!$I25=\"\", \"\", 'SKILL 4'!$I25)","v":""},{"$f":"IF('SKILL 4'!$J25=\"\", \"\", 'SKILL 4'!$J25)","v":""},{"$f":"IF('SKILL 4'!$L$11=\"\", \"\", 'SKILL 4'!$L$11)","v":""},{"$f":"IF('SKILL 4'!$L$14=\"\", \"\", 'SKILL 4'!$L$14)","v":""},{"$f":"IF('SKILL 4'!$K25=\"\", \"\", 'SKILL 4'!$K25)","v":""},{"$f":"IF('SKILL 4'!$L25=\"\", \"\", 'SKILL 4'!$L25)","v":""},{"$f":"IF('SKILL 4'!$M25=\"\", \"\", 'SKILL 4'!$M25)","v":""},{"$f":"IF('SKILL 5'!$C$7=\"\", \"\", 'SKILL 5'!$C$7)","v":""},{"$f":"IF('SKILL 5'!$G$11=\"\", \"\", 'SKILL 5'!$G$11)","v":""},{"$f":"IF('SKILL 5'!$G$14=\"\", \"\", 'SKILL 5'!$G$14)","v":""},{"$f":"IF('SKILL 5'!$G25=\"\", \"\", 'SKILL 5'!$G25)","v":""},{"$f":"IF('SKILL 5'!$I$11=\"\", \"\", 'SKILL 5'!$I$11)","v":""},{"$f":"IF('SKILL 5'!$I$14=\"\", \"\", 'SKILL 5'!$I$14)","v":""},{"$f":"IF('SKILL 5'!$H25=\"\", \"\", 'SKILL 5'!$H25)","v":""},{"$f":"IF('SKILL 5'!$I25=\"\", \"\", 'SKILL 5'!$I25)","v":""},{"$f":"IF('SKILL 5'!$J25=\"\", \"\", 'SKILL 5'!$J25)","v":""},{"$f":"IF('SKILL 5'!$L$11=\"\", \"\", 'SKILL 5'!$L$11)","v":""},{"$f":"IF('SKILL 5'!$L$14=\"\", \"\", 'SKILL 5'!$L$14)","v":""},{"$f":"IF('SKILL 5'!$K25=\"\", \"\", 'SKILL 5'!$K25)","v":""},{"$f":"IF('SKILL 5'!$L25=\"\", \"\", 'SKILL 5'!$L25)","v":""},{"$f":"IF('SKILL 5'!$M25=\"\", \"\", 'SKILL 5'!$M25)","v":""},{"$f":"IF('SKILL 6'!$C$7=\"\", \"\", 'SKILL 6'!$C$7)","v":""},{"$f":"IF('SKILL 6'!$G$11=\"\", \"\", 'SKILL 6'!$G$11)","v":""},{"$f":"IF('SKILL 6'!$G$14=\"\", \"\", 'SKILL 6'!$G$14)","v":""},{"$f":"IF('SKILL 6'!$G25=\"\", \"\", 'SKILL 6'!$G25)","v":""},{"$f":"IF('SKILL 6'!$I$11=\"\", \"\", 'SKILL 6'!$I$11)","v":""},{"$f":"IF('SKILL 6'!$I$14=\"\", \"\", 'SKILL 6'!$I$14)","v":""},{"$f":"IF('SKILL 6'!$H25=\"\", \"\", 'SKILL 6'!$H25)","v":""},{"$f":"IF('SKILL 6'!$I25=\"\", \"\", 'SKILL 6'!$I25)","v":""},{"$f":"IF('SKILL 6'!$J25=\"\", \"\", 'SKILL 6'!$J25)","v":""},{"$f":"IF('SKILL 6'!$L$11=\"\", \"\", 'SKILL 6'!$L$11)","v":""},{"$f":"IF('SKILL 6'!$L$14=\"\", \"\", 'SKILL 6'!$L$14)","v":""},{"$f":"IF('SKILL 6'!$K25=\"\", \"\", 'SKILL 6'!$K25)","v":""},{"$f":"IF('SKILL 6'!$L25=\"\", \"\", 'SKILL 6'!$L25)","v":""},{"$f":"IF('SKILL 6'!$M25=\"\", \"\", 'SKILL 6'!$M25)","v":""}]
[{"$f":"IF(ATTENDANCE!$D$24=\"\", \"\", ATTENDANCE!$D$24)","v":""},{"$f":"IF(ATTENDANCE!$C$3=\"\", \"\", ATTENDANCE!$C$3)","v":""},{"$f":"IF(ATTENDANCE!$C$4=\"\", \"\", ATTENDANCE!$C$4)","v":""},{"$f":"IF(ATTENDANCE!$C$5=\"\", \"\", ATTENDANCE!$C$5)","v":""},{"$f":"IF(ATTENDANCE!$C$6=\"\", \"\", ATTENDANCE!$C$6)","v":""},{"$f":"IF(ATTENDANCE!$F$11=\"\", \"\", ATTENDANCE!$F$11)","v":""},{"$f":"IF(ATTENDANCE!$F$12=\"\", \"\", ATTENDANCE!$F$12)","v":""},{"$f":"IF(ATTENDANCE!$F24=\"\", \"\", ATTENDANCE!$F24)","v":""},{"$f":"IF(ATTENDANCE!$G24=\"\", \"\", ATTENDANCE!$G24)","v":""},{"$f":"IF(ATTENDANCE!$H$11=\"\", \"\", ATTENDANCE!$H$11)","v":""},{"$f":"IF(ATTENDANCE!$H$12=\"\", \"\", ATTENDANCE!$H$12)","v":""},{"$f":"IF(ATTENDANCE!$H24=\"\", \"\", ATTENDANCE!$H24)","v":""},{"$f":"IF(ATTENDANCE!$I$11=\"\", \"\", ATTENDANCE!$I$11)","v":""},{"$f":"IF(ATTENDANCE!$I$12=\"\", \"\", ATTENDANCE!$I$12)","v":""},{"$f":"IF(ATTENDANCE!$I24=\"\", \"\", ATTENDANCE!$I24)","v":""},{"$f":"IF('SKILL 1'!$C$7=\"\", \"\", 'SKILL 1'!$C$7)","v":""},{"$f":"IF('SKILL 1'!$G$11=\"\", \"\", 'SKILL 1'!$G$11)","v":""},{"$f":"IF('SKILL 1'!$G$14=\"\", \"\", 'SKILL 1'!$G$14)","v":""},{"$f":"IF('SKILL 1'!$G26=\"\", \"\", 'SKILL 1'!$G26)","v":""},{"$f":"IF('SKILL 1'!$I$11=\"\", \"\", 'SKILL 1'!$I$11)","v":""},{"$f":"IF('SKILL 1'!$I$14=\"\", \"\", 'SKILL 1'!$I$14)","v":""},{"$f":"IF('SKILL 1'!$H26=\"\", \"\", 'SKILL 1'!$H26)","v":""},{"$f":"IF('SKILL 1'!$I26=\"\", \"\", 'SKILL 1'!$I26)","v":""},{"$f":"IF('SKILL 1'!$J26=\"\", \"\", 'SKILL 1'!$J26)","v":""},{"$f":"IF('SKILL 1'!$L$11=\"\", \"\", 'SKILL 1'!$L$11)","v":""},{"$f":"IF('SKILL 1'!$L$14=\"\", \"\", 'SKILL 1'!$L$14)","v":""},{"$f":"IF('SKILL 1'!$K26=\"\", \"\", 'SKILL 1'!$K26)","v":""},{"$f":"IF('SKILL 1'!$L26=\"\", \"\", 'SKILL 1'!$L26)","v":""},{"$f":"IF('SKILL 1'!$M26=\"\", \"\", 'SKILL 1'!$M26)","v":""},{"$f":"IF('SKILL 2'!$C$7=\"\", \"\", 'SKILL 2'!$C$7)","v":""},{"$f":"IF('SKILL 2'!$G$11=\"\", \"\", 'SKILL 2'!$G$11)","v":""},{"$f":"IF('SKILL 2'!$G$14=\"\", \"\", 'SKILL 2'!$G$14)","v":""},{"$f":"IF('SKILL 2'!$G26=\"\", \"\", 'SKILL 2'!$G26)","v":""},{"$f":"IF('SKILL 2'!$I$11=\"\", \"\", 'SKILL 2'!$I$11)","v":""},{"$f":"IF('SKILL 2'!$I$14=\"\", \"\", 'SKILL 2'!$I$14)","v":""},{"$f":"IF('SKILL 2'!$H26=\"\", \"\", 'SKILL 2'!$H26)","v":""},{"$f":"IF('SKILL 2'!$I26=\"\", \"\", 'SKILL 2'!$I26)","v":""},{"$f":"IF('SKILL 2'!$J26=\"\", \"\", 'SKILL 2'!$J26)","v":""},{"$f":"IF('SKILL 2'!$L$11=\"\", \"\", 'SKILL 2'!$L$11)","v":""},{"$f":"IF('SKILL 2'!$L$14=\"\", \"\", 'SKILL 2'!$L$14)","v":""},{"$f":"IF('SKILL 2'!$K26=\"\", \"\", 'SKILL 2'!$K26)","v":""},{"$f":"IF('SKILL 2'!$L26=\"\", \"\", 'SKILL 2'!$L26)","v":""},{"$f":"IF('SKILL 2'!$M26=\"\", \"\", 'SKILL 2'!$M26)","v":""},{"$f":"IF('SKILL 3'!$C$7=\"\", \"\", 'SKILL 3'!$C$7)","v":""},{"$f":"IF('SKILL 3'!$G$11=\"\", \"\", 'SKILL 3'!$G$11)","v":""},{"$f":"IF('SKILL 3'!$G$14=\"\", \"\", 'SKILL 3'!$G$14)","v":""},{"$f":"IF('SKILL 3'!$G26=\"\", \"\", 'SKILL 3'!$G26)","v":""},{"$f":"IF('SKILL 3'!$I$11=\"\", \"\", 'SKILL 3'!$I$11)","v":""},{"$f":"IF('SKILL 3'!$I$14=\"\", \"\", 'SKILL 3'!$I$14)","v":""},{"$f":"IF('SKILL 3'!$H26=\"\", \"\", 'SKILL 3'!$H26)","v":""},{"$f":"IF('SKILL 3'!$I26=\"\", \"\", 'SKILL 3'!$I26)","v":""},{"$f":"IF('SKILL 3'!$J26=\"\", \"\", 'SKILL 3'!$J26)","v":""},{"$f":"IF('SKILL 3'!$L$11=\"\", \"\", 'SKILL 3'!$L$11)","v":""},{"$f":"IF('SKILL 3'!$L$14=\"\", \"\", 'SKILL 3'!$L$14)","v":""},{"$f":"IF('SKILL 3'!$K26=\"\", \"\", 'SKILL 3'!$K26)","v":""},{"$f":"IF('SKILL 3'!$L26=\"\", \"\", 'SKILL 3'!$L26)","v":""},{"$f":"IF('SKILL 3'!$M26=\"\", \"\", 'SKILL 3'!$M26)","v":""},{"$f":"IF('SKILL 4'!$C$7=\"\", \"\", 'SKILL 4'!$C$7)","v":""},{"$f":"IF('SKILL 4'!$G$11=\"\", \"\", 'SKILL 4'!$G$11)","v":""},{"$f":"IF('SKILL 4'!$G$14=\"\", \"\", 'SKILL 4'!$G$14)","v":""},{"$f":"IF('SKILL 4'!$G26=\"\", \"\", 'SKILL 4'!$G26)","v":""},{"$f":"IF('SKILL 4'!$I$11=\"\", \"\", 'SKILL 4'!$I$11)","v":""},{"$f":"IF('SKILL 4'!$I$14=\"\", \"\", 'SKILL 4'!$I$14)","v":""},{"$f":"IF('SKILL 4'!$H26=\"\", \"\", 'SKILL 4'!$H26)","v":""},{"$f":"IF('SKILL 4'!$I26=\"\", \"\", 'SKILL 4'!$I26)","v":""},{"$f":"IF('SKILL 4'!$J26=\"\", \"\", 'SKILL 4'!$J26)","v":""},{"$f":"IF('SKILL 4'!$L$11=\"\", \"\", 'SKILL 4'!$L$11)","v":""},{"$f":"IF('SKILL 4'!$L$14=\"\", \"\", 'SKILL 4'!$L$14)","v":""},{"$f":"IF('SKILL 4'!$K26=\"\", \"\", 'SKILL 4'!$K26)","v":""},{"$f":"IF('SKILL 4'!$L26=\"\", \"\", 'SKILL 4'!$L26)","v":""},{"$f":"IF('SKILL 4'!$M26=\"\", \"\", 'SKILL 4'!$M26)","v":""},{"$f":"IF('SKILL 5'!$C$7=\"\", \"\", 'SKILL 5'!$C$7)","v":""},{"$f":"IF('SKILL 5'!$G$11=\"\", \"\", 'SKILL 5'!$G$11)","v":""},{"$f":"IF('SKILL 5'!$G$14=\"\", \"\", 'SKILL 5'!$G$14)","v":""},{"$f":"IF('SKILL 5'!$G26=\"\", \"\", 'SKILL 5'!$G26)","v":""},{"$f":"IF('SKILL 5'!$I$11=\"\", \"\", 'SKILL 5'!$I$11)","v":""},{"$f":"IF('SKILL 5'!$I$14=\"\", \"\", 'SKILL 5'!$I$14)","v":""},{"$f":"IF('SKILL 5'!$H26=\"\", \"\", 'SKILL 5'!$H26)","v":""},{"$f":"IF('SKILL 5'!$I26=\"\", \"\", 'SKILL 5'!$I26)","v":""},{"$f":"IF('SKILL 5'!$J26=\"\", \"\", 'SKILL 5'!$J26)","v":""},{"$f":"IF('SKILL 5'!$L$11=\"\", \"\", 'SKILL 5'!$L$11)","v":""},{"$f":"IF('SKILL 5'!$L$14=\"\", \"\", 'SKILL 5'!$L$14)","v":""},{"$f":"IF('SKILL 5'!$K26=\"\", \"\", 'SKILL 5'!$K26)","v":""},{"$f":"IF('SKILL 5'!$L26=\"\", \"\", 'SKILL 5'!$L26)","v":""},{"$f":"IF('SKILL 5'!$M26=\"\", \"\", 'SKILL 5'!$M26)","v":""},{"$f":"IF('SKILL 6'!$C$7=\"\", \"\", 'SKILL 6'!$C$7)","v":""},{"$f":"IF('SKILL 6'!$G$11=\"\", \"\", 'SKILL 6'!$G$11)","v":""},{"$f":"IF('SKILL 6'!$G$14=\"\", \"\", 'SKILL 6'!$G$14)","v":""},{"$f":"IF('SKILL 6'!$G26=\"\", \"\", 'SKILL 6'!$G26)","v":""},{"$f":"IF('SKILL 6'!$I$11=\"\", \"\", 'SKILL 6'!$I$11)","v":""},{"$f":"IF('SKILL 6'!$I$14=\"\", \"\", 'SKILL 6'!$I$14)","v":""},{"$f":"IF('SKILL 6'!$H26=\"\", \"\", 'SKILL 6'!$H26)","v":""},{"$f":"IF('SKILL 6'!$I26=\"\", \"\", 'SKILL 6'!$I26)","v":""},{"$f":"IF('SKILL 6'!$J26=\"\", \"\", 'SKILL 6'!$J26)","v":""},{"$f":"IF('SKILL 6'!$L$11=\"\", \"\", 'SKILL 6'!$L$11)","v":""},{"$f":"IF('SKILL 6'!$L$14=\"\", \"\", 'SKILL 6'!$L$14)","v":""},{"$f":"IF('SKILL 6'!$K26=\"\", \"\", 'SKILL 6'!$K26)","v":""},{"$f":"IF('SKILL 6'!$L26=\"\", \"\", 'SKILL 6'!$L26)","v":""},{"$f":"IF('SKILL 6'!$M26=\"\", \"\", 'SKILL 6'!$M26)","v":""}]
[{"$f":"IF(ATTENDANCE!$D$25=\"\", \"\", ATTENDANCE!$D$25)","v":""},{"$f":"IF(ATTENDANCE!$C$3=\"\", \"\", ATTENDANCE!$C$3)","v":""},{"$f":"IF(ATTENDANCE!$C$4=\"\", \"\", ATTENDANCE!$C$4)","v":""},{"$f":"IF(ATTENDANCE!$C$5=\"\", \"\", ATTENDANCE!$C$5)","v":""},{"$f":"IF(ATTENDANCE!$C$6=\"\", \"\", ATTENDANCE!$C$6)","v":""},{"$f":"IF(ATTENDANCE!$F$11=\"\", \"\", ATTENDANCE!$F$11)","v":""},{"$f":"IF(ATTENDANCE!$F$12=\"\", \"\", ATTENDANCE!$F$12)","v":""},{"$f":"IF(ATTENDANCE!$F25=\"\", \"\", ATTENDANCE!$F25)","v":""},{"$f":"IF(ATTENDANCE!$G25=\"\", \"\", ATTENDANCE!$G25)","v":""},{"$f":"IF(ATTENDANCE!$H$11=\"\", \"\", ATTENDANCE!$H$11)","v":""},{"$f":"IF(ATTENDANCE!$H$12=\"\", \"\", ATTENDANCE!$H$12)","v":""},{"$f":"IF(ATTENDANCE!$H25=\"\", \"\", ATTENDANCE!$H25)","v":""},{"$f":"IF(ATTENDANCE!$I$11=\"\", \"\", ATTENDANCE!$I$11)","v":""},{"$f":"IF(ATTENDANCE!$I$12=\"\", \"\", ATTENDANCE!$I$12)","v":""},{"$f":"IF(ATTENDANCE!$I25=\"\", \"\", ATTENDANCE!$I25)","v":""},{"$f":"IF('SKILL 1'!$C$7=\"\", \"\", 'SKILL 1'!$C$7)","v":""},{"$f":"IF('SKILL 1'!$G$11=\"\", \"\", 'SKILL 1'!$G$11)","v":""},{"$f":"IF('SKILL 1'!$G$14=\"\", \"\", 'SKILL 1'!$G$14)","v":""},{"$f":"IF('SKILL 1'!$G27=\"\", \"\", 'SKILL 1'!$G27)","v":""},{"$f":"IF('SKILL 1'!$I$11=\"\", \"\", 'SKILL 1'!$I$11)","v":""},{"$f":"IF('SKILL 1'!$I$14=\"\", \"\", 'SKILL 1'!$I$14)","v":""},{"$f":"IF('SKILL 1'!$H27=\"\", \"\", 'SKILL 1'!$H27)","v":""},{"$f":"IF('SKILL 1'!$I27=\"\", \"\", 'SKILL 1'!$I27)","v":""},{"$f":"IF('SKILL 1'!$J27=\"\", \"\", 'SKILL 1'!$J27)","v":""},{"$f":"IF('SKILL 1'!$L$11=\"\", \"\", 'SKILL 1'!$L$11)","v":""},{"$f":"IF('SKILL 1'!$L$14=\"\", \"\", 'SKILL 1'!$L$14)","v":""},{"$f":"IF('SKILL 1'!$K27=\"\", \"\", 'SKILL 1'!$K27)","v":""},{"$f":"IF('SKILL 1'!$L27=\"\", \"\", 'SKILL 1'!$L27)","v":""},{"$f":"IF('SKILL 1'!$M27=\"\", \"\", 'SKILL 1'!$M27)","v":""},{"$f":"IF('SKILL 2'!$C$7=\"\", \"\", 'SKILL 2'!$C$7)","v":""},{"$f":"IF('SKILL 2'!$G$11=\"\", \"\", 'SKILL 2'!$G$11)","v":""},{"$f":"IF('SKILL 2'!$G$14=\"\", \"\", 'SKILL 2'!$G$14)","v":""},{"$f":"IF('SKILL 2'!$G27=\"\", \"\", 'SKILL 2'!$G27)","v":""},{"$f":"IF('SKILL 2'!$I$11=\"\", \"\", 'SKILL 2'!$I$11)","v":""},{"$f":"IF('SKILL 2'!$I$14=\"\", \"\", 'SKILL 2'!$I$14)","v":""},{"$f":"IF('SKILL 2'!$H27=\"\", \"\", 'SKILL 2'!$H27)","v":""},{"$f":"IF('SKILL 2'!$I27=\"\", \"\", 'SKILL 2'!$I27)","v":""},{"$f":"IF('SKILL 2'!$J27=\"\", \"\", 'SKILL 2'!$J27)","v":""},{"$f":"IF('SKILL 2'!$L$11=\"\", \"\", 'SKILL 2'!$L$11)","v":""},{"$f":"IF('SKILL 2'!$L$14=\"\", \"\", 'SKILL 2'!$L$14)","v":""},{"$f":"IF('SKILL 2'!$K27=\"\", \"\", 'SKILL 2'!$K27)","v":""},{"$f":"IF('SKILL 2'!$L27=\"\", \"\", 'SKILL 2'!$L27)","v":""},{"$f":"IF('SKILL 2'!$M27=\"\", \"\", 'SKILL 2'!$M27)","v":""},{"$f":"IF('SKILL 3'!$C$7=\"\", \"\", 'SKILL 3'!$C$7)","v":""},{"$f":"IF('SKILL 3'!$G$11=\"\", \"\", 'SKILL 3'!$G$11)","v":""},{"$f":"IF('SKILL 3'!$G$14=\"\", \"\", 'SKILL 3'!$G$14)","v":""},{"$f":"IF('SKILL 3'!$G27=\"\", \"\", 'SKILL 3'!$G27)","v":""},{"$f":"IF('SKILL 3'!$I$11=\"\", \"\", 'SKILL 3'!$I$11)","v":""},{"$f":"IF('SKILL 3'!$I$14=\"\", \"\", 'SKILL 3'!$I$14)","v":""},{"$f":"IF('SKILL 3'!$H27=\"\", \"\", 'SKILL 3'!$H27)","v":""},{"$f":"IF('SKILL 3'!$I27=\"\", \"\", 'SKILL 3'!$I27)","v":""},{"$f":"IF('SKILL 3'!$J27=\"\", \"\", 'SKILL 3'!$J27)","v":""},{"$f":"IF('SKILL 3'!$L$11=\"\", \"\", 'SKILL 3'!$L$11)","v":""},{"$f":"IF('SKILL 3'!$L$14=\"\", \"\", 'SKILL 3'!$L$14)","v":""},{"$f":"IF('SKILL 3'!$K27=\"\", \"\", 'SKILL 3'!$K27)","v":""},{"$f":"IF('SKILL 3'!$L27=\"\", \"\", 'SKILL 3'!$L27)","v":""},{"$f":"IF('SKILL 3'!$M27=\"\", \"\", 'SKILL 3'!$M27)","v":""},{"$f":"IF('SKILL 4'!$C$7=\"\", \"\", 'SKILL 4'!$C$7)","v":""},{"$f":"IF('SKILL 4'!$G$11=\"\", \"\", 'SKILL 4'!$G$11)","v":""},{"$f":"IF('SKILL 4'!$G$14=\"\", \"\", 'SKILL 4'!$G$14)","v":""},{"$f":"IF('SKILL 4'!$G27=\"\", \"\", 'SKILL 4'!$G27)","v":""},{"$f":"IF('SKILL 4'!$I$11=\"\", \"\", 'SKILL 4'!$I$11)","v":""},{"$f":"IF('SKILL 4'!$I$14=\"\", \"\", 'SKILL 4'!$I$14)","v":""},{"$f":"IF('SKILL 4'!$H27=\"\", \"\", 'SKILL 4'!$H27)","v":""},{"$f":"IF('SKILL 4'!$I27=\"\", \"\", 'SKILL 4'!$I27)","v":""},{"$f":"IF('SKILL 4'!$J27=\"\", \"\", 'SKILL 4'!$J27)","v":""},{"$f":"IF('SKILL 4'!$L$11=\"\", \"\", 'SKILL 4'!$L$11)","v":""},{"$f":"IF('SKILL 4'!$L$14=\"\", \"\", 'SKILL 4'!$L$14)","v":""},{"$f":"IF('SKILL 4'!$K27=\"\", \"\", 'SKILL 4'!$K27)","v":""},{"$f":"IF('SKILL 4'!$L27=\"\", \"\", 'SKILL 4'!$L27)","v":""},{"$f":"IF('SKILL 4'!$M27=\"\", \"\", 'SKILL 4'!$M27)","v":""},{"$f":"IF('SKILL 5'!$C$7=\"\", \"\", 'SKILL 5'!$C$7)","v":""},{"$f":"IF('SKILL 5'!$G$11=\"\", \"\", 'SKILL 5'!$G$11)","v":""},{"$f":"IF('SKILL 5'!$G$14=\"\", \"\", 'SKILL 5'!$G$14)","v":""},{"$f":"IF('SKILL 5'!$G27=\"\", \"\", 'SKILL 5'!$G27)","v":""},{"$f":"IF('SKILL 5'!$I$11=\"\", \"\", 'SKILL 5'!$I$11)","v":""},{"$f":"IF('SKILL 5'!$I$14=\"\", \"\", 'SKILL 5'!$I$14)","v":""},{"$f":"IF('SKILL 5'!$H27=\"\", \"\", 'SKILL 5'!$H27)","v":""},{"$f":"IF('SKILL 5'!$I27=\"\", \"\", 'SKILL 5'!$I27)","v":""},{"$f":"IF('SKILL 5'!$J27=\"\", \"\", 'SKILL 5'!$J27)","v":""},{"$f":"IF('SKILL 5'!$L$11=\"\", \"\", 'SKILL 5'!$L$11)","v":""},{"$f":"IF('SKILL 5'!$L$14=\"\", \"\", 'SKILL 5'!$L$14)","v":""},{"$f":"IF('SKILL 5'!$K27=\"\", \"\", 'SKILL 5'!$K27)","v":""},{"$f":"IF('SKILL 5'!$L27=\"\", \"\", 'SKILL 5'!$L27)","v":""},{"$f":"IF('SKILL 5'!$M27=\"\", \"\", 'SKILL 5'!$M27)","v":""},{"$f":"IF('SKILL 6'!$C$7=\"\", \"\", 'SKILL 6'!$C$7)","v":""},{"$f":"IF('SKILL 6'!$G$11=\"\", \"\", 'SKILL 6'!$G$11)","v":""},{"$f":"IF('SKILL 6'!$G$14=\"\", \"\", 'SKILL 6'!$G$14)","v":""},{"$f":"IF('SKILL 6'!$G27=\"\", \"\", 'SKILL 6'!$G27)","v":""},{"$f":"IF('SKILL 6'!$I$11=\"\", \"\", 'SKILL 6'!$I$11)","v":""},{"$f":"IF('SKILL 6'!$I$14=\"\", \"\", 'SKILL 6'!$I$14)","v":""},{"$f":"IF('SKILL 6'!$H27=\"\", \"\", 'SKILL 6'!$H27)","v":""},{"$f":"IF('SKILL 6'!$I27=\"\", \"\", 'SKILL 6'!$I27)","v":""},{"$f":"IF('SKILL 6'!$J27=\"\", \"\", 'SKILL 6'!$J27)","v":""},{"$f":"IF('SKILL 6'!$L$11=\"\", \"\", 'SKILL 6'!$L$11)","v":""},{"$f":"IF('SKILL 6'!$L$14=\"\", \"\", 'SKILL 6'!$L$14)","v":""},{"$f":"IF('SKILL 6'!$K27=\"\", \"\", 'SKILL 6'!$K27)","v":""},{"$f":"IF('SKILL 6'!$L27=\"\", \"\", 'SKILL 6'!$L27)","v":""},{"$f":"IF('SKILL 6'!$M27=\"\", \"\", 'SKILL 6'!$M27)","v":""}]
[{"$f":"IF(ATTENDANCE!$D$26=\"\", \"\", ATTENDANCE!$D$26)","v":""},{"$f":"IF(ATTENDANCE!$C$3=\"\", \"\", ATTENDANCE!$C$3)","v":""},{"$f":"IF(ATTENDANCE!$C$4=\"\", \"\", ATTENDANCE!$C$4)","v":""},{"$f":"IF(ATTENDANCE!$C$5=\"\", \"\", ATTENDANCE!$C$5)","v":""},{"$f":"IF(ATTENDANCE!$C$6=\"\", \"\", ATTENDANCE!$C$6)","v":""},{"$f":"IF(ATTENDANCE!$F$11=\"\", \"\", ATTENDANCE!$F$11)","v":""},{"$f":"IF(ATTENDANCE!$F$12=\"\", \"\", ATTENDANCE!$F$12)","v":""},{"$f":"IF(ATTENDANCE!$F26=\"\", \"\", ATTENDANCE!$F26)","v":""},{"$f":"IF(ATTENDANCE!$G26=\"\", \"\", ATTENDANCE!$G26)","v":""},{"$f":"IF(ATTENDANCE!$H$11=\"\", \"\", ATTENDANCE!$H$11)","v":""},{"$f":"IF(ATTENDANCE!$H$12=\"\", \"\", ATTENDANCE!$H$12)","v":""},{"$f":"IF(ATTENDANCE!$H26=\"\", \"\", ATTENDANCE!$H26)","v":""},{"$f":"IF(ATTENDANCE!$I$11=\"\", \"\", ATTENDANCE!$I$11)","v":""},{"$f":"IF(ATTENDANCE!$I$12=\"\", \"\", ATTENDANCE!$I$12)","v":""},{"$f":"IF(ATTENDANCE!$I26=\"\", \"\", ATTENDANCE!$I26)","v":""},{"$f":"IF('SKILL 1'!$C$7=\"\", \"\", 'SKILL 1'!$C$7)","v":""},{"$f":"IF('SKILL 1'!$G$11=\"\", \"\", 'SKILL 1'!$G$11)","v":""},{"$f":"IF('SKILL 1'!$G$14=\"\", \"\", 'SKILL 1'!$G$14)","v":""},{"$f":"IF('SKILL 1'!$G28=\"\", \"\", 'SKILL 1'!$G28)","v":""},{"$f":"IF('SKILL 1'!$I$11=\"\", \"\", 'SKILL 1'!$I$11)","v":""},{"$f":"IF('SKILL 1'!$I$14=\"\", \"\", 'SKILL 1'!$I$14)","v":""},{"$f":"IF('SKILL 1'!$H28=\"\", \"\", 'SKILL 1'!$H28)","v":""},{"$f":"IF('SKILL 1'!$I28=\"\", \"\", 'SKILL 1'!$I28)","v":""},{"$f":"IF('SKILL 1'!$J28=\"\", \"\", 'SKILL 1'!$J28)","v":""},{"$f":"IF('SKILL 1'!$L$11=\"\", \"\", 'SKILL 1'!$L$11)","v":""},{"$f":"IF('SKILL 1'!$L$14=\"\", \"\", 'SKILL 1'!$L$14)","v":""},{"$f":"IF('SKILL 1'!$K28=\"\", \"\", 'SKILL 1'!$K28)","v":""},{"$f":"IF('SKILL 1'!$L28=\"\", \"\", 'SKILL 1'!$L28)","v":""},{"$f":"IF('SKILL 1'!$M28=\"\", \"\", 'SKILL 1'!$M28)","v":""},{"$f":"IF('SKILL 2'!$C$7=\"\", \"\", 'SKILL 2'!$C$7)","v":""},{"$f":"IF('SKILL 2'!$G$11=\"\", \"\", 'SKILL 2'!$G$11)","v":""},{"$f":"IF('SKILL 2'!$G$14=\"\", \"\", 'SKILL 2'!$G$14)","v":""},{"$f":"IF('SKILL 2'!$G28=\"\", \"\", 'SKILL 2'!$G28)","v":""},{"$f":"IF('SKILL 2'!$I$11=\"\", \"\", 'SKILL 2'!$I$11)","v":""},{"$f":"IF('SKILL 2'!$I$14=\"\", \"\", 'SKILL 2'!$I$14)","v":""},{"$f":"IF('SKILL 2'!$H28=\"\", \"\", 'SKILL 2'!$H28)","v":""},{"$f":"IF('SKILL 2'!$I28=\"\", \"\", 'SKILL 2'!$I28)","v":""},{"$f":"IF('SKILL 2'!$J28=\"\", \"\", 'SKILL 2'!$J28)","v":""},{"$f":"IF('SKILL 2'!$L$11=\"\", \"\", 'SKILL 2'!$L$11)","v":""},{"$f":"IF('SKILL 2'!$L$14=\"\", \"\", 'SKILL 2'!$L$14)","v":""},{"$f":"IF('SKILL 2'!$K28=\"\", \"\", 'SKILL 2'!$K28)","v":""},{"$f":"IF('SKILL 2'!$L28=\"\", \"\", 'SKILL 2'!$L28)","v":""},{"$f":"IF('SKILL 2'!$M28=\"\", \"\", 'SKILL 2'!$M28)","v":""},{"$f":"IF('SKILL 3'!$C$7=\"\", \"\", 'SKILL 3'!$C$7)","v":""},{"$f":"IF('SKILL 3'!$G$11=\"\", \"\", 'SKILL 3'!$G$11)","v":""},{"$f":"IF('SKILL 3'!$G$14=\"\", \"\", 'SKILL 3'!$G$14)","v":""},{"$f":"IF('SKILL 3'!$G28=\"\", \"\", 'SKILL 3'!$G28)","v":""},{"$f":"IF('SKILL 3'!$I$11=\"\", \"\", 'SKILL 3'!$I$11)","v":""},{"$f":"IF('SKILL 3'!$I$14=\"\", \"\", 'SKILL 3'!$I$14)","v":""},{"$f":"IF('SKILL 3'!$H28=\"\", \"\", 'SKILL 3'!$H28)","v":""},{"$f":"IF('SKILL 3'!$I28=\"\", \"\", 'SKILL 3'!$I28)","v":""},{"$f":"IF('SKILL 3'!$J28=\"\", \"\", 'SKILL 3'!$J28)","v":""},{"$f":"IF('SKILL 3'!$L$11=\"\", \"\", 'SKILL 3'!$L$11)","v":""},{"$f":"IF('SKILL 3'!$L$14=\"\", \"\", 'SKILL 3'!$L$14)","v":""},{"$f":"IF('SKILL 3'!$K28=\"\", \"\", 'SKILL 3'!$K28)","v":""},{"$f":"IF('SKILL 3'!$L28=\"\", \"\", 'SKILL 3'!$L28)","v":""},{"$f":"IF('SKILL 3'!$M28=\"\", \"\", 'SKILL 3'!$M28)","v":""},{"$f":"IF('SKILL 4'!$C$7=\"\", \"\", 'SKILL 4'!$C$7)","v":""},{"$f":"IF('SKILL 4'!$G$11=\"\", \"\", 'SKILL 4'!$G$11)","v":""},{"$f":"IF('SKILL 4'!$G$14=\"\", \"\", 'SKILL 4'!$G$14)","v":""},{"$f":"IF('SKILL 4'!$G28=\"\", \"\", 'SKILL 4'!$G28)","v":""},{"$f":"IF('SKILL 4'!$I$11=\"\", \"\", 'SKILL 4'!$I$11)","v":""},{"$f":"IF('SKILL 4'!$I$14=\"\", \"\", 'SKILL 4'!$I$14)","v":""},{"$f":"IF('SKILL 4'!$H28=\"\", \"\", 'SKILL 4'!$H28)","v":""},{"$f":"IF('SKILL 4'!$I28=\"\", \"\", 'SKILL 4'!$I28)","v":""},{"$f":"IF('SKILL 4'!$J28=\"\", \"\", 'SKILL 4'!$J28)","v":""},{"$f":"IF('SKILL 4'!$L$11=\"\", \"\", 'SKILL 4'!$L$11)","v":""},{"$f":"IF('SKILL 4'!$L$14=\"\", \"\", 'SKILL 4'!$L$14)","v":""},{"$f":"IF('SKILL 4'!$K28=\"\", \"\", 'SKILL 4'!$K28)","v":""},{"$f":"IF('SKILL 4'!$L28=\"\", \"\", 'SKILL 4'!$L28)","v":""},{"$f":"IF('SKILL 4'!$M28=\"\", \"\", 'SKILL 4'!$M28)","v":""},{"$f":"IF('SKILL 5'!$C$7=\"\", \"\", 'SKILL 5'!$C$7)","v":""},{"$f":"IF('SKILL 5'!$G$11=\"\", \"\", 'SKILL 5'!$G$11)","v":""},{"$f":"IF('SKILL 5'!$G$14=\"\", \"\", 'SKILL 5'!$G$14)","v":""},{"$f":"IF('SKILL 5'!$G28=\"\", \"\", 'SKILL 5'!$G28)","v":""},{"$f":"IF('SKILL 5'!$I$11=\"\", \"\", 'SKILL 5'!$I$11)","v":""},{"$f":"IF('SKILL 5'!$I$14=\"\", \"\", 'SKILL 5'!$I$14)","v":""},{"$f":"IF('SKILL 5'!$H28=\"\", \"\", 'SKILL 5'!$H28)","v":""},{"$f":"IF('SKILL 5'!$I28=\"\", \"\", 'SKILL 5'!$I28)","v":""},{"$f":"IF('SKILL 5'!$J28=\"\", \"\", 'SKILL 5'!$J28)","v":""},{"$f":"IF('SKILL 5'!$L$11=\"\", \"\", 'SKILL 5'!$L$11)","v":""},{"$f":"IF('SKILL 5'!$L$14=\"\", \"\", 'SKILL 5'!$L$14)","v":""},{"$f":"IF('SKILL 5'!$K28=\"\", \"\", 'SKILL 5'!$K28)","v":""},{"$f":"IF('SKILL 5'!$L28=\"\", \"\", 'SKILL 5'!$L28)","v":""},{"$f":"IF('SKILL 5'!$M28=\"\", \"\", 'SKILL 5'!$M28)","v":""},{"$f":"IF('SKILL 6'!$C$7=\"\", \"\", 'SKILL 6'!$C$7)","v":""},{"$f":"IF('SKILL 6'!$G$11=\"\", \"\", 'SKILL 6'!$G$11)","v":""},{"$f":"IF('SKILL 6'!$G$14=\"\", \"\", 'SKILL 6'!$G$14)","v":""},{"$f":"IF('SKILL 6'!$G28=\"\", \"\", 'SKILL 6'!$G28)","v":""},{"$f":"IF('SKILL 6'!$I$11=\"\", \"\", 'SKILL 6'!$I$11)","v":""},{"$f":"IF('SKILL 6'!$I$14=\"\", \"\", 'SKILL 6'!$I$14)","v":""},{"$f":"IF('SKILL 6'!$H28=\"\", \"\", 'SKILL 6'!$H28)","v":""},{"$f":"IF('SKILL 6'!$I28=\"\", \"\", 'SKILL 6'!$I28)","v":""},{"$f":"IF('SKILL 6'!$J28=\"\", \"\", 'SKILL 6'!$J28)","v":""},{"$f":"IF('SKILL 6'!$L$11=\"\", \"\", 'SKILL 6'!$L$11)","v":""},{"$f":"IF('SKILL 6'!$L$14=\"\", \"\", 'SKILL 6'!$L$14)","v":""},{"$f":"IF('SKILL 6'!$K28=\"\", \"\", 'SKILL 6'!$K28)","v":""},{"$f":"IF('SKILL 6'!$L28=\"\", \"\", 'SKILL 6'!$L28)","v":""},{"$f":"IF('SKILL 6'!$M28=\"\", \"\", 'SKILL 6'!$M28)","v":""}]
[{"$f":"IF(ATTENDANCE!$D$27=\"\", \"\", ATTENDANCE!$D$27)","v":""},{"$f":"IF(ATTENDANCE!$C$3=\"\", \"\", ATTENDANCE!$C$3)","v":""},{"$f":"IF(ATTENDANCE!$C$4=\"\", \"\", ATTENDANCE!$C$4)","v":""},{"$f":"IF(ATTENDANCE!$C$5=\"\", \"\", ATTENDANCE!$C$5)","v":""},{"$f":"IF(ATTENDANCE!$C$6=\"\", \"\", ATTENDANCE!$C$6)","v":""},{"$f":"IF(ATTENDANCE!$F$11=\"\", \"\", ATTENDANCE!$F$11)","v":""},{"$f":"IF(ATTENDANCE!$F$12=\"\", \"\", ATTENDANCE!$F$12)","v":""},{"$f":"IF(ATTENDANCE!$F27=\"\", \"\", ATTENDANCE!$F27)","v":""},{"$f":"IF(ATTENDANCE!$G27=\"\", \"\", ATTENDANCE!$G27)","v":""},{"$f":"IF(ATTENDANCE!$H$11=\"\", \"\", ATTENDANCE!$H$11)","v":""},{"$f":"IF(ATTENDANCE!$H$12=\"\", \"\", ATTENDANCE!$H$12)","v":""},{"$f":"IF(ATTENDANCE!$H27=\"\", \"\", ATTENDANCE!$H27)","v":""},{"$f":"IF(ATTENDANCE!$I$11=\"\", \"\", ATTENDANCE!$I$11)","v":""},{"$f":"IF(ATTENDANCE!$I$12=\"\", \"\", ATTENDANCE!$I$12)","v":""},{"$f":"IF(ATTENDANCE!$I27=\"\", \"\", ATTENDANCE!$I27)","v":""},{"$f":"IF('SKILL 1'!$C$7=\"\", \"\", 'SKILL 1'!$C$7)","v":""},{"$f":"IF('SKILL 1'!$G$11=\"\", \"\", 'SKILL 1'!$G$11)","v":""},{"$f":"IF('SKILL 1'!$G$14=\"\", \"\", 'SKILL 1'!$G$14)","v":""},{"$f":"IF('SKILL 1'!$G29=\"\", \"\", 'SKILL 1'!$G29)","v":""},{"$f":"IF('SKILL 1'!$I$11=\"\", \"\", 'SKILL 1'!$I$11)","v":""},{"$f":"IF('SKILL 1'!$I$14=\"\", \"\", 'SKILL 1'!$I$14)","v":""},{"$f":"IF('SKILL 1'!$H29=\"\", \"\", 'SKILL 1'!$H29)","v":""},{"$f":"IF('SKILL 1'!$I29=\"\", \"\", 'SKILL 1'!$I29)","v":""},{"$f":"IF('SKILL 1'!$J29=\"\", \"\", 'SKILL 1'!$J29)","v":""},{"$f":"IF('SKILL 1'!$L$11=\"\", \"\", 'SKILL 1'!$L$11)","v":""},{"$f":"IF('SKILL 1'!$L$14=\"\", \"\", 'SKILL 1'!$L$14)","v":""},{"$f":"IF('SKILL 1'!$K29=\"\", \"\", 'SKILL 1'!$K29)","v":""},{"$f":"IF('SKILL 1'!$L29=\"\", \"\", 'SKILL 1'!$L29)","v":""},{"$f":"IF('SKILL 1'!$M29=\"\", \"\", 'SKILL 1'!$M29)","v":""},{"$f":"IF('SKILL 2'!$C$7=\"\", \"\", 'SKILL 2'!$C$7)","v":""},{"$f":"IF('SKILL 2'!$G$11=\"\", \"\", 'SKILL 2'!$G$11)","v":""},{"$f":"IF('SKILL 2'!$G$14=\"\", \"\", 'SKILL 2'!$G$14)","v":""},{"$f":"IF('SKILL 2'!$G29=\"\", \"\", 'SKILL 2'!$G29)","v":""},{"$f":"IF('SKILL 2'!$I$11=\"\", \"\", 'SKILL 2'!$I$11)","v":""},{"$f":"IF('SKILL 2'!$I$14=\"\", \"\", 'SKILL 2'!$I$14)","v":""},{"$f":"IF('SKILL 2'!$H29=\"\", \"\", 'SKILL 2'!$H29)","v":""},{"$f":"IF('SKILL 2'!$I29=\"\", \"\", 'SKILL 2'!$I29)","v":""},{"$f":"IF('SKILL 2'!$J29=\"\", \"\", 'SKILL 2'!$J29)","v":""},{"$f":"IF('SKILL 2'!$L$11=\"\", \"\", 'SKILL 2'!$L$11)","v":""},{"$f":"IF('SKILL 2'!$L$14=\"\", \"\", 'SKILL 2'!$L$14)","v":""},{"$f":"IF('SKILL 2'!$K29=\"\", \"\", 'SKILL 2'!$K29)","v":""},{"$f":"IF('SKILL 2'!$L29=\"\", \"\", 'SKILL 2'!$L29)","v":""},{"$f":"IF('SKILL 2'!$M29=\"\", \"\", 'SKILL 2'!$M29)","v":""},{"$f":"IF('SKILL 3'!$C$7=\"\", \"\", 'SKILL 3'!$C$7)","v":""},{"$f":"IF('SKILL 3'!$G$11=\"\", \"\", 'SKILL 3'!$G$11)","v":""},{"$f":"IF('SKILL 3'!$G$14=\"\", \"\", 'SKILL 3'!$G$14)","v":""},{"$f":"IF('SKILL 3'!$G29=\"\", \"\", 'SKILL 3'!$G29)","v":""},{"$f":"IF('SKILL 3'!$I$11=\"\", \"\", 'SKILL 3'!$I$11)","v":""},{"$f":"IF('SKILL 3'!$I$14=\"\", \"\", 'SKILL 3'!$I$14)","v":""},{"$f":"IF('SKILL 3'!$H29=\"\", \"\", 'SKILL 3'!$H29)","v":""},{"$f":"IF('SKILL 3'!$I29=\"\", \"\", 'SKILL 3'!$I29)","v":""},{"$f":"IF('SKILL 3'!$J29=\"\", \"\", 'SKILL 3'!$J29)","v":""},{"$f":"IF('SKILL 3'!$L$11=\"\", \"\", 'SKILL 3'!$L$11)","v":""},{"$f":"IF('SKILL 3'!$L$14=\"\", \"\", 'SKILL 3'!$L$14)","v":""},{"$f":"IF('SKILL 3'!$K29=\"\", \"\", 'SKILL 3'!$K29)","v":""},{"$f":"IF('SKILL 3'!$L29=\"\", \"\", 'SKILL 3'!$L29)","v":""},{"$f":"IF('SKILL 3'!$M29=\"\", \"\", 'SKILL 3'!$M29)","v":""},{"$f":"IF('SKILL 4'!$C$7=\"\", \"\", 'SKILL 4'!$C$7)","v":""},{"$f":"IF('SKILL 4'!$G$11=\"\", \"\", 'SKILL 4'!$G$11)","v":""},{"$f":"IF('SKILL 4'!$G$14=\"\", \"\", 'SKILL 4'!$G$14)","v":""},{"$f":"IF('SKILL 4'!$G29=\"\", \"\", 'SKILL 4'!$G29)","v":""},{"$f":"IF('SKILL 4'!$I$11=\"\", \"\", 'SKILL 4'!$I$11)","v":""},{"$f":"IF('SKILL 4'!$I$14=\"\", \"\", 'SKILL 4'!$I$14)","v":""},{"$f":"IF('SKILL 4'!$H29=\"\", \"\", 'SKILL 4'!$H29)","v":""},{"$f":"IF('SKILL 4'!$I29=\"\", \"\", 'SKILL 4'!$I29)","v":""},{"$f":"IF('SKILL 4'!$J29=\"\", \"\", 'SKILL 4'!$J29)","v":""},{"$f":"IF('SKILL 4'!$L$11=\"\", \"\", 'SKILL 4'!$L$11)","v":""},{"$f":"IF('SKILL 4'!$L$14=\"\", \"\", 'SKILL 4'!$L$14)","v":""},{"$f":"IF('SKILL 4'!$K29=\"\", \"\", 'SKILL 4'!$K29)","v":""},{"$f":"IF('SKILL 4'!$L29=\"\", \"\", 'SKILL 4'!$L29)","v":""},{"$f":"IF('SKILL 4'!$M29=\"\", \"\", 'SKILL 4'!$M29)","v":""},{"$f":"IF('SKILL 5'!$C$7=\"\", \"\", 'SKILL 5'!$C$7)","v":""},{"$f":"IF('SKILL 5'!$G$11=\"\", \"\", 'SKILL 5'!$G$11)","v":""},{"$f":"IF('SKILL 5'!$G$14=\"\", \"\", 'SKILL 5'!$G$14)","v":""},{"$f":"IF('SKILL 5'!$G29=\"\", \"\", 'SKILL 5'!$G29)","v":""},{"$f":"IF('SKILL 5'!$I$11=\"\", \"\", 'SKILL 5'!$I$11)","v":""},{"$f":"IF('SKILL 5'!$I$14=\"\", \"\", 'SKILL 5'!$I$14)","v":""},{"$f":"IF('SKILL 5'!$H29=\"\", \"\", 'SKILL 5'!$H29)","v":""},{"$f":"IF('SKILL 5'!$I29=\"\", \"\", 'SKILL 5'!$I29)","v":""},{"$f":"IF('SKILL 5'!$J29=\"\", \"\", 'SKILL 5'!$J29)","v":""},{"$f":"IF('SKILL 5'!$L$11=\"\", \"\", 'SKILL 5'!$L$11)","v":""},{"$f":"IF('SKILL 5'!$L$14=\"\", \"\", 'SKILL 5'!$L$14)","v":""},{"$f":"IF('SKILL 5'!$K29=\"\", \"\", 'SKILL 5'!$K29)","v":""},{"$f":"IF('SKILL 5'!$L29=\"\", \"\", 'SKILL 5'!$L29)","v":""},{"$f":"IF('SKILL 5'!$M29=\"\", \"\", 'SKILL 5'!$M29)","v":""},{"$f":"IF('SKILL 6'!$C$7=\"\", \"\", 'SKILL 6'!$C$7)","v":""},{"$f":"IF('SKILL 6'!$G$11=\"\", \"\", 'SKILL 6'!$G$11)","v":""},{"$f":"IF('SKILL 6'!$G$14=\"\", \"\", 'SKILL 6'!$G$14)","v":""},{"$f":"IF('SKILL 6'!$G29=\"\", \"\", 'SKILL 6'!$G29)","v":""},{"$f":"IF('SKILL 6'!$I$11=\"\", \"\", 'SKILL 6'!$I$11)","v":""},{"$f":"IF('SKILL 6'!$I$14=\"\", \"\", 'SKILL 6'!$I$14)","v":""},{"$f":"IF('SKILL 6'!$H29=\"\", \"\", 'SKILL 6'!$H29)","v":""},{"$f":"IF('SKILL 6'!$I29=\"\", \"\", 'SKILL 6'!$I29)","v":""},{"$f":"IF('SKILL 6'!$J29=\"\", \"\", 'SKILL 6'!$J29)","v":""},{"$f":"IF('SKILL 6'!$L$11=\"\", \"\", 'SKILL 6'!$L$11)","v":""},{"$f":"IF('SKILL 6'!$L$14=\"\", \"\", 'SKILL 6'!$L$14)","v":""},{"$f":"IF('SKILL 6'!$K29=\"\", \"\", 'SKILL 6'!$K29)","v":""},{"$f":"IF('SKILL 6'!$L29=\"\", \"\", 'SKILL 6'!$L29)","v":""},{"$f":"IF('SKILL 6'!$M29=\"\", \"\", 'SKILL 6'!$M29)","v":""}]
[{"$f":"IF(ATTENDANCE!$D$28=\"\", \"\", ATTENDANCE!$D$28)","v":""},{"$f":"IF(ATTENDANCE!$C$3=\"\", \"\", ATTENDANCE!$C$3)","v":""},{"$f":"IF(ATTENDANCE!$C$4=\"\", \"\", ATTENDANCE!$C$4)","v":""},{"$f":"IF(ATTENDANCE!$C$5=\"\", \"\", ATTENDANCE!$C$5)","v":""},{"$f":"IF(ATTENDANCE!$C$6=\"\", \"\", ATTENDANCE!$C$6)","v":""},{"$f":"IF(ATTENDANCE!$F$11=\"\", \"\", ATTENDANCE!$F$11)","v":""},{"$f":"IF(ATTENDANCE!$F$12=\"\", \"\", ATTENDANCE!$F$12)","v":""},{"$f":"IF(ATTENDANCE!$F28=\"\", \"\", ATTENDANCE!$F28)","v":""},{"$f":"IF(ATTENDANCE!$G28=\"\", \"\", ATTENDANCE!$G28)","v":""},{"$f":"IF(ATTENDANCE!$H$11=\"\", \"\", ATTENDANCE!$H$11)","v":""},{"$f":"IF(ATTENDANCE!$H$12=\"\", \"\", ATTENDANCE!$H$12)","v":""},{"$f":"IF(ATTENDANCE!$H28=\"\", \"\", ATTENDANCE!$H28)","v":""},{"$f":"IF(ATTENDANCE!$I$11=\"\", \"\", ATTENDANCE!$I$11)","v":""},{"$f":"IF(ATTENDANCE!$I$12=\"\", \"\", ATTENDANCE!$I$12)","v":""},{"$f":"IF(ATTENDANCE!$I28=\"\", \"\", ATTENDANCE!$I28)","v":""},{"$f":"IF('SKILL 1'!$C$7=\"\", \"\", 'SKILL 1'!$C$7)","v":""},{"$f":"IF('SKILL 1'!$G$11=\"\", \"\", 'SKILL 1'!$G$11)","v":""},{"$f":"IF('SKILL 1'!$G$14=\"\", \"\", 'SKILL 1'!$G$14)","v":""},{"$f":"IF('SKILL 1'!$G30=\"\", \"\", 'SKILL 1'!$G30)","v":""},{"$f":"IF('SKILL 1'!$I$11=\"\", \"\", 'SKILL 1'!$I$11)","v":""},{"$f":"IF('SKILL 1'!$I$14=\"\", \"\", 'SKILL 1'!$I$14)","v":""},{"$f":"IF('SKILL 1'!$H30=\"\", \"\", 'SKILL 1'!$H30)","v":""},{"$f":"IF('SKILL 1'!$I30=\"\", \"\", 'SKILL 1'!$I30)","v":""},{"$f":"IF('SKILL 1'!$J30=\"\", \"\", 'SKILL 1'!$J30)","v":""},{"$f":"IF('SKILL 1'!$L$11=\"\", \"\", 'SKILL 1'!$L$11)","v":""},{"$f":"IF('SKILL 1'!$L$14=\"\", \"\", 'SKILL 1'!$L$14)","v":""},{"$f":"IF('SKILL 1'!$K30=\"\", \"\", 'SKILL 1'!$K30)","v":""},{"$f":"IF('SKILL 1'!$L30=\"\", \"\", 'SKILL 1'!$L30)","v":""},{"$f":"IF('SKILL 1'!$M30=\"\", \"\", 'SKILL 1'!$M30)","v":""},{"$f":"IF('SKILL 2'!$C$7=\"\", \"\", 'SKILL 2'!$C$7)","v":""},{"$f":"IF('SKILL 2'!$G$11=\"\", \"\", 'SKILL 2'!$G$11)","v":""},{"$f":"IF('SKILL 2'!$G$14=\"\", \"\", 'SKILL 2'!$G$14)","v":""},{"$f":"IF('SKILL 2'!$G30=\"\", \"\", 'SKILL 2'!$G30)","v":""},{"$f":"IF('SKILL 2'!$I$11=\"\", \"\", 'SKILL 2'!$I$11)","v":""},{"$f":"IF('SKILL 2'!$I$14=\"\", \"\", 'SKILL 2'!$I$14)","v":""},{"$f":"IF('SKILL 2'!$H30=\"\", \"\", 'SKILL 2'!$H30)","v":""},{"$f":"IF('SKILL 2'!$I30=\"\", \"\", 'SKILL 2'!$I30)","v":""},{"$f":"IF('SKILL 2'!$J30=\"\", \"\", 'SKILL 2'!$J30)","v":""},{"$f":"IF('SKILL 2'!$L$11=\"\", \"\", 'SKILL 2'!$L$11)","v":""},{"$f":"IF('SKILL 2'!$L$14=\"\", \"\", 'SKILL 2'!$L$14)","v":""},{"$f":"IF('SKILL 2'!$K30=\"\", \"\", 'SKILL 2'!$K30)","v":""},{"$f":"IF('SKILL 2'!$L30=\"\", \"\", 'SKILL 2'!$L30)","v":""},{"$f":"IF('SKILL 2'!$M30=\"\", \"\", 'SKILL 2'!$M30)","v":""},{"$f":"IF('SKILL 3'!$C$7=\"\", \"\", 'SKILL 3'!$C$7)","v":""},{"$f":"IF('SKILL 3'!$G$11=\"\", \"\", 'SKILL 3'!$G$11)","v":""},{"$f":"IF('SKILL 3'!$G$14=\"\", \"\", 'SKILL 3'!$G$14)","v":""},{"$f":"IF('SKILL 3'!$G30=\"\", \"\", 'SKILL 3'!$G30)","v":""},{"$f":"IF('SKILL 3'!$I$11=\"\", \"\", 'SKILL 3'!$I$11)","v":""},{"$f":"IF('SKILL 3'!$I$14=\"\", \"\", 'SKILL 3'!$I$14)","v":""},{"$f":"IF('SKILL 3'!$H30=\"\", \"\", 'SKILL 3'!$H30)","v":""},{"$f":"IF('SKILL 3'!$I30=\"\", \"\", 'SKILL 3'!$I30)","v":""},{"$f":"IF('SKILL 3'!$J30=\"\", \"\", 'SKILL 3'!$J30)","v":""},{"$f":"IF('SKILL 3'!$L$11=\"\", \"\", 'SKILL 3'!$L$11)","v":""},{"$f":"IF('SKILL 3'!$L$14=\"\", \"\", 'SKILL 3'!$L$14)","v":""},{"$f":"IF('SKILL 3'!$K30=\"\", \"\", 'SKILL 3'!$K30)","v":""},{"$f":"IF('SKILL 3'!$L30=\"\", \"\", 'SKILL 3'!$L30)","v":""},{"$f":"IF('SKILL 3'!$M30=\"\", \"\", 'SKILL 3'!$M30)","v":""},{"$f":"IF('SKILL 4'!$C$7=\"\", \"\", 'SKILL 4'!$C$7)","v":""},{"$f":"IF('SKILL 4'!$G$11=\"\", \"\", 'SKILL 4'!$G$11)","v":""},{"$f":"IF('SKILL 4'!$G$14=\"\", \"\", 'SKILL 4'!$G$14)","v":""},{"$f":"IF('SKILL 4'!$G30=\"\", \"\", 'SKILL 4'!$G30)","v":""},{"$f":"IF('SKILL 4'!$I$11=\"\", \"\", 'SKILL 4'!$I$11)","v":""},{"$f":"IF('SKILL 4'!$I$14=\"\", \"\", 'SKILL 4'!$I$14)","v":""},{"$f":"IF('SKILL 4'!$H30=\"\", \"\", 'SKILL 4'!$H30)","v":""},{"$f":"IF('SKILL 4'!$I30=\"\", \"\", 'SKILL 4'!$I30)","v":""},{"$f":"IF('SKILL 4'!$J30=\"\", \"\", 'SKILL 4'!$J30)","v":""},{"$f":"IF('SKILL 4'!$L$11=\"\", \"\", 'SKILL 4'!$L$11)","v":""},{"$f":"IF('SKILL 4'!$L$14=\"\", \"\", 'SKILL 4'!$L$14)","v":""},{"$f":"IF('SKILL 4'!$K30=\"\", \"\", 'SKILL 4'!$K30)","v":""},{"$f":"IF('SKILL 4'!$L30=\"\", \"\", 'SKILL 4'!$L30)","v":""},{"$f":"IF('SKILL 4'!$M30=\"\", \"\", 'SKILL 4'!$M30)","v":""},{"$f":"IF('SKILL 5'!$C$7=\"\", \"\", 'SKILL 5'!$C$7)","v":""},{"$f":"IF('SKILL 5'!$G$11=\"\", \"\", 'SKILL 5'!$G$11)","v":""},{"$f":"IF('SKILL 5'!$G$14=\"\", \"\", 'SKILL 5'!$G$14)","v":""},{"$f":"IF('SKILL 5'!$G30=\"\", \"\", 'SKILL 5'!$G30)","v":""},{"$f":"IF('SKILL 5'!$I$11=\"\", \"\", 'SKILL 5'!$I$11)","v":""},{"$f":"IF('SKILL 5'!$I$14=\"\", \"\", 'SKILL 5'!$I$14)","v":""},{"$f":"IF('SKILL 5'!$H30=\"\", \"\", 'SKILL 5'!$H30)","v":""},{"$f":"IF('SKILL 5'!$I30=\"\", \"\", 'SKILL 5'!$I30)","v":""},{"$f":"IF('SKILL 5'!$J30=\"\", \"\", 'SKILL 5'!$J30)","v":""},{"$f":"IF('SKILL 5'!$L$11=\"\", \"\", 'SKILL 5'!$L$11)","v":""},{"$f":"IF('SKILL 5'!$L$14=\"\", \"\", 'SKILL 5'!$L$14)","v":""},{"$f":"IF('SKILL 5'!$K30=\"\", \"\", 'SKILL 5'!$K30)","v":""},{"$f":"IF('SKILL 5'!$L30=\"\", \"\", 'SKILL 5'!$L30)","v":""},{"$f":"IF('SKILL 5'!$M30=\"\", \"\", 'SKILL 5'!$M30)","v":""},{"$f":"IF('SKILL 6'!$C$7=\"\", \"\", 'SKILL 6'!$C$7)","v":""},{"$f":"IF('SKILL 6'!$G$11=\"\", \"\", 'SKILL 6'!$G$11)","v":""},{"$f":"IF('SKILL 6'!$G$14=\"\", \"\", 'SKILL 6'!$G$14)","v":""},{"$f":"IF('SKILL 6'!$G30=\"\", \"\", 'SKILL 6'!$G30)","v":""},{"$f":"IF('SKILL 6'!$I$11=\"\", \"\", 'SKILL 6'!$I$11)","v":""},{"$f":"IF('SKILL 6'!$I$14=\"\", \"\", 'SKILL 6'!$I$14)","v":""},{"$f":"IF('SKILL 6'!$H30=\"\", \"\", 'SKILL 6'!$H30)","v":""},{"$f":"IF('SKILL 6'!$I30=\"\", \"\", 'SKILL 6'!$I30)","v":""},{"$f":"IF('SKILL 6'!$J30=\"\", \"\", 'SKILL 6'!$J30)","v":""},{"$f":"IF('SKILL 6'!$L$11=\"\", \"\", 'SKILL 6'!$L$11)","v":""},{"$f":"IF('SKILL 6'!$L$14=\"\", \"\", 'SKILL 6'!$L$14)","v":""},{"$f":"IF('SKILL 6'!$K30=\"\", \"\", 'SKILL 6'!$K30)","v":""},{"$f":"IF('SKILL 6'!$L30=\"\", \"\", 'SKILL 6'!$L30)","v":""},{"$f":"IF('SKILL 6'!$M30=\"\", \"\", 'SKILL 6'!$M30)","v":""}]
[{"$f":"IF(ATTENDANCE!$D$29=\"\", \"\", ATTENDANCE!$D$29)","v":""},{"$f":"IF(ATTENDANCE!$C$3=\"\", \"\", ATTENDANCE!$C$3)","v":""},{"$f":"IF(ATTENDANCE!$C$4=\"\", \"\", ATTENDANCE!$C$4)","v":""},{"$f":"IF(ATTENDANCE!$C$5=\"\", \"\", ATTENDANCE!$C$5)","v":""},{"$f":"IF(ATTENDANCE!$C$6=\"\", \"\", ATTENDANCE!$C$6)","v":""},{"$f":"IF(ATTENDANCE!$F$11=\"\", \"\", ATTENDANCE!$F$11)","v":""},{"$f":"IF(ATTENDANCE!$F$12=\"\", \"\", ATTENDANCE!$F$12)","v":""},{"$f":"IF(ATTENDANCE!$F29=\"\", \"\", ATTENDANCE!$F29)","v":""},{"$f":"IF(ATTENDANCE!$G29=\"\", \"\", ATTENDANCE!$G29)","v":""},{"$f":"IF(ATTENDANCE!$H$11=\"\", \"\", ATTENDANCE!$H$11)","v":""},{"$f":"IF(ATTENDANCE!$H$12=\"\", \"\", ATTENDANCE!$H$12)","v":""},{"$f":"IF(ATTENDANCE!$H29=\"\", \"\", ATTENDANCE!$H29)","v":""},{"$f":"IF(ATTENDANCE!$I$11=\"\", \"\", ATTENDANCE!$I$11)","v":""},{"$f":"IF(ATTENDANCE!$I$12=\"\", \"\", ATTENDANCE!$I$12)","v":""},{"$f":"IF(ATTENDANCE!$I29=\"\", \"\", ATTENDANCE!$I29)","v":""},{"$f":"IF('SKILL 1'!$C$7=\"\", \"\", 'SKILL 1'!$C$7)","v":""},{"$f":"IF('SKILL 1'!$G$11=\"\", \"\", 'SKILL 1'!$G$11)","v":""},{"$f":"IF('SKILL 1'!$G$14=\"\", \"\", 'SKILL 1'!$G$14)","v":""},{"$f":"IF('SKILL 1'!$G31=\"\", \"\", 'SKILL 1'!$G31)","v":""},{"$f":"IF('SKILL 1'!$I$11=\"\", \"\", 'SKILL 1'!$I$11)","v":""},{"$f":"IF('SKILL 1'!$I$14=\"\", \"\", 'SKILL 1'!$I$14)","v":""},{"$f":"IF('SKILL 1'!$H31=\"\", \"\", 'SKILL 1'!$H31)","v":""},{"$f":"IF('SKILL 1'!$I31=\"\", \"\", 'SKILL 1'!$I31)","v":""},{"$f":"IF('SKILL 1'!$J31=\"\", \"\", 'SKILL 1'!$J31)","v":""},{"$f":"IF('SKILL 1'!$L$11=\"\", \"\", 'SKILL 1'!$L$11)","v":""},{"$f":"IF('SKILL 1'!$L$14=\"\", \"\", 'SKILL 1'!$L$14)","v":""},{"$f":"IF('SKILL 1'!$K31=\"\", \"\", 'SKILL 1'!$K31)","v":""},{"$f":"IF('SKILL 1'!$L31=\"\", \"\", 'SKILL 1'!$L31)","v":""},{"$f":"IF('SKILL 1'!$M31=\"\", \"\", 'SKILL 1'!$M31)","v":""},{"$f":"IF('SKILL 2'!$C$7=\"\", \"\", 'SKILL 2'!$C$7)","v":""},{"$f":"IF('SKILL 2'!$G$11=\"\", \"\", 'SKILL 2'!$G$11)","v":""},{"$f":"IF('SKILL 2'!$G$14=\"\", \"\", 'SKILL 2'!$G$14)","v":""},{"$f":"IF('SKILL 2'!$G31=\"\", \"\", 'SKILL 2'!$G31)","v":""},{"$f":"IF('SKILL 2'!$I$11=\"\", \"\", 'SKILL 2'!$I$11)","v":""},{"$f":"IF('SKILL 2'!$I$14=\"\", \"\", 'SKILL 2'!$I$14)","v":""},{"$f":"IF('SKILL 2'!$H31=\"\", \"\", 'SKILL 2'!$H31)","v":""},{"$f":"IF('SKILL 2'!$I31=\"\", \"\", 'SKILL 2'!$I31)","v":""},{"$f":"IF('SKILL 2'!$J31=\"\", \"\", 'SKILL 2'!$J31)","v":""},{"$f":"IF('SKILL 2'!$L$11=\"\", \"\", 'SKILL 2'!$L$11)","v":""},{"$f":"IF('SKILL 2'!$L$14=\"\", \"\", 'SKILL 2'!$L$14)","v":""},{"$f":"IF('SKILL 2'!$K31=\"\", \"\", 'SKILL 2'!$K31)","v":""},{"$f":"IF('SKILL 2'!$L31=\"\", \"\", 'SKILL 2'!$L31)","v":""},{"$f":"IF('SKILL 2'!$M31=\"\", \"\", 'SKILL 2'!$M31)","v":""},{"$f":"IF('SKILL 3'!$C$7=\"\", \"\", 'SKILL 3'!$C$7)","v":""},{"$f":"IF('SKILL 3'!$G$11=\"\", \"\", 'SKILL 3'!$G$11)","v":""},{"$f":"IF('SKILL 3'!$G$14=\"\", \"\", 'SKILL 3'!$G$14)","v":""},{"$f":"IF('SKILL 3'!$G31=\"\", \"\", 'SKILL 3'!$G31)","v":""},{"$f":"IF('SKILL 3'!$I$11=\"\", \"\", 'SKILL 3'!$I$11)","v":""},{"$f":"IF('SKILL 3'!$I$14=\"\", \"\", 'SKILL 3'!$I$14)","v":""},{"$f":"IF('SKILL 3'!$H31=\"\", \"\", 'SKILL 3'!$H31)","v":""},{"$f":"IF('SKILL 3'!$I31=\"\", \"\", 'SKILL 3'!$I31)","v":""},{"$f":"IF('SKILL 3'!$J31=\"\", \"\", 'SKILL 3'!$J31)","v":""},{"$f":"IF('SKILL 3'!$L$11=\"\", \"\", 'SKILL 3'!$L$11)","v":""},{"$f":"IF('SKILL 3'!$L$14=\"\", \"\", 'SKILL 3'!$L$14)","v":""},{"$f":"IF('SKILL 3'!$K31=\"\", \"\", 'SKILL 3'!$K31)","v":""},{"$f":"IF('SKILL 3'!$L31=\"\", \"\", 'SKILL 3'!$L31)","v":""},{"$f":"IF('SKILL 3'!$M31=\"\", \"\", 'SKILL 3'!$M31)","v":""},{"$f":"IF('SKILL 4'!$C$7=\"\", \"\", 'SKILL 4'!$C$7)","v":""},{"$f":"IF('SKILL 4'!$G$11=\"\", \"\", 'SKILL 4'!$G$11)","v":""},{"$f":"IF('SKILL 4'!$G$14=\"\", \"\", 'SKILL 4'!$G$14)","v":""},{"$f":"IF('SKILL 4'!$G31=\"\", \"\", 'SKILL 4'!$G31)","v":""},{"$f":"IF('SKILL 4'!$I$11=\"\", \"\", 'SKILL 4'!$I$11)","v":""},{"$f":"IF('SKILL 4'!$I$14=\"\", \"\", 'SKILL 4'!$I$14)","v":""},{"$f":"IF('SKILL 4'!$H31=\"\", \"\", 'SKILL 4'!$H31)","v":""},{"$f":"IF('SKILL 4'!$I31=\"\", \"\", 'SKILL 4'!$I31)","v":""},{"$f":"IF('SKILL 4'!$J31=\"\", \"\", 'SKILL 4'!$J31)","v":""},{"$f":"IF('SKILL 4'!$L$11=\"\", \"\", 'SKILL 4'!$L$11)","v":""},{"$f":"IF('SKILL 4'!$L$14=\"\", \"\", 'SKILL 4'!$L$14)","v":""},{"$f":"IF('SKILL 4'!$K31=\"\", \"\", 'SKILL 4'!$K31)","v":""},{"$f":"IF('SKILL 4'!$L31=\"\", \"\", 'SKILL 4'!$L31)","v":""},{"$f":"IF('SKILL 4'!$M31=\"\", \"\", 'SKILL 4'!$M31)","v":""},{"$f":"IF('SKILL 5'!$C$7=\"\", \"\", 'SKILL 5'!$C$7)","v":""},{"$f":"IF('SKILL 5'!$G$11=\"\", \"\", 'SKILL 5'!$G$11)","v":""},{"$f":"IF('SKILL 5'!$G$14=\"\", \"\", 'SKILL 5'!$G$14)","v":""},{"$f":"IF('SKILL 5'!$G31=\"\", \"\", 'SKILL 5'!$G31)","v":""},{"$f":"IF('SKILL 5'!$I$11=\"\", \"\", 'SKILL 5'!$I$11)","v":""},{"$f":"IF('SKILL 5'!$I$14=\"\", \"\", 'SKILL 5'!$I$14)","v":""},{"$f":"IF('SKILL 5'!$H31=\"\", \"\", 'SKILL 5'!$H31)","v":""},{"$f":"IF('SKILL 5'!$I31=\"\", \"\", 'SKILL 5'!$I31)","v":""},{"$f":"IF('SKILL 5'!$J31=\"\", \"\", 'SKILL 5'!$J31)","v":""},{"$f":"IF('SKILL 5'!$L$11=\"\", \"\", 'SKILL 5'!$L$11)","v":""},{"$f":"IF('SKILL 5'!$L$14=\"\", \"\", 'SKILL 5'!$L$14)","v":""},{"$f":"IF('SKILL 5'!$K31=\"\", \"\", 'SKILL 5'!$K31)","v":""},{"$f":"IF('SKILL 5'!$L31=\"\", \"\", 'SKILL 5'!$L31)","v":""},{"$f":"IF('SKILL 5'!$M31=\"\", \"\", 'SKILL 5'!$M31)","v":""},{"$f":"IF('SKILL 6'!$C$7=\"\", \"\", 'SKILL 6'!$C$7)","v":""},{"$f":"IF('SKILL 6'!$G$11=\"\", \"\", 'SKILL 6'!$G$11)","v":""},{"$f":"IF('SKILL 6'!$G$14=\"\", \"\", 'SKILL 6'!$G$14)","v":""},{"$f":"IF('SKILL 6'!$G31=\"\", \"\", 'SKILL 6'!$G31)","v":""},{"$f":"IF('SKILL 6'!$I$11=\"\", \"\", 'SKILL 6'!$I$11)","v":""},{"$f":"IF('SKILL 6'!$I$14=\"\", \"\", 'SKILL 6'!$I$14)","v":""},{"$f":"IF('SKILL 6'!$H31=\"\", \"\", 'SKILL 6'!$H31)","v":""},{"$f":"IF('SKILL 6'!$I31=\"\", \"\", 'SKILL 6'!$I31)","v":""},{"$f":"IF('SKILL 6'!$J31=\"\", \"\", 'SKILL 6'!$J31)","v":""},{"$f":"IF('SKILL 6'!$L$11=\"\", \"\", 'SKILL 6'!$L$11)","v":""},{"$f":"IF('SKILL 6'!$L$14=\"\", \"\", 'SKILL 6'!$L$14)","v":""},{"$f":"IF('SKILL 6'!$K31=\"\", \"\", 'SKILL 6'!$K31)","v":""},{"$f":"IF('SKILL 6'!$L31=\"\", \"\", 'SKILL 6'!$L31)","v":""},{"$f":"IF('SKILL 6'!$M31=\"\", \"\", 'SKILL 6'!$M31)","v":""}]
[{"$f":"IF(ATTENDANCE!$D$30=\"\", \"\", ATTENDANCE!$D$30)","v":""},{"$f":"IF(ATTENDANCE!$C$3=\"\", \"\", ATTENDANCE!$C$3)","v":""},{"$f":"IF(ATTENDANCE!$C$4=\"\", \"\", ATTENDANCE!$C$4)","v":""},{"$f":"IF(ATTENDANCE!$C$5=\"\", \"\", ATTENDANCE!$C$5)","v":""},{"$f":"IF(ATTENDANCE!$C$6=\"\", \"\", ATTENDANCE!$C$6)","v":""},{"$f":"IF(ATTENDANCE!$F$11=\"\", \"\", ATTENDANCE!$F$11)","v":""},{"$f":"IF(ATTENDANCE!$F$12=\"\", \"\", ATTENDANCE!$F$12)","v":""},{"$f":"IF(ATTENDANCE!$F30=\"\", \"\", ATTENDANCE!$F30)","v":""},{"$f":"IF(ATTENDANCE!$G30=\"\", \"\", ATTENDANCE!$G30)","v":""},{"$f":"IF(ATTENDANCE!$H$11=\"\", \"\", ATTENDANCE!$H$11)","v":""},{"$f":"IF(ATTENDANCE!$H$12=\"\", \"\", ATTENDANCE!$H$12)","v":""},{"$f":"IF(ATTENDANCE!$H30=\"\", \"\", ATTENDANCE!$H30)","v":""},{"$f":"IF(ATTENDANCE!$I$11=\"\", \"\", ATTENDANCE!$I$11)","v":""},{"$f":"IF(ATTENDANCE!$I$12=\"\", \"\", ATTENDANCE!$I$12)","v":""},{"$f":"IF(ATTENDANCE!$I30=\"\", \"\", ATTENDANCE!$I30)","v":""},{"$f":"IF('SKILL 1'!$C$7=\"\", \"\", 'SKILL 1'!$C$7)","v":""},{"$f":"IF('SKILL 1'!$G$11=\"\", \"\", 'SKILL 1'!$G$11)","v":""},{"$f":"IF('SKILL 1'!$G$14=\"\", \"\", 'SKILL 1'!$G$14)","v":""},{"$f":"IF('SKILL 1'!$G32=\"\", \"\", 'SKILL 1'!$G32)","v":""},{"$f":"IF('SKILL 1'!$I$11=\"\", \"\", 'SKILL 1'!$I$11)","v":""},{"$f":"IF('SKILL 1'!$I$14=\"\", \"\", 'SKILL 1'!$I$14)","v":""},{"$f":"IF('SKILL 1'!$H32=\"\", \"\", 'SKILL 1'!$H32)","v":""},{"$f":"IF('SKILL 1'!$I32=\"\", \"\", 'SKILL 1'!$I32)","v":""},{"$f":"IF('SKILL 1'!$J32=\"\", \"\", 'SKILL 1'!$J32)","v":""},{"$f":"IF('SKILL 1'!$L$11=\"\", \"\", 'SKILL 1'!$L$11)","v":""},{"$f":"IF('SKILL 1'!$L$14=\"\", \"\", 'SKILL 1'!$L$14)","v":""},{"$f":"IF('SKILL 1'!$K32=\"\", \"\", 'SKILL 1'!$K32)","v":""},{"$f":"IF('SKILL 1'!$L32=\"\", \"\", 'SKILL 1'!$L32)","v":""},{"$f":"IF('SKILL 1'!$M32=\"\", \"\", 'SKILL 1'!$M32)","v":""},{"$f":"IF('SKILL 2'!$C$7=\"\", \"\", 'SKILL 2'!$C$7)","v":""},{"$f":"IF('SKILL 2'!$G$11=\"\", \"\", 'SKILL 2'!$G$11)","v":""},{"$f":"IF('SKILL 2'!$G$14=\"\", \"\", 'SKILL 2'!$G$14)","v":""},{"$f":"IF('SKILL 2'!$G32=\"\", \"\", 'SKILL 2'!$G32)","v":""},{"$f":"IF('SKILL 2'!$I$11=\"\", \"\", 'SKILL 2'!$I$11)","v":""},{"$f":"IF('SKILL 2'!$I$14=\"\", \"\", 'SKILL 2'!$I$14)","v":""},{"$f":"IF('SKILL 2'!$H32=\"\", \"\", 'SKILL 2'!$H32)","v":""},{"$f":"IF('SKILL 2'!$I32=\"\", \"\", 'SKILL 2'!$I32)","v":""},{"$f":"IF('SKILL 2'!$J32=\"\", \"\", 'SKILL 2'!$J32)","v":""},{"$f":"IF('SKILL 2'!$L$11=\"\", \"\", 'SKILL 2'!$L$11)","v":""},{"$f":"IF('SKILL 2'!$L$14=\"\", \"\", 'SKILL 2'!$L$14)","v":""},{"$f":"IF('SKILL 2'!$K32=\"\", \"\", 'SKILL 2'!$K32)","v":""},{"$f":"IF('SKILL 2'!$L32=\"\", \"\", 'SKILL 2'!$L32)","v":""},{"$f":"IF('SKILL 2'!$M32=\"\", \"\", 'SKILL 2'!$M32)","v":""},{"$f":"IF('SKILL 3'!$C$7=\"\", \"\", 'SKILL 3'!$C$7)","v":""},{"$f":"IF('SKILL 3'!$G$11=\"\", \"\", 'SKILL 3'!$G$11)","v":""},{"$f":"IF('SKILL 3'!$G$14=\"\", \"\", 'SKILL 3'!$G$14)","v":""},{"$f":"IF('SKILL 3'!$G32=\"\", \"\", 'SKILL 3'!$G32)","v":""},{"$f":"IF('SKILL 3'!$I$11=\"\", \"\", 'SKILL 3'!$I$11)","v":""},{"$f":"IF('SKILL 3'!$I$14=\"\", \"\", 'SKILL 3'!$I$14)","v":""},{"$f":"IF('SKILL 3'!$H32=\"\", \"\", 'SKILL 3'!$H32)","v":""},{"$f":"IF('SKILL 3'!$I32=\"\", \"\", 'SKILL 3'!$I32)","v":""},{"$f":"IF('SKILL 3'!$J32=\"\", \"\", 'SKILL 3'!$J32)","v":""},{"$f":"IF('SKILL 3'!$L$11=\"\", \"\", 'SKILL 3'!$L$11)","v":""},{"$f":"IF('SKILL 3'!$L$14=\"\", \"\", 'SKILL 3'!$L$14)","v":""},{"$f":"IF('SKILL 3'!$K32=\"\", \"\", 'SKILL 3'!$K32)","v":""},{"$f":"IF('SKILL 3'!$L32=\"\", \"\", 'SKILL 3'!$L32)","v":""},{"$f":"IF('SKILL 3'!$M32=\"\", \"\", 'SKILL 3'!$M32)","v":""},{"$f":"IF('SKILL 4'!$C$7=\"\", \"\", 'SKILL 4'!$C$7)","v":""},{"$f":"IF('SKILL 4'!$G$11=\"\", \"\", 'SKILL 4'!$G$11)","v":""},{"$f":"IF('SKILL 4'!$G$14=\"\", \"\", 'SKILL 4'!$G$14)","v":""},{"$f":"IF('SKILL 4'!$G32=\"\", \"\", 'SKILL 4'!$G32)","v":""},{"$f":"IF('SKILL 4'!$I$11=\"\", \"\", 'SKILL 4'!$I$11)","v":""},{"$f":"IF('SKILL 4'!$I$14=\"\", \"\", 'SKILL 4'!$I$14)","v":""},{"$f":"IF('SKILL 4'!$H32=\"\", \"\", 'SKILL 4'!$H32)","v":""},{"$f":"IF('SKILL 4'!$I32=\"\", \"\", 'SKILL 4'!$I32)","v":""},{"$f":"IF('SKILL 4'!$J32=\"\", \"\", 'SKILL 4'!$J32)","v":""},{"$f":"IF('SKILL 4'!$L$11=\"\", \"\", 'SKILL 4'!$L$11)","v":""},{"$f":"IF('SKILL 4'!$L$14=\"\", \"\", 'SKILL 4'!$L$14)","v":""},{"$f":"IF('SKILL 4'!$K32=\"\", \"\", 'SKILL 4'!$K32)","v":""},{"$f":"IF('SKILL 4'!$L32=\"\", \"\", 'SKILL 4'!$L32)","v":""},{"$f":"IF('SKILL 4'!$M32=\"\", \"\", 'SKILL 4'!$M32)","v":""},{"$f":"IF('SKILL 5'!$C$7=\"\", \"\", 'SKILL 5'!$C$7)","v":""},{"$f":"IF('SKILL 5'!$G$11=\"\", \"\", 'SKILL 5'!$G$11)","v":""},{"$f":"IF('SKILL 5'!$G$14=\"\", \"\", 'SKILL 5'!$G$14)","v":""},{"$f":"IF('SKILL 5'!$G32=\"\", \"\", 'SKILL 5'!$G32)","v":""},{"$f":"IF('SKILL 5'!$I$11=\"\", \"\", 'SKILL 5'!$I$11)","v":""},{"$f":"IF('SKILL 5'!$I$14=\"\", \"\", 'SKILL 5'!$I$14)","v":""},{"$f":"IF('SKILL 5'!$H32=\"\", \"\", 'SKILL 5'!$H32)","v":""},{"$f":"IF('SKILL 5'!$I32=\"\", \"\", 'SKILL 5'!$I32)","v":""},{"$f":"IF('SKILL 5'!$J32=\"\", \"\", 'SKILL 5'!$J32)","v":""},{"$f":"IF('SKILL 5'!$L$11=\"\", \"\", 'SKILL 5'!$L$11)","v":""},{"$f":"IF('SKILL 5'!$L$14=\"\", \"\", 'SKILL 5'!$L$14)","v":""},{"$f":"IF('SKILL 5'!$K32=\"\", \"\", 'SKILL 5'!$K32)","v":""},{"$f":"IF('SKILL 5'!$L32=\"\", \"\", 'SKILL 5'!$L32)","v":""},{"$f":"IF('SKILL 5'!$M32=\"\", \"\", 'SKILL 5'!$M32)","v":""},{"$f":"IF('SKILL 6'!$C$7=\"\", \"\", 'SKILL 6'!$C$7)","v":""},{"$f":"IF('SKILL 6'!$G$11=\"\", \"\", 'SKILL 6'!$G$11)","v":""},{"$f":"IF('SKILL 6'!$G$14=\"\", \"\", 'SKILL 6'!$G$14)","v":""},{"$f":"IF('SKILL 6'!$G32=\"\", \"\", 'SKILL 6'!$G32)","v":""},{"$f":"IF('SKILL 6'!$I$11=\"\", \"\", 'SKILL 6'!$I$11)","v":""},{"$f":"IF('SKILL 6'!$I$14=\"\", \"\", 'SKILL 6'!$I$14)","v":""},{"$f":"IF('SKILL 6'!$H32=\"\", \"\", 'SKILL 6'!$H32)","v":""},{"$f":"IF('SKILL 6'!$I32=\"\", \"\", 'SKILL 6'!$I32)","v":""},{"$f":"IF('SKILL 6'!$J32=\"\", \"\", 'SKILL 6'!$J32)","v":""},{"$f":"IF('SKILL 6'!$L$11=\"\", \"\", 'SKILL 6'!$L$11)","v":""},{"$f":"IF('SKILL 6'!$L$14=\"\", \"\", 'SKILL 6'!$L$14)","v":""},{"$f":"IF('SKILL 6'!$K32=\"\", \"\", 'SKILL 6'!$K32)","v":""},{"$f":"IF('SKILL 6'!$L32=\"\", \"\", 'SKILL 6'!$L32)","v":""},{"$f":"IF('SKILL 6'!$M32=\"\", \"\", 'SKILL 6'!$M32)","v":""}]
[{"$f":"IF(ATTENDANCE!$D$31=\"\", \"\", ATTENDANCE!$D$31)","v":""},{"$f":"IF(ATTENDANCE!$C$3=\"\", \"\", ATTENDANCE!$C$3)","v":""},{"$f":"IF(ATTENDANCE!$C$4=\"\", \"\", ATTENDANCE!$C$4)","v":""},{"$f":"IF(ATTENDANCE!$C$5=\"\", \"\", ATTENDANCE!$C$5)","v":""},{"$f":"IF(ATTENDANCE!$C$6=\"\", \"\", ATTENDANCE!$C$6)","v":""},{"$f":"IF(ATTENDANCE!$F$11=\"\", \"\", ATTENDANCE!$F$11)","v":""},{"$f":"IF(ATTENDANCE!$F$12=\"\", \"\", ATTENDANCE!$F$12)","v":""},{"$f":"IF(ATTENDANCE!$F31=\"\", \"\", ATTENDANCE!$F31)","v":""},{"$f":"IF(ATTENDANCE!$G31=\"\", \"\", ATTENDANCE!$G31)","v":""},{"$f":"IF(ATTENDANCE!$H$11=\"\", \"\", ATTENDANCE!$H$11)","v":""},{"$f":"IF(ATTENDANCE!$H$12=\"\", \"\", ATTENDANCE!$H$12)","v":""},{"$f":"IF(ATTENDANCE!$H31=\"\", \"\", ATTENDANCE!$H31)","v":""},{"$f":"IF(ATTENDANCE!$I$11=\"\", \"\", ATTENDANCE!$I$11)","v":""},{"$f":"IF(ATTENDANCE!$I$12=\"\", \"\", ATTENDANCE!$I$12)","v":""},{"$f":"IF(ATTENDANCE!$I31=\"\", \"\", ATTENDANCE!$I31)","v":""},{"$f":"IF('SKILL 1'!$C$7=\"\", \"\", 'SKILL 1'!$C$7)","v":""},{"$f":"IF('SKILL 1'!$G$11=\"\", \"\", 'SKILL 1'!$G$11)","v":""},{"$f":"IF('SKILL 1'!$G$14=\"\", \"\", 'SKILL 1'!$G$14)","v":""},{"$f":"IF('SKILL 1'!$G33=\"\", \"\", 'SKILL 1'!$G33)","v":""},{"$f":"IF('SKILL 1'!$I$11=\"\", \"\", 'SKILL 1'!$I$11)","v":""},{"$f":"IF('SKILL 1'!$I$14=\"\", \"\", 'SKILL 1'!$I$14)","v":""},{"$f":"IF('SKILL 1'!$H33=\"\", \"\", 'SKILL 1'!$H33)","v":""},{"$f":"IF('SKILL 1'!$I33=\"\", \"\", 'SKILL 1'!$I33)","v":""},{"$f":"IF('SKILL 1'!$J33=\"\", \"\", 'SKILL 1'!$J33)","v":""},{"$f":"IF('SKILL 1'!$L$11=\"\", \"\", 'SKILL 1'!$L$11)","v":""},{"$f":"IF('SKILL 1'!$L$14=\"\", \"\", 'SKILL 1'!$L$14)","v":""},{"$f":"IF('SKILL 1'!$K33=\"\", \"\", 'SKILL 1'!$K33)","v":""},{"$f":"IF('SKILL 1'!$L33=\"\", \"\", 'SKILL 1'!$L33)","v":""},{"$f":"IF('SKILL 1'!$M33=\"\", \"\", 'SKILL 1'!$M33)","v":""},{"$f":"IF('SKILL 2'!$C$7=\"\", \"\", 'SKILL 2'!$C$7)","v":""},{"$f":"IF('SKILL 2'!$G$11=\"\", \"\", 'SKILL 2'!$G$11)","v":""},{"$f":"IF('SKILL 2'!$G$14=\"\", \"\", 'SKILL 2'!$G$14)","v":""},{"$f":"IF('SKILL 2'!$G33=\"\", \"\", 'SKILL 2'!$G33)","v":""},{"$f":"IF('SKILL 2'!$I$11=\"\", \"\", 'SKILL 2'!$I$11)","v":""},{"$f":"IF('SKILL 2'!$I$14=\"\", \"\", 'SKILL 2'!$I$14)","v":""},{"$f":"IF('SKILL 2'!$H33=\"\", \"\", 'SKILL 2'!$H33)","v":""},{"$f":"IF('SKILL 2'!$I33=\"\", \"\", 'SKILL 2'!$I33)","v":""},{"$f":"IF('SKILL 2'!$J33=\"\", \"\", 'SKILL 2'!$J33)","v":""},{"$f":"IF('SKILL 2'!$L$11=\"\", \"\", 'SKILL 2'!$L$11)","v":""},{"$f":"IF('SKILL 2'!$L$14=\"\", \"\", 'SKILL 2'!$L$14)","v":""},{"$f":"IF('SKILL 2'!$K33=\"\", \"\", 'SKILL 2'!$K33)","v":""},{"$f":"IF('SKILL 2'!$L33=\"\", \"\", 'SKILL 2'!$L33)","v":""},{"$f":"IF('SKILL 2'!$M33=\"\", \"\", 'SKILL 2'!$M33)","v":""},{"$f":"IF('SKILL 3'!$C$7=\"\", \"\", 'SKILL 3'!$C$7)","v":""},{"$f":"IF('SKILL 3'!$G$11=\"\", \"\", 'SKILL 3'!$G$11)","v":""},{"$f":"IF('SKILL 3'!$G$14=\"\", \"\", 'SKILL 3'!$G$14)","v":""},{"$f":"IF('SKILL 3'!$G33=\"\", \"\", 'SKILL 3'!$G33)","v":""},{"$f":"IF('SKILL 3'!$I$11=\"\", \"\", 'SKILL 3'!$I$11)","v":""},{"$f":"IF('SKILL 3'!$I$14=\"\", \"\", 'SKILL 3'!$I$14)","v":""},{"$f":"IF('SKILL 3'!$H33=\"\", \"\", 'SKILL 3'!$H33)","v":""},{"$f":"IF('SKILL 3'!$I33=\"\", \"\", 'SKILL 3'!$I33)","v":""},{"$f":"IF('SKILL 3'!$J33=\"\", \"\", 'SKILL 3'!$J33)","v":""},{"$f":"IF('SKILL 3'!$L$11=\"\", \"\", 'SKILL 3'!$L$11)","v":""},{"$f":"IF('SKILL 3'!$L$14=\"\", \"\", 'SKILL 3'!$L$14)","v":""},{"$f":"IF('SKILL 3'!$K33=\"\", \"\", 'SKILL 3'!$K33)","v":""},{"$f":"IF('SKILL 3'!$L33=\"\", \"\", 'SKILL 3'!$L33)","v":""},{"$f":"IF('SKILL 3'!$M33=\"\", \"\", 'SKILL 3'!$M33)","v":""},{"$f":"IF('SKILL 4'!$C$7=\"\", \"\", 'SKILL 4'!$C$7)","v":""},{"$f":"IF('SKILL 4'!$G$11=\"\", \"\", 'SKILL 4'!$G$11)","v":""},{"$f":"IF('SKILL 4'!$G$14=\"\", \"\", 'SKILL 4'!$G$14)","v":""},{"$f":"IF('SKILL 4'!$G33=\"\", \"\", 'SKILL 4'!$G33)","v":""},{"$f":"IF('SKILL 4'!$I$11=\"\", \"\", 'SKILL 4'!$I$11)","v":""},{"$f":"IF('SKILL 4'!$I$14=\"\", \"\", 'SKILL 4'!$I$14)","v":""},{"$f":"IF('SKILL 4'!$H33=\"\", \"\", 'SKILL 4'!$H33)","v":""},{"$f":"IF('SKILL 4'!$I33=\"\", \"\", 'SKILL 4'!$I33)","v":""},{"$f":"IF('SKILL 4'!$J33=\"\", \"\", 'SKILL 4'!$J33)","v":""},{"$f":"IF('SKILL 4'!$L$11=\"\", \"\", 'SKILL 4'!$L$11)","v":""},{"$f":"IF('SKILL 4'!$L$14=\"\", \"\", 'SKILL 4'!$L$14)","v":""},{"$f":"IF('SKILL 4'!$K33=\"\", \"\", 'SKILL 4'!$K33)","v":""},{"$f":"IF('SKILL 4'!$L33=\"\", \"\", 'SKILL 4'!$L33)","v":""},{"$f":"IF('SKILL 4'!$M33=\"\", \"\", 'SKILL 4'!$M33)","v":""},{"$f":"IF('SKILL 5'!$C$7=\"\", \"\", 'SKILL 5'!$C$7)","v":""},{"$f":"IF('SKILL 5'!$G$11=\"\", \"\", 'SKILL 5'!$G$11)","v":""},{"$f":"IF('SKILL 5'!$G$14=\"\", \"\", 'SKILL 5'!$G$14)","v":""},{"$f":"IF('SKILL 5'!$G33=\"\", \"\", 'SKILL 5'!$G33)","v":""},{"$f":"IF('SKILL 5'!$I$11=\"\", \"\", 'SKILL 5'!$I$11)","v":""},{"$f":"IF('SKILL 5'!$I$14=\"\", \"\", 'SKILL 5'!$I$14)","v":""},{"$f":"IF('SKILL 5'!$H33=\"\", \"\", 'SKILL 5'!$H33)","v":""},{"$f":"IF('SKILL 5'!$I33=\"\", \"\", 'SKILL 5'!$I33)","v":""},{"$f":"IF('SKILL 5'!$J33=\"\", \"\", 'SKILL 5'!$J33)","v":""},{"$f":"IF('SKILL 5'!$L$11=\"\", \"\", 'SKILL 5'!$L$11)","v":""},{"$f":"IF('SKILL 5'!$L$14=\"\", \"\", 'SKILL 5'!$L$14)","v":""},{"$f":"IF('SKILL 5'!$K33=\"\", \"\", 'SKILL 5'!$K33)","v":""},{"$f":"IF('SKILL 5'!$L33=\"\", \"\", 'SKILL 5'!$L33)","v":""},{"$f":"IF('SKILL 5'!$M33=\"\", \"\", 'SKILL 5'!$M33)","v":""},{"$f":"IF('SKILL 6'!$C$7=\"\", \"\", 'SKILL 6'!$C$7)","v":""},{"$f":"IF('SKILL 6'!$G$11=\"\", \"\", 'SKILL 6'!$G$11)","v":""},{"$f":"IF('SKILL 6'!$G$14=\"\", \"\", 'SKILL 6'!$G$14)","v":""},{"$f":"IF('SKILL 6'!$G33=\"\", \"\", 'SKILL 6'!$G33)","v":""},{"$f":"IF('SKILL 6'!$I$11=\"\", \"\", 'SKILL 6'!$I$11)","v":""},{"$f":"IF('SKILL 6'!$I$14=\"\", \"\", 'SKILL 6'!$I$14)","v":""},{"$f":"IF('SKILL 6'!$H33=\"\", \"\", 'SKILL 6'!$H33)","v":""},{"$f":"IF('SKILL 6'!$I33=\"\", \"\", 'SKILL 6'!$I33)","v":""},{"$f":"IF('SKILL 6'!$J33=\"\", \"\", 'SKILL 6'!$J33)","v":""},{"$f":"IF('SKILL 6'!$L$11=\"\", \"\", 'SKILL 6'!$L$11)","v":""},{"$f":"IF('SKILL 6'!$L$14=\"\", \"\", 'SKILL 6'!$L$14)","v":""},{"$f":"IF('SKILL 6'!$K33=\"\", \"\", 'SKILL 6'!$K33)","v":""},{"$f":"IF('SKILL 6'!$L33=\"\", \"\", 'SKILL 6'!$L33)","v":""},{"$f":"IF('SKILL 6'!$M33=\"\", \"\", 'SKILL 6'!$M33)","v":""}]
[{"$f":"IF(ATTENDANCE!$D$32=\"\", \"\", ATTENDANCE!$D$32)","v":""},{"$f":"IF(ATTENDANCE!$C$3=\"\", \"\", ATTENDANCE!$C$3)","v":""},{"$f":"IF(ATTENDANCE!$C$4=\"\", \"\", ATTENDANCE!$C$4)","v":""},{"$f":"IF(ATTENDANCE!$C$5=\"\", \"\", ATTENDANCE!$C$5)","v":""},{"$f":"IF(ATTENDANCE!$C$6=\"\", \"\", ATTENDANCE!$C$6)","v":""},{"$f":"IF(ATTENDANCE!$F$11=\"\", \"\", ATTENDANCE!$F$11)","v":""},{"$f":"IF(ATTENDANCE!$F$12=\"\", \"\", ATTENDANCE!$F$12)","v":""},{"$f":"IF(ATTENDANCE!$F32=\"\", \"\", ATTENDANCE!$F32)","v":""},{"$f":"IF(ATTENDANCE!$G32=\"\", \"\", ATTENDANCE!$G32)","v":""},{"$f":"IF(ATTENDANCE!$H$11=\"\", \"\", ATTENDANCE!$H$11)","v":""},{"$f":"IF(ATTENDANCE!$H$12=\"\", \"\", ATTENDANCE!$H$12)","v":""},{"$f":"IF(ATTENDANCE!$H32=\"\", \"\", ATTENDANCE!$H32)","v":""},{"$f":"IF(ATTENDANCE!$I$11=\"\", \"\", ATTENDANCE!$I$11)","v":""},{"$f":"IF(ATTENDANCE!$I$12=\"\", \"\", ATTENDANCE!$I$12)","v":""},{"$f":"IF(ATTENDANCE!$I32=\"\", \"\", ATTENDANCE!$I32)","v":""},{"$f":"IF('SKILL 1'!$C$7=\"\", \"\", 'SKILL 1'!$C$7)","v":""},{"$f":"IF('SKILL 1'!$G$11=\"\", \"\", 'SKILL 1'!$G$11)","v":""},{"$f":"IF('SKILL 1'!$G$14=\"\", \"\", 'SKILL 1'!$G$14)","v":""},{"$f":"IF('SKILL 1'!$G34=\"\", \"\", 'SKILL 1'!$G34)","v":""},{"$f":"IF('SKILL 1'!$I$11=\"\", \"\", 'SKILL 1'!$I$11)","v":""},{"$f":"IF('SKILL 1'!$I$14=\"\", \"\", 'SKILL 1'!$I$14)","v":""},{"$f":"IF('SKILL 1'!$H34=\"\", \"\", 'SKILL 1'!$H34)","v":""},{"$f":"IF('SKILL 1'!$I34=\"\", \"\", 'SKILL 1'!$I34)","v":""},{"$f":"IF('SKILL 1'!$J34=\"\", \"\", 'SKILL 1'!$J34)","v":""},{"$f":"IF('SKILL 1'!$L$11=\"\", \"\", 'SKILL 1'!$L$11)","v":""},{"$f":"IF('SKILL 1'!$L$14=\"\", \"\", 'SKILL 1'!$L$14)","v":""},{"$f":"IF('SKILL 1'!$K34=\"\", \"\", 'SKILL 1'!$K34)","v":""},{"$f":"IF('SKILL 1'!$L34=\"\", \"\", 'SKILL 1'!$L34)","v":""},{"$f":"IF('SKILL 1'!$M34=\"\", \"\", 'SKILL 1'!$M34)","v":""},{"$f":"IF('SKILL 2'!$C$7=\"\", \"\", 'SKILL 2'!$C$7)","v":""},{"$f":"IF('SKILL 2'!$G$11=\"\", \"\", 'SKILL 2'!$G$11)","v":""},{"$f":"IF('SKILL 2'!$G$14=\"\", \"\", 'SKILL 2'!$G$14)","v":""},{"$f":"IF('SKILL 2'!$G34=\"\", \"\", 'SKILL 2'!$G34)","v":""},{"$f":"IF('SKILL 2'!$I$11=\"\", \"\", 'SKILL 2'!$I$11)","v":""},{"$f":"IF('SKILL 2'!$I$14=\"\", \"\", 'SKILL 2'!$I$14)","v":""},{"$f":"IF('SKILL 2'!$H34=\"\", \"\", 'SKILL 2'!$H34)","v":""},{"$f":"IF('SKILL 2'!$I34=\"\", \"\", 'SKILL 2'!$I34)","v":""},{"$f":"IF('SKILL 2'!$J34=\"\", \"\", 'SKILL 2'!$J34)","v":""},{"$f":"IF('SKILL 2'!$L$11=\"\", \"\", 'SKILL 2'!$L$11)","v":""},{"$f":"IF('SKILL 2'!$L$14=\"\", \"\", 'SKILL 2'!$L$14)","v":""},{"$f":"IF('SKILL 2'!$K34=\"\", \"\", 'SKILL 2'!$K34)","v":""},{"$f":"IF('SKILL 2'!$L34=\"\", \"\", 'SKILL 2'!$L34)","v":""},{"$f":"IF('SKILL 2'!$M34=\"\", \"\", 'SKILL 2'!$M34)","v":""},{"$f":"IF('SKILL 3'!$C$7=\"\", \"\", 'SKILL 3'!$C$7)","v":""},{"$f":"IF('SKILL 3'!$G$11=\"\", \"\", 'SKILL 3'!$G$11)","v":""},{"$f":"IF('SKILL 3'!$G$14=\"\", \"\", 'SKILL 3'!$G$14)","v":""},{"$f":"IF('SKILL 3'!$G34=\"\", \"\", 'SKILL 3'!$G34)","v":""},{"$f":"IF('SKILL 3'!$I$11=\"\", \"\", 'SKILL 3'!$I$11)","v":""},{"$f":"IF('SKILL 3'!$I$14=\"\", \"\", 'SKILL 3'!$I$14)","v":""},{"$f":"IF('SKILL 3'!$H34=\"\", \"\", 'SKILL 3'!$H34)","v":""},{"$f":"IF('SKILL 3'!$I34=\"\", \"\", 'SKILL 3'!$I34)","v":""},{"$f":"IF('SKILL 3'!$J34=\"\", \"\", 'SKILL 3'!$J34)","v":""},{"$f":"IF('SKILL 3'!$L$11=\"\", \"\", 'SKILL 3'!$L$11)","v":""},{"$f":"IF('SKILL 3'!$L$14=\"\", \"\", 'SKILL 3'!$L$14)","v":""},{"$f":"IF('SKILL 3'!$K34=\"\", \"\", 'SKILL 3'!$K34)","v":""},{"$f":"IF('SKILL 3'!$L34=\"\", \"\", 'SKILL 3'!$L34)","v":""},{"$f":"IF('SKILL 3'!$M34=\"\", \"\", 'SKILL 3'!$M34)","v":""},{"$f":"IF('SKILL 4'!$C$7=\"\", \"\", 'SKILL 4'!$C$7)","v":""},{"$f":"IF('SKILL 4'!$G$11=\"\", \"\", 'SKILL 4'!$G$11)","v":""},{"$f":"IF('SKILL 4'!$G$14=\"\", \"\", 'SKILL 4'!$G$14)","v":""},{"$f":"IF('SKILL 4'!$G34=\"\", \"\", 'SKILL 4'!$G34)","v":""},{"$f":"IF('SKILL 4'!$I$11=\"\", \"\", 'SKILL 4'!$I$11)","v":""},{"$f":"IF('SKILL 4'!$I$14=\"\", \"\", 'SKILL 4'!$I$14)","v":""},{"$f":"IF('SKILL 4'!$H34=\"\", \"\", 'SKILL 4'!$H34)","v":""},{"$f":"IF('SKILL 4'!$I34=\"\", \"\", 'SKILL 4'!$I34)","v":""},{"$f":"IF('SKILL 4'!$J34=\"\", \"\", 'SKILL 4'!$J34)","v":""},{"$f":"IF('SKILL 4'!$L$11=\"\", \"\", 'SKILL 4'!$L$11)","v":""},{"$f":"IF('SKILL 4'!$L$14=\"\", \"\", 'SKILL 4'!$L$14)","v":""},{"$f":"IF('SKILL 4'!$K34=\"\", \"\", 'SKILL 4'!$K34)","v":""},{"$f":"IF('SKILL 4'!$L34=\"\", \"\", 'SKILL 4'!$L34)","v":""},{"$f":"IF('SKILL 4'!$M34=\"\", \"\", 'SKILL 4'!$M34)","v":""},{"$f":"IF('SKILL 5'!$C$7=\"\", \"\", 'SKILL 5'!$C$7)","v":""},{"$f":"IF('SKILL 5'!$G$11=\"\", \"\", 'SKILL 5'!$G$11)","v":""},{"$f":"IF('SKILL 5'!$G$14=\"\", \"\", 'SKILL 5'!$G$14)","v":""},{"$f":"IF('SKILL 5'!$G34=\"\", \"\", 'SKILL 5'!$G34)","v":""},{"$f":"IF('SKILL 5'!$I$11=\"\", \"\", 'SKILL 5'!$I$11)","v":""},{"$f":"IF('SKILL 5'!$I$14=\"\", \"\", 'SKILL 5'!$I$14)","v":""},{"$f":"IF('SKILL 5'!$H34=\"\", \"\", 'SKILL 5'!$H34)","v":""},{"$f":"IF('SKILL 5'!$I34=\"\", \"\", 'SKILL 5'!$I34)","v":""},{"$f":"IF('SKILL 5'!$J34=\"\", \"\", 'SKILL 5'!$J34)","v":""},{"$f":"IF('SKILL 5'!$L$11=\"\", \"\", 'SKILL 5'!$L$11)","v":""},{"$f":"IF('SKILL 5'!$L$14=\"\", \"\", 'SKILL 5'!$L$14)","v":""},{"$f":"IF('SKILL 5'!$K34=\"\", \"\", 'SKILL 5'!$K34)","v":""},{"$f":"IF('SKILL 5'!$L34=\"\", \"\", 'SKILL 5'!$L34)","v":""},{"$f":"IF('SKILL 5'!$M34=\"\", \"\", 'SKILL 5'!$M34)","v":""},{"$f":"IF('SKILL 6'!$C$7=\"\", \"\", 'SKILL 6'!$C$7)","v":""},{"$f":"IF('SKILL 6'!$G$11=\"\", \"\", 'SKILL 6'!$G$11)","v":""},{"$f":"IF('SKILL 6'!$G$14=\"\", \"\", 'SKILL 6'!$G$14)","v":""},{"$f":"IF('SKILL 6'!$G34=\"\", \"\", 'SKILL 6'!$G34)","v":""},{"$f":"IF('SKILL 6'!$I$11=\"\", \"\", 'SKILL 6'!$I$11)","v":""},{"$f":"IF('SKILL 6'!$I$14=\"\", \"\", 'SKILL 6'!$I$14)","v":""},{"$f":"IF('SKILL 6'!$H34=\"\", \"\", 'SKILL 6'!$H34)","v":""},{"$f":"IF('SKILL 6'!$I34=\"\", \"\", 'SKILL 6'!$I34)","v":""},{"$f":"IF('SKILL 6'!$J34=\"\", \"\", 'SKILL 6'!$J34)","v":""},{"$f":"IF('SKILL 6'!$L$11=\"\", \"\", 'SKILL 6'!$L$11)","v":""},{"$f":"IF('SKILL 6'!$L$14=\"\", \"\", 'SKILL 6'!$L$14)","v":""},{"$f":"IF('SKILL 6'!$K34=\"\", \"\", 'SKILL 6'!$K34)","v":""},{"$f":"IF('SKILL 6'!$L34=\"\", \"\", 'SKILL 6'!$L34)","v":""},{"$f":"IF('SKILL 6'!$M34=\"\", \"\", 'SKILL 6'!$M34)","v":""}]
[{"$f":"IF(ATTENDANCE!$D$33=\"\", \"\", ATTENDANCE!$D$33)","v":""},{"$f":"IF(ATTENDANCE!$C$3=\"\", \"\", ATTENDANCE!$C$3)","v":""},{"$f":"IF(ATTENDANCE!$C$4=\"\", \"\", ATTENDANCE!$C$4)","v":""},{"$f":"IF(ATTENDANCE!$C$5=\"\", \"\", ATTENDANCE!$C$5)","v":""},{"$f":"IF(ATTENDANCE!$C$6=\"\", \"\", ATTENDANCE!$C$6)","v":""},{"$f":"IF(ATTENDANCE!$F$11=\"\", \"\", ATTENDANCE!$F$11)","v":""},{"$f":"IF(ATTENDANCE!$F$12=\"\", \"\", ATTENDANCE!$F$12)","v":""},{"$f":"IF(ATTENDANCE!$F33=\"\", \"\", ATTENDANCE!$F33)","v":""},{"$f":"IF(ATTENDANCE!$G33=\"\", \"\", ATTENDANCE!$G33)","v":""},{"$f":"IF(ATTENDANCE!$H$11=\"\", \"\", ATTENDANCE!$H$11)","v":""},{"$f":"IF(ATTENDANCE!$H$12=\"\", \"\", ATTENDANCE!$H$12)","v":""},{"$f":"IF(ATTENDANCE!$H33=\"\", \"\", ATTENDANCE!$H33)","v":""},{"$f":"IF(ATTENDANCE!$I$11=\"\", \"\", ATTENDANCE!$I$11)","v":""},{"$f":"IF(ATTENDANCE!$I$12=\"\", \"\", ATTENDANCE!$I$12)","v":""},{"$f":"IF(ATTENDANCE!$I33=\"\", \"\", ATTENDANCE!$I33)","v":""},{"$f":"IF('SKILL 1'!$C$7=\"\", \"\", 'SKILL 1'!$C$7)","v":""},{"$f":"IF('SKILL 1'!$G$11=\"\", \"\", 'SKILL 1'!$G$11)","v":""},{"$f":"IF('SKILL 1'!$G$14=\"\", \"\", 'SKILL 1'!$G$14)","v":""},{"$f":"IF('SKILL 1'!$G35=\"\", \"\", 'SKILL 1'!$G35)","v":""},{"$f":"IF('SKILL 1'!$I$11=\"\", \"\", 'SKILL 1'!$I$11)","v":""},{"$f":"IF('SKILL 1'!$I$14=\"\", \"\", 'SKILL 1'!$I$14)","v":""},{"$f":"IF('SKILL 1'!$H35=\"\", \"\", 'SKILL 1'!$H35)","v":""},{"$f":"IF('SKILL 1'!$I35=\"\", \"\", 'SKILL 1'!$I35)","v":""},{"$f":"IF('SKILL 1'!$J35=\"\", \"\", 'SKILL 1'!$J35)","v":""},{"$f":"IF('SKILL 1'!$L$11=\"\", \"\", 'SKILL 1'!$L$11)","v":""},{"$f":"IF('SKILL 1'!$L$14=\"\", \"\", 'SKILL 1'!$L$14)","v":""},{"$f":"IF('SKILL 1'!$K35=\"\", \"\", 'SKILL 1'!$K35)","v":""},{"$f":"IF('SKILL 1'!$L35=\"\", \"\", 'SKILL 1'!$L35)","v":""},{"$f":"IF('SKILL 1'!$M35=\"\", \"\", 'SKILL 1'!$M35)","v":""},{"$f":"IF('SKILL 2'!$C$7=\"\", \"\", 'SKILL 2'!$C$7)","v":""},{"$f":"IF('SKILL 2'!$G$11=\"\", \"\", 'SKILL 2'!$G$11)","v":""},{"$f":"IF('SKILL 2'!$G$14=\"\", \"\", 'SKILL 2'!$G$14)","v":""},{"$f":"IF('SKILL 2'!$G35=\"\", \"\", 'SKILL 2'!$G35)","v":""},{"$f":"IF('SKILL 2'!$I$11=\"\", \"\", 'SKILL 2'!$I$11)","v":""},{"$f":"IF('SKILL 2'!$I$14=\"\", \"\", 'SKILL 2'!$I$14)","v":""},{"$f":"IF('SKILL 2'!$H35=\"\", \"\", 'SKILL 2'!$H35)","v":""},{"$f":"IF('SKILL 2'!$I35=\"\", \"\", 'SKILL 2'!$I35)","v":""},{"$f":"IF('SKILL 2'!$J35=\"\", \"\", 'SKILL 2'!$J35)","v":""},{"$f":"IF('SKILL 2'!$L$11=\"\", \"\", 'SKILL 2'!$L$11)","v":""},{"$f":"IF('SKILL 2'!$L$14=\"\", \"\", 'SKILL 2'!$L$14)","v":""},{"$f":"IF('SKILL 2'!$K35=\"\", \"\", 'SKILL 2'!$K35)","v":""},{"$f":"IF('SKILL 2'!$L35=\"\", \"\", 'SKILL 2'!$L35)","v":""},{"$f":"IF('SKILL 2'!$M35=\"\", \"\", 'SKILL 2'!$M35)","v":""},{"$f":"IF('SKILL 3'!$C$7=\"\", \"\", 'SKILL 3'!$C$7)","v":""},{"$f":"IF('SKILL 3'!$G$11=\"\", \"\", 'SKILL 3'!$G$11)","v":""},{"$f":"IF('SKILL 3'!$G$14=\"\", \"\", 'SKILL 3'!$G$14)","v":""},{"$f":"IF('SKILL 3'!$G35=\"\", \"\", 'SKILL 3'!$G35)","v":""},{"$f":"IF('SKILL 3'!$I$11=\"\", \"\", 'SKILL 3'!$I$11)","v":""},{"$f":"IF('SKILL 3'!$I$14=\"\", \"\", 'SKILL 3'!$I$14)","v":""},{"$f":"IF('SKILL 3'!$H35=\"\", \"\", 'SKILL 3'!$H35)","v":""},{"$f":"IF('SKILL 3'!$I35=\"\", \"\", 'SKILL 3'!$I35)","v":""},{"$f":"IF('SKILL 3'!$J35=\"\", \"\", 'SKILL 3'!$J35)","v":""},{"$f":"IF('SKILL 3'!$L$11=\"\", \"\", 'SKILL 3'!$L$11)","v":""},{"$f":"IF('SKILL 3'!$L$14=\"\", \"\", 'SKILL 3'!$L$14)","v":""},{"$f":"IF('SKILL 3'!$K35=\"\", \"\", 'SKILL 3'!$K35)","v":""},{"$f":"IF('SKILL 3'!$L35=\"\", \"\", 'SKILL 3'!$L35)","v":""},{"$f":"IF('SKILL 3'!$M35=\"\", \"\", 'SKILL 3'!$M35)","v":""},{"$f":"IF('SKILL 4'!$C$7=\"\", \"\", 'SKILL 4'!$C$7)","v":""},{"$f":"IF('SKILL 4'!$G$11=\"\", \"\", 'SKILL 4'!$G$11)","v":""},{"$f":"IF('SKILL 4'!$G$14=\"\", \"\", 'SKILL 4'!$G$14)","v":""},{"$f":"IF('SKILL 4'!$G35=\"\", \"\", 'SKILL 4'!$G35)","v":""},{"$f":"IF('SKILL 4'!$I$11=\"\", \"\", 'SKILL 4'!$I$11)","v":""},{"$f":"IF('SKILL 4'!$I$14=\"\", \"\", 'SKILL 4'!$I$14)","v":""},{"$f":"IF('SKILL 4'!$H35=\"\", \"\", 'SKILL 4'!$H35)","v":""},{"$f":"IF('SKILL 4'!$I35=\"\", \"\", 'SKILL 4'!$I35)","v":""},{"$f":"IF('SKILL 4'!$J35=\"\", \"\", 'SKILL 4'!$J35)","v":""},{"$f":"IF('SKILL 4'!$L$11=\"\", \"\", 'SKILL 4'!$L$11)","v":""},{"$f":"IF('SKILL 4'!$L$14=\"\", \"\", 'SKILL 4'!$L$14)","v":""},{"$f":"IF('SKILL 4'!$K35=\"\", \"\", 'SKILL 4'!$K35)","v":""},{"$f":"IF('SKILL 4'!$L35=\"\", \"\", 'SKILL 4'!$L35)","v":""},{"$f":"IF('SKILL 4'!$M35=\"\", \"\", 'SKILL 4'!$M35)","v":""},{"$f":"IF('SKILL 5'!$C$7=\"\", \"\", 'SKILL 5'!$C$7)","v":""},{"$f":"IF('SKILL 5'!$G$11=\"\", \"\", 'SKILL 5'!$G$11)","v":""},{"$f":"IF('SKILL 5'!$G$14=\"\", \"\", 'SKILL 5'!$G$14)","v":""},{"$f":"IF('SKILL 5'!$G35=\"\", \"\", 'SKILL 5'!$G35)","v":""},{"$f":"IF('SKILL 5'!$I$11=\"\", \"\", 'SKILL 5'!$I$11)","v":""},{"$f":"IF('SKILL 5'!$I$14=\"\", \"\", 'SKILL 5'!$I$14)","v":""},{"$f":"IF('SKILL 5'!$H35=\"\", \"\", 'SKILL 5'!$H35)","v":""},{"$f":"IF('SKILL 5'!$I35=\"\", \"\", 'SKILL 5'!$I35)","v":""},{"$f":"IF('SKILL 5'!$J35=\"\", \"\", 'SKILL 5'!$J35)","v":""},{"$f":"IF('SKILL 5'!$L$11=\"\", \"\", 'SKILL 5'!$L$11)","v":""},{"$f":"IF('SKILL 5'!$L$14=\"\", \"\", 'SKILL 5'!$L$14)","v":""},{"$f":"IF('SKILL 5'!$K35=\"\", \"\", 'SKILL 5'!$K35)","v":""},{"$f":"IF('SKILL 5'!$L35=\"\", \"\", 'SKILL 5'!$L35)","v":""},{"$f":"IF('SKILL 5'!$M35=\"\", \"\", 'SKILL 5'!$M35)","v":""},{"$f":"IF('SKILL 6'!$C$7=\"\", \"\", 'SKILL 6'!$C$7)","v":""},{"$f":"IF('SKILL 6'!$G$11=\"\", \"\", 'SKILL 6'!$G$11)","v":""},{"$f":"IF('SKILL 6'!$G$14=\"\", \"\", 'SKILL 6'!$G$14)","v":""},{"$f":"IF('SKILL 6'!$G35=\"\", \"\", 'SKILL 6'!$G35)","v":""},{"$f":"IF('SKILL 6'!$I$11=\"\", \"\", 'SKILL 6'!$I$11)","v":""},{"$f":"IF('SKILL 6'!$I$14=\"\", \"\", 'SKILL 6'!$I$14)","v":""},{"$f":"IF('SKILL 6'!$H35=\"\", \"\", 'SKILL 6'!$H35)","v":""},{"$f":"IF('SKILL 6'!$I35=\"\", \"\", 'SKILL 6'!$I35)","v":""},{"$f":"IF('SKILL 6'!$J35=\"\", \"\", 'SKILL 6'!$J35)","v":""},{"$f":"IF('SKILL 6'!$L$11=\"\", \"\", 'SKILL 6'!$L$11)","v":""},{"$f":"IF('SKILL 6'!$L$14=\"\", \"\", 'SKILL 6'!$L$14)","v":""},{"$f":"IF('SKILL 6'!$K35=\"\", \"\", 'SKILL 6'!$K35)","v":""},{"$f":"IF('SKILL 6'!$L35=\"\", \"\", 'SKILL 6'!$L35)","v":""},{"$f":"IF('SKILL 6'!$M35=\"\", \"\", 'SKILL 6'!$M35)","v":""}]
[{"$f":"IF(ATTENDANCE!$D$34=\"\", \"\", ATTENDANCE!$D$34)","v":""},{"$f":"IF(ATTENDANCE!$C$3=\"\", \"\", ATTENDANCE!$C$3)","v":""},{"$f":"IF(ATTENDANCE!$C$4=\"\", \"\", ATTENDANCE!$C$4)","v":""},{"$f":"IF(ATTENDANCE!$C$5=\"\", \"\", ATTENDANCE!$C$5)","v":""},{"$f":"IF(ATTENDANCE!$C$6=\"\", \"\", ATTENDANCE!$C$6)","v":""},{"$f":"IF(ATTENDANCE!$F$11=\"\", \"\", ATTENDANCE!$F$11)","v":""},{"$f":"IF(ATTENDANCE!$F$12=\"\", \"\", ATTENDANCE!$F$12)","v":""},{"$f":"IF(ATTENDANCE!$F34=\"\", \"\", ATTENDANCE!$F34)","v":""},{"$f":"IF(ATTENDANCE!$G34=\"\", \"\", ATTENDANCE!$G34)","v":""},{"$f":"IF(ATTENDANCE!$H$11=\"\", \"\", ATTENDANCE!$H$11)","v":""},{"$f":"IF(ATTENDANCE!$H$12=\"\", \"\", ATTENDANCE!$H$12)","v":""},{"$f":"IF(ATTENDANCE!$H34=\"\", \"\", ATTENDANCE!$H34)","v":""},{"$f":"IF(ATTENDANCE!$I$11=\"\", \"\", ATTENDANCE!$I$11)","v":""},{"$f":"IF(ATTENDANCE!$I$12=\"\", \"\", ATTENDANCE!$I$12)","v":""},{"$f":"IF(ATTENDANCE!$I34=\"\", \"\", ATTENDANCE!$I34)","v":""},{"$f":"IF('SKILL 1'!$C$7=\"\", \"\", 'SKILL 1'!$C$7)","v":""},{"$f":"IF('SKILL 1'!$G$11=\"\", \"\", 'SKILL 1'!$G$11)","v":""},{"$f":"IF('SKILL 1'!$G$14=\"\", \"\", 'SKILL 1'!$G$14)","v":""},{"$f":"IF('SKILL 1'!$G36=\"\", \"\", 'SKILL 1'!$G36)","v":""},{"$f":"IF('SKILL 1'!$I$11=\"\", \"\", 'SKILL 1'!$I$11)","v":""},{"$f":"IF('SKILL 1'!$I$14=\"\", \"\", 'SKILL 1'!$I$14)","v":""},{"$f":"IF('SKILL 1'!$H36=\"\", \"\", 'SKILL 1'!$H36)","v":""},{"$f":"IF('SKILL 1'!$I36=\"\", \"\", 'SKILL 1'!$I36)","v":""},{"$f":"IF('SKILL 1'!$J36=\"\", \"\", 'SKILL 1'!$J36)","v":""},{"$f":"IF('SKILL 1'!$L$11=\"\", \"\", 'SKILL 1'!$L$11)","v":""},{"$f":"IF('SKILL 1'!$L$14=\"\", \"\", 'SKILL 1'!$L$14)","v":""},{"$f":"IF('SKILL 1'!$K36=\"\", \"\", 'SKILL 1'!$K36)","v":""},{"$f":"IF('SKILL 1'!$L36=\"\", \"\", 'SKILL 1'!$L36)","v":""},{"$f":"IF('SKILL 1'!$M36=\"\", \"\", 'SKILL 1'!$M36)","v":""},{"$f":"IF('SKILL 2'!$C$7=\"\", \"\", 'SKILL 2'!$C$7)","v":""},{"$f":"IF('SKILL 2'!$G$11=\"\", \"\", 'SKILL 2'!$G$11)","v":""},{"$f":"IF('SKILL 2'!$G$14=\"\", \"\", 'SKILL 2'!$G$14)","v":""},{"$f":"IF('SKILL 2'!$G36=\"\", \"\", 'SKILL 2'!$G36)","v":""},{"$f":"IF('SKILL 2'!$I$11=\"\", \"\", 'SKILL 2'!$I$11)","v":""},{"$f":"IF('SKILL 2'!$I$14=\"\", \"\", 'SKILL 2'!$I$14)","v":""},{"$f":"IF('SKILL 2'!$H36=\"\", \"\", 'SKILL 2'!$H36)","v":""},{"$f":"IF('SKILL 2'!$I36=\"\", \"\", 'SKILL 2'!$I36)","v":""},{"$f":"IF('SKILL 2'!$J36=\"\", \"\", 'SKILL 2'!$J36)","v":""},{"$f":"IF('SKILL 2'!$L$11=\"\", \"\", 'SKILL 2'!$L$11)","v":""},{"$f":"IF('SKILL 2'!$L$14=\"\", \"\", 'SKILL 2'!$L$14)","v":""},{"$f":"IF('SKILL 2'!$K36=\"\", \"\", 'SKILL 2'!$K36)","v":""},{"$f":"IF('SKILL 2'!$L36=\"\", \"\", 'SKILL 2'!$L36)","v":""},{"$f":"IF('SKILL 2'!$M36=\"\", \"\", 'SKILL 2'!$M36)","v":""},{"$f":"IF('SKILL 3'!$C$7=\"\", \"\", 'SKILL 3'!$C$7)","v":""},{"$f":"IF('SKILL 3'!$G$11=\"\", \"\", 'SKILL 3'!$G$11)","v":""},{"$f":"IF('SKILL 3'!$G$14=\"\", \"\", 'SKILL 3'!$G$14)","v":""},{"$f":"IF('SKILL 3'!$G36=\"\", \"\", 'SKILL 3'!$G36)","v":""},{"$f":"IF('SKILL 3'!$I$11=\"\", \"\", 'SKILL 3'!$I$11)","v":""},{"$f":"IF('SKILL 3'!$I$14=\"\", \"\", 'SKILL 3'!$I$14)","v":""},{"$f":"IF('SKILL 3'!$H36=\"\", \"\", 'SKILL 3'!$H36)","v":""},{"$f":"IF('SKILL 3'!$I36=\"\", \"\", 'SKILL 3'!$I36)","v":""},{"$f":"IF('SKILL 3'!$J36=\"\", \"\", 'SKILL 3'!$J36)","v":""},{"$f":"IF('SKILL 3'!$L$11=\"\", \"\", 'SKILL 3'!$L$11)","v":""},{"$f":"IF('SKILL 3'!$L$14=\"\", \"\", 'SKILL 3'!$L$14)","v":""},{"$f":"IF('SKILL 3'!$K36=\"\", \"\", 'SKILL 3'!$K36)","v":""},{"$f":"IF('SKILL 3'!$L36=\"\", \"\", 'SKILL 3'!$L36)","v":""},{"$f":"IF('SKILL 3'!$M36=\"\", \"\", 'SKILL 3'!$M36)","v":""},{"$f":"IF('SKILL 4'!$C$7=\"\", \"\", 'SKILL 4'!$C$7)","v":""},{"$f":"IF('SKILL 4'!$G$11=\"\", \"\", 'SKILL 4'!$G$11)","v":""},{"$f":"IF('SKILL 4'!$G$14=\"\", \"\", 'SKILL 4'!$G$14)","v":""},{"$f":"IF('SKILL 4'!$G36=\"\", \"\", 'SKILL 4'!$G36)","v":""},{"$f":"IF('SKILL 4'!$I$11=\"\", \"\", 'SKILL 4'!$I$11)","v":""},{"$f":"IF('SKILL 4'!$I$14=\"\", \"\", 'SKILL 4'!$I$14)","v":""},{"$f":"IF('SKILL 4'!$H36=\"\", \"\", 'SKILL 4'!$H36)","v":""},{"$f":"IF('SKILL 4'!$I36=\"\", \"\", 'SKILL 4'!$I36)","v":""},{"$f":"IF('SKILL 4'!$J36=\"\", \"\", 'SKILL 4'!$J36)","v":""},{"$f":"IF('SKILL 4'!$L$11=\"\", \"\", 'SKILL 4'!$L$11)","v":""},{"$f":"IF('SKILL 4'!$L$14=\"\", \"\", 'SKILL 4'!$L$14)","v":""},{"$f":"IF('SKILL 4'!$K36=\"\", \"\", 'SKILL 4'!$K36)","v":""},{"$f":"IF('SKILL 4'!$L36=\"\", \"\", 'SKILL 4'!$L36)","v":""},{"$f":"IF('SKILL 4'!$M36=\"\", \"\", 'SKILL 4'!$M36)","v":""},{"$f":"IF('SKILL 5'!$C$7=\"\", \"\", 'SKILL 5'!$C$7)","v":""},{"$f":"IF('SKILL 5'!$G$11=\"\", \"\", 'SKILL 5'!$G$11)","v":""},{"$f":"IF('SKILL 5'!$G$14=\"\", \"\", 'SKILL 5'!$G$14)","v":""},{"$f":"IF('SKILL 5'!$G36=\"\", \"\", 'SKILL 5'!$G36)","v":""},{"$f":"IF('SKILL 5'!$I$11=\"\", \"\", 'SKILL 5'!$I$11)","v":""},{"$f":"IF('SKILL 5'!$I$14=\"\", \"\", 'SKILL 5'!$I$14)","v":""},{"$f":"IF('SKILL 5'!$H36=\"\", \"\", 'SKILL 5'!$H36)","v":""},{"$f":"IF('SKILL 5'!$I36=\"\", \"\", 'SKILL 5'!$I36)","v":""},{"$f":"IF('SKILL 5'!$J36=\"\", \"\", 'SKILL 5'!$J36)","v":""},{"$f":"IF('SKILL 5'!$L$11=\"\", \"\", 'SKILL 5'!$L$11)","v":""},{"$f":"IF('SKILL 5'!$L$14=\"\", \"\", 'SKILL 5'!$L$14)","v":""},{"$f":"IF('SKILL 5'!$K36=\"\", \"\", 'SKILL 5'!$K36)","v":""},{"$f":"IF('SKILL 5'!$L36=\"\", \"\", 'SKILL 5'!$L36)","v":""},{"$f":"IF('SKILL 5'!$M36=\"\", \"\", 'SKILL 5'!$M36)","v":""},{"$f":"IF('SKILL 6'!$C$7=\"\", \"\", 'SKILL 6'!$C$7)","v":""},{"$f":"IF('SKILL 6'!$G$11=\"\", \"\", 'SKILL 6'!$G$11)","v":""},{"$f":"IF('SKILL 6'!$G$14=\"\", \"\", 'SKILL 6'!$G$14)","v":""},{"$f":"IF('SKILL 6'!$G36=\"\", \"\", 'SKILL 6'!$G36)","v":""},{"$f":"IF('SKILL 6'!$I$11=\"\", \"\", 'SKILL 6'!$I$11)","v":""},{"$f":"IF('SKILL 6'!$I$14=\"\", \"\", 'SKILL 6'!$I$14)","v":""},{"$f":"IF('SKILL 6'!$H36=\"\", \"\", 'SKILL 6'!$H36)","v":""},{"$f":"IF('SKILL 6'!$I36=\"\", \"\", 'SKILL 6'!$I36)","v":""},{"$f":"IF('SKILL 6'!$J36=\"\", \"\", 'SKILL 6'!$J36)","v":""},{"$f":"IF('SKILL 6'!$L$11=\"\", \"\", 'SKILL 6'!$L$11)","v":""},{"$f":"IF('SKILL 6'!$L$14=\"\", \"\", 'SKILL 6'!$L$14)","v":""},{"$f":"IF('SKILL 6'!$K36=\"\", \"\", 'SKILL 6'!$K36)","v":""},{"$f":"IF('SKILL 6'!$L36=\"\", \"\", 'SKILL 6'!$L36)","v":""},{"$f":"IF('SKILL 6'!$M36=\"\", \"\", 'SKILL 6'!$M36)","v":""}]
[{"$f":"IF(ATTENDANCE!$D$35=\"\", \"\", ATTENDANCE!$D$35)","v":""},{"$f":"IF(ATTENDANCE!$C$3=\"\", \"\", ATTENDANCE!$C$3)","v":""},{"$f":"IF(ATTENDANCE!$C$4=\"\", \"\", ATTENDANCE!$C$4)","v":""},{"$f":"IF(ATTENDANCE!$C$5=\"\", \"\", ATTENDANCE!$C$5)","v":""},{"$f":"IF(ATTENDANCE!$C$6=\"\", \"\", ATTENDANCE!$C$6)","v":""},{"$f":"IF(ATTENDANCE!$F$11=\"\", \"\", ATTENDANCE!$F$11)","v":""},{"$f":"IF(ATTENDANCE!$F$12=\"\", \"\", ATTENDANCE!$F$12)","v":""},{"$f":"IF(ATTENDANCE!$F35=\"\", \"\", ATTENDANCE!$F35)","v":""},{"$f":"IF(ATTENDANCE!$G35=\"\", \"\", ATTENDANCE!$G35)","v":""},{"$f":"IF(ATTENDANCE!$H$11=\"\", \"\", ATTENDANCE!$H$11)","v":""},{"$f":"IF(ATTENDANCE!$H$12=\"\", \"\", ATTENDANCE!$H$12)","v":""},{"$f":"IF(ATTENDANCE!$H35=\"\", \"\", ATTENDANCE!$H35)","v":""},{"$f":"IF(ATTENDANCE!$I$11=\"\", \"\", ATTENDANCE!$I$11)","v":""},{"$f":"IF(ATTENDANCE!$I$12=\"\", \"\", ATTENDANCE!$I$12)","v":""},{"$f":"IF(ATTENDANCE!$I35=\"\", \"\", ATTENDANCE!$I35)","v":""},{"$f":"IF('SKILL 1'!$C$7=\"\", \"\", 'SKILL 1'!$C$7)","v":""},{"$f":"IF('SKILL 1'!$G$11=\"\", \"\", 'SKILL 1'!$G$11)","v":""},{"$f":"IF('SKILL 1'!$G$14=\"\", \"\", 'SKILL 1'!$G$14)","v":""},{"$f":"IF('SKILL 1'!$G37=\"\", \"\", 'SKILL 1'!$G37)","v":""},{"$f":"IF('SKILL 1'!$I$11=\"\", \"\", 'SKILL 1'!$I$11)","v":""},{"$f":"IF('SKILL 1'!$I$14=\"\", \"\", 'SKILL 1'!$I$14)","v":""},{"$f":"IF('SKILL 1'!$H37=\"\", \"\", 'SKILL 1'!$H37)","v":""},{"$f":"IF('SKILL 1'!$I37=\"\", \"\", 'SKILL 1'!$I37)","v":""},{"$f":"IF('SKILL 1'!$J37=\"\", \"\", 'SKILL 1'!$J37)","v":""},{"$f":"IF('SKILL 1'!$L$11=\"\", \"\", 'SKILL 1'!$L$11)","v":""},{"$f":"IF('SKILL 1'!$L$14=\"\", \"\", 'SKILL 1'!$L$14)","v":""},{"$f":"IF('SKILL 1'!$K37=\"\", \"\", 'SKILL 1'!$K37)","v":""},{"$f":"IF('SKILL 1'!$L37=\"\", \"\", 'SKILL 1'!$L37)","v":""},{"$f":"IF('SKILL 1'!$M37=\"\", \"\", 'SKILL 1'!$M37)","v":""},{"$f":"IF('SKILL 2'!$C$7=\"\", \"\", 'SKILL 2'!$C$7)","v":""},{"$f":"IF('SKILL 2'!$G$11=\"\", \"\", 'SKILL 2'!$G$11)","v":""},{"$f":"IF('SKILL 2'!$G$14=\"\", \"\", 'SKILL 2'!$G$14)","v":""},{"$f":"IF('SKILL 2'!$G37=\"\", \"\", 'SKILL 2'!$G37)","v":""},{"$f":"IF('SKILL 2'!$I$11=\"\", \"\", 'SKILL 2'!$I$11)","v":""},{"$f":"IF('SKILL 2'!$I$14=\"\", \"\", 'SKILL 2'!$I$14)","v":""},{"$f":"IF('SKILL 2'!$H37=\"\", \"\", 'SKILL 2'!$H37)","v":""},{"$f":"IF('SKILL 2'!$I37=\"\", \"\", 'SKILL 2'!$I37)","v":""},{"$f":"IF('SKILL 2'!$J37=\"\", \"\", 'SKILL 2'!$J37)","v":""},{"$f":"IF('SKILL 2'!$L$11=\"\", \"\", 'SKILL 2'!$L$11)","v":""},{"$f":"IF('SKILL 2'!$L$14=\"\", \"\", 'SKILL 2'!$L$14)","v":""},{"$f":"IF('SKILL 2'!$K37=\"\", \"\", 'SKILL 2'!$K37)","v":""},{"$f":"IF('SKILL 2'!$L37=\"\", \"\", 'SKILL 2'!$L37)","v":""},{"$f":"IF('SKILL 2'!$M37=\"\", \"\", 'SKILL 2'!$M37)","v":""},{"$f":"IF('SKILL 3'!$C$7=\"\", \"\", 'SKILL 3'!$C$7)","v":""},{"$f":"IF('SKILL 3'!$G$11=\"\", \"\", 'SKILL 3'!$G$11)","v":""},{"$f":"IF('SKILL 3'!$G$14=\"\", \"\", 'SKILL 3'!$G$14)","v":""},{"$f":"IF('SKILL 3'!$G37=\"\", \"\", 'SKILL 3'!$G37)","v":""},{"$f":"IF('SKILL 3'!$I$11=\"\", \"\", 'SKILL 3'!$I$11)","v":""},{"$f":"IF('SKILL 3'!$I$14=\"\", \"\", 'SKILL 3'!$I$14)","v":""},{"$f":"IF('SKILL 3'!$H37=\"\", \"\", 'SKILL 3'!$H37)","v":""},{"$f":"IF('SKILL 3'!$I37=\"\", \"\", 'SKILL 3'!$I37)","v":""},{"$f":"IF('SKILL 3'!$J37=\"\", \"\", 'SKILL 3'!$J37)","v":""},{"$f":"IF('SKILL 3'!$L$11=\"\", \"\", 'SKILL 3'!$L$11)","v":""},{"$f":"IF('SKILL 3'!$L$14=\"\", \"\", 'SKILL 3'!$L$14)","v":""},{"$f":"IF('SKILL 3'!$K37=\"\", \"\", 'SKILL 3'!$K37)","v":""},{"$f":"IF('SKILL 3'!$L37=\"\", \"\", 'SKILL 3'!$L37)","v":""},{"$f":"IF('SKILL 3'!$M37=\"\", \"\", 'SKILL 3'!$M37)","v":""},{"$f":"IF('SKILL 4'!$C$7=\"\", \"\", 'SKILL 4'!$C$7)","v":""},{"$f":"IF('SKILL 4'!$G$11=\"\", \"\", 'SKILL 4'!$G$11)","v":""},{"$f":"IF('SKILL 4'!$G$14=\"\", \"\", 'SKILL 4'!$G$14)","v":""},{"$f":"IF('SKILL 4'!$G37=\"\", \"\", 'SKILL 4'!$G37)","v":""},{"$f":"IF('SKILL 4'!$I$11=\"\", \"\", 'SKILL 4'!$I$11)","v":""},{"$f":"IF('SKILL 4'!$I$14=\"\", \"\", 'SKILL 4'!$I$14)","v":""},{"$f":"IF('SKILL 4'!$H37=\"\", \"\", 'SKILL 4'!$H37)","v":""},{"$f":"IF('SKILL 4'!$I37=\"\", \"\", 'SKILL 4'!$I37)","v":""},{"$f":"IF('SKILL 4'!$J37=\"\", \"\", 'SKILL 4'!$J37)","v":""},{"$f":"IF('SKILL 4'!$L$11=\"\", \"\", 'SKILL 4'!$L$11)","v":""},{"$f":"IF('SKILL 4'!$L$14=\"\", \"\", 'SKILL 4'!$L$14)","v":""},{"$f":"IF('SKILL 4'!$K37=\"\", \"\", 'SKILL 4'!$K37)","v":""},{"$f":"IF('SKILL 4'!$L37=\"\", \"\", 'SKILL 4'!$L37)","v":""},{"$f":"IF('SKILL 4'!$M37=\"\", \"\", 'SKILL 4'!$M37)","v":""},{"$f":"IF('SKILL 5'!$C$7=\"\", \"\", 'SKILL 5'!$C$7)","v":""},{"$f":"IF('SKILL 5'!$G$11=\"\", \"\", 'SKILL 5'!$G$11)","v":""},{"$f":"IF('SKILL 5'!$G$14=\"\", \"\", 'SKILL 5'!$G$14)","v":""},{"$f":"IF('SKILL 5'!$G37=\"\", \"\", 'SKILL 5'!$G37)","v":""},{"$f":"IF('SKILL 5'!$I$11=\"\", \"\", 'SKILL 5'!$I$11)","v":""},{"$f":"IF('SKILL 5'!$I$14=\"\", \"\", 'SKILL 5'!$I$14)","v":""},{"$f":"IF('SKILL 5'!$H37=\"\", \"\", 'SKILL 5'!$H37)","v":""},{"$f":"IF('SKILL 5'!$I37=\"\", \"\", 'SKILL 5'!$I37)","v":""},{"$f":"IF('SKILL 5'!$J37=\"\", \"\", 'SKILL 5'!$J37)","v":""},{"$f":"IF('SKILL 5'!$L$11=\"\", \"\", 'SKILL 5'!$L$11)","v":""},{"$f":"IF('SKILL 5'!$L$14=\"\", \"\", 'SKILL 5'!$L$14)","v":""},{"$f":"IF('SKILL 5'!$K37=\"\", \"\", 'SKILL 5'!$K37)","v":""},{"$f":"IF('SKILL 5'!$L37=\"\", \"\", 'SKILL 5'!$L37)","v":""},{"$f":"IF('SKILL 5'!$M37=\"\", \"\", 'SKILL 5'!$M37)","v":""},{"$f":"IF('SKILL 6'!$C$7=\"\", \"\", 'SKILL 6'!$C$7)","v":""},{"$f":"IF('SKILL 6'!$G$11=\"\", \"\", 'SKILL 6'!$G$11)","v":""},{"$f":"IF('SKILL 6'!$G$14=\"\", \"\", 'SKILL 6'!$G$14)","v":""},{"$f":"IF('SKILL 6'!$G37=\"\", \"\", 'SKILL 6'!$G37)","v":""},{"$f":"IF('SKILL 6'!$I$11=\"\", \"\", 'SKILL 6'!$I$11)","v":""},{"$f":"IF('SKILL 6'!$I$14=\"\", \"\", 'SKILL 6'!$I$14)","v":""},{"$f":"IF('SKILL 6'!$H37=\"\", \"\", 'SKILL 6'!$H37)","v":""},{"$f":"IF('SKILL 6'!$I37=\"\", \"\", 'SKILL 6'!$I37)","v":""},{"$f":"IF('SKILL 6'!$J37=\"\", \"\", 'SKILL 6'!$J37)","v":""},{"$f":"IF('SKILL 6'!$L$11=\"\", \"\", 'SKILL 6'!$L$11)","v":""},{"$f":"IF('SKILL 6'!$L$14=\"\", \"\", 'SKILL 6'!$L$14)","v":""},{"$f":"IF('SKILL 6'!$K37=\"\", \"\", 'SKILL 6'!$K37)","v":""},{"$f":"IF('SKILL 6'!$L37=\"\", \"\", 'SKILL 6'!$L37)","v":""},{"$f":"IF('SKILL 6'!$M37=\"\", \"\", 'SKILL 6'!$M37)","v":""}]
[{"$f":"IF(ATTENDANCE!$D$36=\"\", \"\", ATTENDANCE!$D$36)","v":""},{"$f":"IF(ATTENDANCE!$C$3=\"\", \"\", ATTENDANCE!$C$3)","v":""},{"$f":"IF(ATTENDANCE!$C$4=\"\", \"\", ATTENDANCE!$C$4)","v":""},{"$f":"IF(ATTENDANCE!$C$5=\"\", \"\", ATTENDANCE!$C$5)","v":""},{"$f":"IF(ATTENDANCE!$C$6=\"\", \"\", ATTENDANCE!$C$6)","v":""},{"$f":"IF(ATTENDANCE!$F$11=\"\", \"\", ATTENDANCE!$F$11)","v":""},{"$f":"IF(ATTENDANCE!$F$12=\"\", \"\", ATTENDANCE!$F$12)","v":""},{"$f":"IF(ATTENDANCE!$F36=\"\", \"\", ATTENDANCE!$F36)","v":""},{"$f":"IF(ATTENDANCE!$G36=\"\", \"\", ATTENDANCE!$G36)","v":""},{"$f":"IF(ATTENDANCE!$H$11=\"\", \"\", ATTENDANCE!$H$11)","v":""},{"$f":"IF(ATTENDANCE!$H$12=\"\", \"\", ATTENDANCE!$H$12)","v":""},{"$f":"IF(ATTENDANCE!$H36=\"\", \"\", ATTENDANCE!$H36)","v":""},{"$f":"IF(ATTENDANCE!$I$11=\"\", \"\", ATTENDANCE!$I$11)","v":""},{"$f":"IF(ATTENDANCE!$I$12=\"\", \"\", ATTENDANCE!$I$12)","v":""},{"$f":"IF(ATTENDANCE!$I36=\"\", \"\", ATTENDANCE!$I36)","v":""},{"$f":"IF('SKILL 1'!$C$7=\"\", \"\", 'SKILL 1'!$C$7)","v":""},{"$f":"IF('SKILL 1'!$G$11=\"\", \"\", 'SKILL 1'!$G$11)","v":""},{"$f":"IF('SKILL 1'!$G$14=\"\", \"\", 'SKILL 1'!$G$14)","v":""},{"$f":"IF('SKILL 1'!$G38=\"\", \"\", 'SKILL 1'!$G38)","v":""},{"$f":"IF('SKILL 1'!$I$11=\"\", \"\", 'SKILL 1'!$I$11)","v":""},{"$f":"IF('SKILL 1'!$I$14=\"\", \"\", 'SKILL 1'!$I$14)","v":""},{"$f":"IF('SKILL 1'!$H38=\"\", \"\", 'SKILL 1'!$H38)","v":""},{"$f":"IF('SKILL 1'!$I38=\"\", \"\", 'SKILL 1'!$I38)","v":""},{"$f":"IF('SKILL 1'!$J38=\"\", \"\", 'SKILL 1'!$J38)","v":""},{"$f":"IF('SKILL 1'!$L$11=\"\", \"\", 'SKILL 1'!$L$11)","v":""},{"$f":"IF('SKILL 1'!$L$14=\"\", \"\", 'SKILL 1'!$L$14)","v":""},{"$f":"IF('SKILL 1'!$K38=\"\", \"\", 'SKILL 1'!$K38)","v":""},{"$f":"IF('SKILL 1'!$L38=\"\", \"\", 'SKILL 1'!$L38)","v":""},{"$f":"IF('SKILL 1'!$M38=\"\", \"\", 'SKILL 1'!$M38)","v":""},{"$f":"IF('SKILL 2'!$C$7=\"\", \"\", 'SKILL 2'!$C$7)","v":""},{"$f":"IF('SKILL 2'!$G$11=\"\", \"\", 'SKILL 2'!$G$11)","v":""},{"$f":"IF('SKILL 2'!$G$14=\"\", \"\", 'SKILL 2'!$G$14)","v":""},{"$f":"IF('SKILL 2'!$G38=\"\", \"\", 'SKILL 2'!$G38)","v":""},{"$f":"IF('SKILL 2'!$I$11=\"\", \"\", 'SKILL 2'!$I$11)","v":""},{"$f":"IF('SKILL 2'!$I$14=\"\", \"\", 'SKILL 2'!$I$14)","v":""},{"$f":"IF('SKILL 2'!$H38=\"\", \"\", 'SKILL 2'!$H38)","v":""},{"$f":"IF('SKILL 2'!$I38=\"\", \"\", 'SKILL 2'!$I38)","v":""},{"$f":"IF('SKILL 2'!$J38=\"\", \"\", 'SKILL 2'!$J38)","v":""},{"$f":"IF('SKILL 2'!$L$11=\"\", \"\", 'SKILL 2'!$L$11)","v":""},{"$f":"IF('SKILL 2'!$L$14=\"\", \"\", 'SKILL 2'!$L$14)","v":""},{"$f":"IF('SKILL 2'!$K38=\"\", \"\", 'SKILL 2'!$K38)","v":""},{"$f":"IF('SKILL 2'!$L38=\"\", \"\", 'SKILL 2'!$L38)","v":""},{"$f":"IF('SKILL 2'!$M38=\"\", \"\", 'SKILL 2'!$M38)","v":""},{"$f":"IF('SKILL 3'!$C$7=\"\", \"\", 'SKILL 3'!$C$7)","v":""},{"$f":"IF('SKILL 3'!$G$11=\"\", \"\", 'SKILL 3'!$G$11)","v":""},{"$f":"IF('SKILL 3'!$G$14=\"\", \"\", 'SKILL 3'!$G$14)","v":""},{"$f":"IF('SKILL 3'!$G38=\"\", \"\", 'SKILL 3'!$G38)","v":""},{"$f":"IF('SKILL 3'!$I$11=\"\", \"\", 'SKILL 3'!$I$11)","v":""},{"$f":"IF('SKILL 3'!$I$14=\"\", \"\", 'SKILL 3'!$I$14)","v":""},{"$f":"IF('SKILL 3'!$H38=\"\", \"\", 'SKILL 3'!$H38)","v":""},{"$f":"IF('SKILL 3'!$I38=\"\", \"\", 'SKILL 3'!$I38)","v":""},{"$f":"IF('SKILL 3'!$J38=\"\", \"\", 'SKILL 3'!$J38)","v":""},{"$f":"IF('SKILL 3'!$L$11=\"\", \"\", 'SKILL 3'!$L$11)","v":""},{"$f":"IF('SKILL 3'!$L$14=\"\", \"\", 'SKILL 3'!$L$14)","v":""},{"$f":"IF('SKILL 3'!$K38=\"\", \"\", 'SKILL 3'!$K38)","v":""},{"$f":"IF('SKILL 3'!$L38=\"\", \"\", 'SKILL 3'!$L38)","v":""},{"$f":"IF('SKILL 3'!$M38=\"\", \"\", 'SKILL 3'!$M38)","v":""},{"$f":"IF('SKILL 4'!$C$7=\"\", \"\", 'SKILL 4'!$C$7)","v":""},{"$f":"IF('SKILL 4'!$G$11=\"\", \"\", 'SKILL 4'!$G$11)","v":""},{"$f":"IF('SKILL 4'!$G$14=\"\", \"\", 'SKILL 4'!$G$14)","v":""},{"$f":"IF('SKILL 4'!$G38=\"\", \"\", 'SKILL 4'!$G38)","v":""},{"$f":"IF('SKILL 4'!$I$11=\"\", \"\", 'SKILL 4'!$I$11)","v":""},{"$f":"IF('SKILL 4'!$I$14=\"\", \"\", 'SKILL 4'!$I$14)","v":""},{"$f":"IF('SKILL 4'!$H38=\"\", \"\", 'SKILL 4'!$H38)","v":""},{"$f":"IF('SKILL 4'!$I38=\"\", \"\", 'SKILL 4'!$I38)","v":""},{"$f":"IF('SKILL 4'!$J38=\"\", \"\", 'SKILL 4'!$J38)","v":""},{"$f":"IF('SKILL 4'!$L$11=\"\", \"\", 'SKILL 4'!$L$11)","v":""},{"$f":"IF('SKILL 4'!$L$14=\"\", \"\", 'SKILL 4'!$L$14)","v":""},{"$f":"IF('SKILL 4'!$K38=\"\", \"\", 'SKILL 4'!$K38)","v":""},{"$f":"IF('SKILL 4'!$L38=\"\", \"\", 'SKILL 4'!$L38)","v":""},{"$f":"IF('SKILL 4'!$M38=\"\", \"\", 'SKILL 4'!$M38)","v":""},{"$f":"IF('SKILL 5'!$C$7=\"\", \"\", 'SKILL 5'!$C$7)","v":""},{"$f":"IF('SKILL 5'!$G$11=\"\", \"\", 'SKILL 5'!$G$11)","v":""},{"$f":"IF('SKILL 5'!$G$14=\"\", \"\", 'SKILL 5'!$G$14)","v":""},{"$f":"IF('SKILL 5'!$G38=\"\", \"\", 'SKILL 5'!$G38)","v":""},{"$f":"IF('SKILL 5'!$I$11=\"\", \"\", 'SKILL 5'!$I$11)","v":""},{"$f":"IF('SKILL 5'!$I$14=\"\", \"\", 'SKILL 5'!$I$14)","v":""},{"$f":"IF('SKILL 5'!$H38=\"\", \"\", 'SKILL 5'!$H38)","v":""},{"$f":"IF('SKILL 5'!$I38=\"\", \"\", 'SKILL 5'!$I38)","v":""},{"$f":"IF('SKILL 5'!$J38=\"\", \"\", 'SKILL 5'!$J38)","v":""},{"$f":"IF('SKILL 5'!$L$11=\"\", \"\", 'SKILL 5'!$L$11)","v":""},{"$f":"IF('SKILL 5'!$L$14=\"\", \"\", 'SKILL 5'!$L$14)","v":""},{"$f":"IF('SKILL 5'!$K38=\"\", \"\", 'SKILL 5'!$K38)","v":""},{"$f":"IF('SKILL 5'!$L38=\"\", \"\", 'SKILL 5'!$L38)","v":""},{"$f":"IF('SKILL 5'!$M38=\"\", \"\", 'SKILL 5'!$M38)","v":""},{"$f":"IF('SKILL 6'!$C$7=\"\", \"\", 'SKILL 6'!$C$7)","v":""},{"$f":"IF('SKILL 6'!$G$11=\"\", \"\", 'SKILL 6'!$G$11)","v":""},{"$f":"IF('SKILL 6'!$G$14=\"\", \"\", 'SKILL 6'!$G$14)","v":""},{"$f":"IF('SKILL 6'!$G38=\"\", \"\", 'SKILL 6'!$G38)","v":""},{"$f":"IF('SKILL 6'!$I$11=\"\", \"\", 'SKILL 6'!$I$11)","v":""},{"$f":"IF('SKILL 6'!$I$14=\"\", \"\", 'SKILL 6'!$I$14)","v":""},{"$f":"IF('SKILL 6'!$H38=\"\", \"\", 'SKILL 6'!$H38)","v":""},{"$f":"IF('SKILL 6'!$I38=\"\", \"\", 'SKILL 6'!$I38)","v":""},{"$f":"IF('SKILL 6'!$J38=\"\", \"\", 'SKILL 6'!$J38)","v":""},{"$f":"IF('SKILL 6'!$L$11=\"\", \"\", 'SKILL 6'!$L$11)","v":""},{"$f":"IF('SKILL 6'!$L$14=\"\", \"\", 'SKILL 6'!$L$14)","v":""},{"$f":"IF('SKILL 6'!$K38=\"\", \"\", 'SKILL 6'!$K38)","v":""},{"$f":"IF('SKILL 6'!$L38=\"\", \"\", 'SKILL 6'!$L38)","v":""},{"$f":"IF('SKILL 6'!$M38=\"\", \"\", 'SKILL 6'!$M38)","v":""}]
[{"$f":"IF(ATTENDANCE!$D$37=\"\", \"\", ATTENDANCE!$D$37)","v":""},{"$f":"IF(ATTENDANCE!$C$3=\"\", \"\", ATTENDANCE!$C$3)","v":""},{"$f":"IF(ATTENDANCE!$C$4=\"\", \"\", ATTENDANCE!$C$4)","v":""},{"$f":"IF(ATTENDANCE!$C$5=\"\", \"\", ATTENDANCE!$C$5)","v":""},{"$f":"IF(ATTENDANCE!$C$6=\"\", \"\", ATTENDANCE!$C$6)","v":""},{"$f":"IF(ATTENDANCE!$F$11=\"\", \"\", ATTENDANCE!$F$11)","v":""},{"$f":"IF(ATTENDANCE!$F$12=\"\", \"\", ATTENDANCE!$F$12)","v":""},{"$f":"IF(ATTENDANCE!$F37=\"\", \"\", ATTENDANCE!$F37)","v":""},{"$f":"IF(ATTENDANCE!$G37=\"\", \"\", ATTENDANCE!$G37)","v":""},{"$f":"IF(ATTENDANCE!$H$11=\"\", \"\", ATTENDANCE!$H$11)","v":""},{"$f":"IF(ATTENDANCE!$H$12=\"\", \"\", ATTENDANCE!$H$12)","v":""},{"$f":"IF(ATTENDANCE!$H37=\"\", \"\", ATTENDANCE!$H37)","v":""},{"$f":"IF(ATTENDANCE!$I$11=\"\", \"\", ATTENDANCE!$I$11)","v":""},{"$f":"IF(ATTENDANCE!$I$12=\"\", \"\", ATTENDANCE!$I$12)","v":""},{"$f":"IF(ATTENDANCE!$I37=\"\", \"\", ATTENDANCE!$I37)","v":""},{"$f":"IF('SKILL 1'!$C$7=\"\", \"\", 'SKILL 1'!$C$7)","v":""},{"$f":"IF('SKILL 1'!$G$11=\"\", \"\", 'SKILL 1'!$G$11)","v":""},{"$f":"IF('SKILL 1'!$G$14=\"\", \"\", 'SKILL 1'!$G$14)","v":""},{"$f":"IF('SKILL 1'!$G39=\"\", \"\", 'SKILL 1'!$G39)","v":""},{"$f":"IF('SKILL 1'!$I$11=\"\", \"\", 'SKILL 1'!$I$11)","v":""},{"$f":"IF('SKILL 1'!$I$14=\"\", \"\", 'SKILL 1'!$I$14)","v":""},{"$f":"IF('SKILL 1'!$H39=\"\", \"\", 'SKILL 1'!$H39)","v":""},{"$f":"IF('SKILL 1'!$I39=\"\", \"\", 'SKILL 1'!$I39)","v":""},{"$f":"IF('SKILL 1'!$J39=\"\", \"\", 'SKILL 1'!$J39)","v":""},{"$f":"IF('SKILL 1'!$L$11=\"\", \"\", 'SKILL 1'!$L$11)","v":""},{"$f":"IF('SKILL 1'!$L$14=\"\", \"\", 'SKILL 1'!$L$14)","v":""},{"$f":"IF('SKILL 1'!$K39=\"\", \"\", 'SKILL 1'!$K39)","v":""},{"$f":"IF('SKILL 1'!$L39=\"\", \"\", 'SKILL 1'!$L39)","v":""},{"$f":"IF('SKILL 1'!$M39=\"\", \"\", 'SKILL 1'!$M39)","v":""},{"$f":"IF('SKILL 2'!$C$7=\"\", \"\", 'SKILL 2'!$C$7)","v":""},{"$f":"IF('SKILL 2'!$G$11=\"\", \"\", 'SKILL 2'!$G$11)","v":""},{"$f":"IF('SKILL 2'!$G$14=\"\", \"\", 'SKILL 2'!$G$14)","v":""},{"$f":"IF('SKILL 2'!$G39=\"\", \"\", 'SKILL 2'!$G39)","v":""},{"$f":"IF('SKILL 2'!$I$11=\"\", \"\", 'SKILL 2'!$I$11)","v":""},{"$f":"IF('SKILL 2'!$I$14=\"\", \"\", 'SKILL 2'!$I$14)","v":""},{"$f":"IF('SKILL 2'!$H39=\"\", \"\", 'SKILL 2'!$H39)","v":""},{"$f":"IF('SKILL 2'!$I39=\"\", \"\", 'SKILL 2'!$I39)","v":""},{"$f":"IF('SKILL 2'!$J39=\"\", \"\", 'SKILL 2'!$J39)","v":""},{"$f":"IF('SKILL 2'!$L$11=\"\", \"\", 'SKILL 2'!$L$11)","v":""},{"$f":"IF('SKILL 2'!$L$14=\"\", \"\", 'SKILL 2'!$L$14)","v":""},{"$f":"IF('SKILL 2'!$K39=\"\", \"\", 'SKILL 2'!$K39)","v":""},{"$f":"IF('SKILL 2'!$L39=\"\", \"\", 'SKILL 2'!$L39)","v":""},{"$f":"IF('SKILL 2'!$M39=\"\", \"\", 'SKILL 2'!$M39)","v":""},{"$f":"IF('SKILL 3'!$C$7=\"\", \"\", 'SKILL 3'!$C$7)","v":""},{"$f":"IF('SKILL 3'!$G$11=\"\", \"\", 'SKILL 3'!$G$11)","v":""},{"$f":"IF('SKILL 3'!$G$14=\"\", \"\", 'SKILL 3'!$G$14)","v":""},{"$f":"IF('SKILL 3'!$G39=\"\", \"\", 'SKILL 3'!$G39)","v":""},{"$f":"IF('SKILL 3'!$I$11=\"\", \"\", 'SKILL 3'!$I$11)","v":""},{"$f":"IF('SKILL 3'!$I$14=\"\", \"\", 'SKILL 3'!$I$14)","v":""},{"$f":"IF('SKILL 3'!$H39=\"\", \"\", 'SKILL 3'!$H39)","v":""},{"$f":"IF('SKILL 3'!$I39=\"\", \"\", 'SKILL 3'!$I39)","v":""},{"$f":"IF('SKILL 3'!$J39=\"\", \"\", 'SKILL 3'!$J39)","v":""},{"$f":"IF('SKILL 3'!$L$11=\"\", \"\", 'SKILL 3'!$L$11)","v":""},{"$f":"IF('SKILL 3'!$L$14=\"\", \"\", 'SKILL 3'!$L$14)","v":""},{"$f":"IF('SKILL 3'!$K39=\"\", \"\", 'SKILL 3'!$K39)","v":""},{"$f":"IF('SKILL 3'!$L39=\"\", \"\", 'SKILL 3'!$L39)","v":""},{"$f":"IF('SKILL 3'!$M39=\"\", \"\", 'SKILL 3'!$M39)","v":""},{"$f":"IF('SKILL 4'!$C$7=\"\", \"\", 'SKILL 4'!$C$7)","v":""},{"$f":"IF('SKILL 4'!$G$11=\"\", \"\", 'SKILL 4'!$G$11)","v":""},{"$f":"IF('SKILL 4'!$G$14=\"\", \"\", 'SKILL 4'!$G$14)","v":""},{"$f":"IF('SKILL 4'!$G39=\"\", \"\", 'SKILL 4'!$G39)","v":""},{"$f":"IF('SKILL 4'!$I$11=\"\", \"\", 'SKILL 4'!$I$11)","v":""},{"$f":"IF('SKILL 4'!$I$14=\"\", \"\", 'SKILL 4'!$I$14)","v":""},{"$f":"IF('SKILL 4'!$H39=\"\", \"\", 'SKILL 4'!$H39)","v":""},{"$f":"IF('SKILL 4'!$I39=\"\", \"\", 'SKILL 4'!$I39)","v":""},{"$f":"IF('SKILL 4'!$J39=\"\", \"\", 'SKILL 4'!$J39)","v":""},{"$f":"IF('SKILL 4'!$L$11=\"\", \"\", 'SKILL 4'!$L$11)","v":""},{"$f":"IF('SKILL 4'!$L$14=\"\", \"\", 'SKILL 4'!$L$14)","v":""},{"$f":"IF('SKILL 4'!$K39=\"\", \"\", 'SKILL 4'!$K39)","v":""},{"$f":"IF('SKILL 4'!$L39=\"\", \"\", 'SKILL 4'!$L39)","v":""},{"$f":"IF('SKILL 4'!$M39=\"\", \"\", 'SKILL 4'!$M39)","v":""},{"$f":"IF('SKILL 5'!$C$7=\"\", \"\", 'SKILL 5'!$C$7)","v":""},{"$f":"IF('SKILL 5'!$G$11=\"\", \"\", 'SKILL 5'!$G$11)","v":""},{"$f":"IF('SKILL 5'!$G$14=\"\", \"\", 'SKILL 5'!$G$14)","v":""},{"$f":"IF('SKILL 5'!$G39=\"\", \"\", 'SKILL 5'!$G39)","v":""},{"$f":"IF('SKILL 5'!$I$11=\"\", \"\", 'SKILL 5'!$I$11)","v":""},{"$f":"IF('SKILL 5'!$I$14=\"\", \"\", 'SKILL 5'!$I$14)","v":""},{"$f":"IF('SKILL 5'!$H39=\"\", \"\", 'SKILL 5'!$H39)","v":""},{"$f":"IF('SKILL 5'!$I39=\"\", \"\", 'SKILL 5'!$I39)","v":""},{"$f":"IF('SKILL 5'!$J39=\"\", \"\", 'SKILL 5'!$J39)","v":""},{"$f":"IF('SKILL 5'!$L$11=\"\", \"\", 'SKILL 5'!$L$11)","v":""},{"$f":"IF('SKILL 5'!$L$14=\"\", \"\", 'SKILL 5'!$L$14)","v":""},{"$f":"IF('SKILL 5'!$K39=\"\", \"\", 'SKILL 5'!$K39)","v":""},{"$f":"IF('SKILL 5'!$L39=\"\", \"\", 'SKILL 5'!$L39)","v":""},{"$f":"IF('SKILL 5'!$M39=\"\", \"\", 'SKILL 5'!$M39)","v":""},{"$f":"IF('SKILL 6'!$C$7=\"\", \"\", 'SKILL 6'!$C$7)","v":""},{"$f":"IF('SKILL 6'!$G$11=\"\", \"\", 'SKILL 6'!$G$11)","v":""},{"$f":"IF('SKILL 6'!$G$14=\"\", \"\", 'SKILL 6'!$G$14)","v":""},{"$f":"IF('SKILL 6'!$G39=\"\", \"\", 'SKILL 6'!$G39)","v":""},{"$f":"IF('SKILL 6'!$I$11=\"\", \"\", 'SKILL 6'!$I$11)","v":""},{"$f":"IF('SKILL 6'!$I$14=\"\", \"\", 'SKILL 6'!$I$14)","v":""},{"$f":"IF('SKILL 6'!$H39=\"\", \"\", 'SKILL 6'!$H39)","v":""},{"$f":"IF('SKILL 6'!$I39=\"\", \"\", 'SKILL 6'!$I39)","v":""},{"$f":"IF('SKILL 6'!$J39=\"\", \"\", 'SKILL 6'!$J39)","v":""},{"$f":"IF('SKILL 6'!$L$11=\"\", \"\", 'SKILL 6'!$L$11)","v":""},{"$f":"IF('SKILL 6'!$L$14=\"\", \"\", 'SKILL 6'!$L$14)","v":""},{"$f":"IF('SKILL 6'!$K39=\"\", \"\", 'SKILL 6'!$K39)","v":""},{"$f":"IF('SKILL 6'!$L39=\"\", \"\", 'SKILL 6'!$L39)","v":""},{"$f":"IF('SKILL 6'!$M39=\"\", \"\", 'SKILL 6'!$M39)","v":""}]
[{"$f":"IF(ATTENDANCE!$D$38=\"\", \"\", ATTENDANCE!$D$38)","v":""},{"$f":"IF(ATTENDANCE!$C$3=\"\", \"\", ATTENDANCE!$C$3)","v":""},{"$f":"IF(ATTENDANCE!$C$4=\"\", \"\", ATTENDANCE!$C$4)","v":""},{"$f":"IF(ATTENDANCE!$C$5=\"\", \"\", ATTENDANCE!$C$5)","v":""},{"$f":"IF(ATTENDANCE!$C$6=\"\", \"\", ATTENDANCE!$C$6)","v":""},{"$f":"IF(ATTENDANCE!$F$11=\"\", \"\", ATTENDANCE!$F$11)","v":""},{"$f":"IF(ATTENDANCE!$F$12=\"\", \"\", ATTENDANCE!$F$12)","v":""},{"$f":"IF(ATTENDANCE!$F38=\"\", \"\", ATTENDANCE!$F38)","v":""},{"$f":"IF(ATTENDANCE!$G38=\"\", \"\", ATTENDANCE!$G38)","v":""},{"$f":"IF(ATTENDANCE!$H$11=\"\", \"\", ATTENDANCE!$H$11)","v":""},{"$f":"IF(ATTENDANCE!$H$12=\"\", \"\", ATTENDANCE!$H$12)","v":""},{"$f":"IF(ATTENDANCE!$H38=\"\", \"\", ATTENDANCE!$H38)","v":""},{"$f":"IF(ATTENDANCE!$I$11=\"\", \"\", ATTENDANCE!$I$11)","v":""},{"$f":"IF(ATTENDANCE!$I$12=\"\", \"\", ATTENDANCE!$I$12)","v":""},{"$f":"IF(ATTENDANCE!$I38=\"\", \"\", ATTENDANCE!$I38)","v":""},{"$f":"IF('SKILL 1'!$C$7=\"\", \"\", 'SKILL 1'!$C$7)","v":""},{"$f":"IF('SKILL 1'!$G$11=\"\", \"\", 'SKILL 1'!$G$11)","v":""},{"$f":"IF('SKILL 1'!$G$14=\"\", \"\", 'SKILL 1'!$G$14)","v":""},{"$f":"IF('SKILL 1'!$G40=\"\", \"\", 'SKILL 1'!$G40)","v":""},{"$f":"IF('SKILL 1'!$I$11=\"\", \"\", 'SKILL 1'!$I$11)","v":""},{"$f":"IF('SKILL 1'!$I$14=\"\", \"\", 'SKILL 1'!$I$14)","v":""},{"$f":"IF('SKILL 1'!$H40=\"\", \"\", 'SKILL 1'!$H40)","v":""},{"$f":"IF('SKILL 1'!$I40=\"\", \"\", 'SKILL 1'!$I40)","v":""},{"$f":"IF('SKILL 1'!$J40=\"\", \"\", 'SKILL 1'!$J40)","v":""},{"$f":"IF('SKILL 1'!$L$11=\"\", \"\", 'SKILL 1'!$L$11)","v":""},{"$f":"IF('SKILL 1'!$L$14=\"\", \"\", 'SKILL 1'!$L$14)","v":""},{"$f":"IF('SKILL 1'!$K40=\"\", \"\", 'SKILL 1'!$K40)","v":""},{"$f":"IF('SKILL 1'!$L40=\"\", \"\", 'SKILL 1'!$L40)","v":""},{"$f":"IF('SKILL 1'!$M40=\"\", \"\", 'SKILL 1'!$M40)","v":""},{"$f":"IF('SKILL 2'!$C$7=\"\", \"\", 'SKILL 2'!$C$7)","v":""},{"$f":"IF('SKILL 2'!$G$11=\"\", \"\", 'SKILL 2'!$G$11)","v":""},{"$f":"IF('SKILL 2'!$G$14=\"\", \"\", 'SKILL 2'!$G$14)","v":""},{"$f":"IF('SKILL 2'!$G40=\"\", \"\", 'SKILL 2'!$G40)","v":""},{"$f":"IF('SKILL 2'!$I$11=\"\", \"\", 'SKILL 2'!$I$11)","v":""},{"$f":"IF('SKILL 2'!$I$14=\"\", \"\", 'SKILL 2'!$I$14)","v":""},{"$f":"IF('SKILL 2'!$H40=\"\", \"\", 'SKILL 2'!$H40)","v":""},{"$f":"IF('SKILL 2'!$I40=\"\", \"\", 'SKILL 2'!$I40)","v":""},{"$f":"IF('SKILL 2'!$J40=\"\", \"\", 'SKILL 2'!$J40)","v":""},{"$f":"IF('SKILL 2'!$L$11=\"\", \"\", 'SKILL 2'!$L$11)","v":""},{"$f":"IF('SKILL 2'!$L$14=\"\", \"\", 'SKILL 2'!$L$14)","v":""},{"$f":"IF('SKILL 2'!$K40=\"\", \"\", 'SKILL 2'!$K40)","v":""},{"$f":"IF('SKILL 2'!$L40=\"\", \"\", 'SKILL 2'!$L40)","v":""},{"$f":"IF('SKILL 2'!$M40=\"\", \"\", 'SKILL 2'!$M40)","v":""},{"$f":"IF('SKILL 3'!$C$7=\"\", \"\", 'SKILL 3'!$C$7)","v":""},{"$f":"IF('SKILL 3'!$G$11=\"\", \"\", 'SKILL 3'!$G$11)","v":""},{"$f":"IF('SKILL 3'!$G$14=\"\", \"\", 'SKILL 3'!$G$14)","v":""},{"$f":"IF('SKILL 3'!$G40=\"\", \"\", 'SKILL 3'!$G40)","v":""},{"$f":"IF('SKILL 3'!$I$11=\"\", \"\", 'SKILL 3'!$I$11)","v":""},{"$f":"IF('SKILL 3'!$I$14=\"\", \"\", 'SKILL 3'!$I$14)","v":""},{"$f":"IF('SKILL 3'!$H40=\"\", \"\", 'SKILL 3'!$H40)","v":""},{"$f":"IF('SKILL 3'!$I40=\"\", \"\", 'SKILL 3'!$I40)","v":""},{"$f":"IF('SKILL 3'!$J40=\"\", \"\", 'SKILL 3'!$J40)","v":""},{"$f":"IF('SKILL 3'!$L$11=\"\", \"\", 'SKILL 3'!$L$11)","v":""},{"$f":"IF('SKILL 3'!$L$14=\"\", \"\", 'SKILL 3'!$L$14)","v":""},{"$f":"IF('SKILL 3'!$K40=\"\", \"\", 'SKILL 3'!$K40)","v":""},{"$f":"IF('SKILL 3'!$L40=\"\", \"\", 'SKILL 3'!$L40)","v":""},{"$f":"IF('SKILL 3'!$M40=\"\", \"\", 'SKILL 3'!$M40)","v":""},{"$f":"IF('SKILL 4'!$C$7=\"\", \"\", 'SKILL 4'!$C$7)","v":""},{"$f":"IF('SKILL 4'!$G$11=\"\", \"\", 'SKILL 4'!$G$11)","v":""},{"$f":"IF('SKILL 4'!$G$14=\"\", \"\", 'SKILL 4'!$G$14)","v":""},{"$f":"IF('SKILL 4'!$G40=\"\", \"\", 'SKILL 4'!$G40)","v":""},{"$f":"IF('SKILL 4'!$I$11=\"\", \"\", 'SKILL 4'!$I$11)","v":""},{"$f":"IF('SKILL 4'!$I$14=\"\", \"\", 'SKILL 4'!$I$14)","v":""},{"$f":"IF('SKILL 4'!$H40=\"\", \"\", 'SKILL 4'!$H40)","v":""},{"$f":"IF('SKILL 4'!$I40=\"\", \"\", 'SKILL 4'!$I40)","v":""},{"$f":"IF('SKILL 4'!$J40=\"\", \"\", 'SKILL 4'!$J40)","v":""},{"$f":"IF('SKILL 4'!$L$11=\"\", \"\", 'SKILL 4'!$L$11)","v":""},{"$f":"IF('SKILL 4'!$L$14=\"\", \"\", 'SKILL 4'!$L$14)","v":""},{"$f":"IF('SKILL 4'!$K40=\"\", \"\", 'SKILL 4'!$K40)","v":""},{"$f":"IF('SKILL 4'!$L40=\"\", \"\", 'SKILL 4'!$L40)","v":""},{"$f":"IF('SKILL 4'!$M40=\"\", \"\", 'SKILL 4'!$M40)","v":""},{"$f":"IF('SKILL 5'!$C$7=\"\", \"\", 'SKILL 5'!$C$7)","v":""},{"$f":"IF('SKILL 5'!$G$11=\"\", \"\", 'SKILL 5'!$G$11)","v":""},{"$f":"IF('SKILL 5'!$G$14=\"\", \"\", 'SKILL 5'!$G$14)","v":""},{"$f":"IF('SKILL 5'!$G40=\"\", \"\", 'SKILL 5'!$G40)","v":""},{"$f":"IF('SKILL 5'!$I$11=\"\", \"\", 'SKILL 5'!$I$11)","v":""},{"$f":"IF('SKILL 5'!$I$14=\"\", \"\", 'SKILL 5'!$I$14)","v":""},{"$f":"IF('SKILL 5'!$H40=\"\", \"\", 'SKILL 5'!$H40)","v":""},{"$f":"IF('SKILL 5'!$I40=\"\", \"\", 'SKILL 5'!$I40)","v":""},{"$f":"IF('SKILL 5'!$J40=\"\", \"\", 'SKILL 5'!$J40)","v":""},{"$f":"IF('SKILL 5'!$L$11=\"\", \"\", 'SKILL 5'!$L$11)","v":""},{"$f":"IF('SKILL 5'!$L$14=\"\", \"\", 'SKILL 5'!$L$14)","v":""},{"$f":"IF('SKILL 5'!$K40=\"\", \"\", 'SKILL 5'!$K40)","v":""},{"$f":"IF('SKILL 5'!$L40=\"\", \"\", 'SKILL 5'!$L40)","v":""},{"$f":"IF('SKILL 5'!$M40=\"\", \"\", 'SKILL 5'!$M40)","v":""},{"$f":"IF('SKILL 6'!$C$7=\"\", \"\", 'SKILL 6'!$C$7)","v":""},{"$f":"IF('SKILL 6'!$G$11=\"\", \"\", 'SKILL 6'!$G$11)","v":""},{"$f":"IF('SKILL 6'!$G$14=\"\", \"\", 'SKILL 6'!$G$14)","v":""},{"$f":"IF('SKILL 6'!$G40=\"\", \"\", 'SKILL 6'!$G40)","v":""},{"$f":"IF('SKILL 6'!$I$11=\"\", \"\", 'SKILL 6'!$I$11)","v":""},{"$f":"IF('SKILL 6'!$I$14=\"\", \"\", 'SKILL 6'!$I$14)","v":""},{"$f":"IF('SKILL 6'!$H40=\"\", \"\", 'SKILL 6'!$H40)","v":""},{"$f":"IF('SKILL 6'!$I40=\"\", \"\", 'SKILL 6'!$I40)","v":""},{"$f":"IF('SKILL 6'!$J40=\"\", \"\", 'SKILL 6'!$J40)","v":""},{"$f":"IF('SKILL 6'!$L$11=\"\", \"\", 'SKILL 6'!$L$11)","v":""},{"$f":"IF('SKILL 6'!$L$14=\"\", \"\", 'SKILL 6'!$L$14)","v":""},{"$f":"IF('SKILL 6'!$K40=\"\", \"\", 'SKILL 6'!$K40)","v":""},{"$f":"IF('SKILL 6'!$L40=\"\", \"\", 'SKILL 6'!$L40)","v":""},{"$f":"IF('SKILL 6'!$M40=\"\", \"\", 'SKILL 6'!$M40)","v":""}]
[{"$f":"IF(ATTENDANCE!$D$39=\"\", \"\", ATTENDANCE!$D$39)","v":""},{"$f":"IF(ATTENDANCE!$C$3=\"\", \"\", ATTENDANCE!$C$3)","v":""},{"$f":"IF(ATTENDANCE!$C$4=\"\", \"\", ATTENDANCE!$C$4)","v":""},{"$f":"IF(ATTENDANCE!$C$5=\"\", \"\", ATTENDANCE!$C$5)","v":""},{"$f":"IF(ATTENDANCE!$C$6=\"\", \"\", ATTENDANCE!$C$6)","v":""},{"$f":"IF(ATTENDANCE!$F$11=\"\", \"\", ATTENDANCE!$F$11)","v":""},{"$f":"IF(ATTENDANCE!$F$12=\"\", \"\", ATTENDANCE!$F$12)","v":""},{"$f":"IF(ATTENDANCE!$F39=\"\", \"\", ATTENDANCE!$F39)","v":""},{"$f":"IF(ATTENDANCE!$G39=\"\", \"\", ATTENDANCE!$G39)","v":""},{"$f":"IF(ATTENDANCE!$H$11=\"\", \"\", ATTENDANCE!$H$11)","v":""},{"$f":"IF(ATTENDANCE!$H$12=\"\", \"\", ATTENDANCE!$H$12)","v":""},{"$f":"IF(ATTENDANCE!$H39=\"\", \"\", ATTENDANCE!$H39)","v":""},{"$f":"IF(ATTENDANCE!$I$11=\"\", \"\", ATTENDANCE!$I$11)","v":""},{"$f":"IF(ATTENDANCE!$I$12=\"\", \"\", ATTENDANCE!$I$12)","v":""},{"$f":"IF(ATTENDANCE!$I39=\"\", \"\", ATTENDANCE!$I39)","v":""},{"$f":"IF('SKILL 1'!$C$7=\"\", \"\", 'SKILL 1'!$C$7)","v":""},{"$f":"IF('SKILL 1'!$G$11=\"\", \"\", 'SKILL 1'!$G$11)","v":""},{"$f":"IF('SKILL 1'!$G$14=\"\", \"\", 'SKILL 1'!$G$14)","v":""},{"$f":"IF('SKILL 1'!$G41=\"\", \"\", 'SKILL 1'!$G41)","v":""},{"$f":"IF('SKILL 1'!$I$11=\"\", \"\", 'SKILL 1'!$I$11)","v":""},{"$f":"IF('SKILL 1'!$I$14=\"\", \"\", 'SKILL 1'!$I$14)","v":""},{"$f":"IF('SKILL 1'!$H41=\"\", \"\", 'SKILL 1'!$H41)","v":""},{"$f":"IF('SKILL 1'!$I41=\"\", \"\", 'SKILL 1'!$I41)","v":""},{"$f":"IF('SKILL 1'!$J41=\"\", \"\", 'SKILL 1'!$J41)","v":""},{"$f":"IF('SKILL 1'!$L$11=\"\", \"\", 'SKILL 1'!$L$11)","v":""},{"$f":"IF('SKILL 1'!$L$14=\"\", \"\", 'SKILL 1'!$L$14)","v":""},{"$f":"IF('SKILL 1'!$K41=\"\", \"\", 'SKILL 1'!$K41)","v":""},{"$f":"IF('SKILL 1'!$L41=\"\", \"\", 'SKILL 1'!$L41)","v":""},{"$f":"IF('SKILL 1'!$M41=\"\", \"\", 'SKILL 1'!$M41)","v":""},{"$f":"IF('SKILL 2'!$C$7=\"\", \"\", 'SKILL 2'!$C$7)","v":""},{"$f":"IF('SKILL 2'!$G$11=\"\", \"\", 'SKILL 2'!$G$11)","v":""},{"$f":"IF('SKILL 2'!$G$14=\"\", \"\", 'SKILL 2'!$G$14)","v":""},{"$f":"IF('SKILL 2'!$G41=\"\", \"\", 'SKILL 2'!$G41)","v":""},{"$f":"IF('SKILL 2'!$I$11=\"\", \"\", 'SKILL 2'!$I$11)","v":""},{"$f":"IF('SKILL 2'!$I$14=\"\", \"\", 'SKILL 2'!$I$14)","v":""},{"$f":"IF('SKILL 2'!$H41=\"\", \"\", 'SKILL 2'!$H41)","v":""},{"$f":"IF('SKILL 2'!$I41=\"\", \"\", 'SKILL 2'!$I41)","v":""},{"$f":"IF('SKILL 2'!$J41=\"\", \"\", 'SKILL 2'!$J41)","v":""},{"$f":"IF('SKILL 2'!$L$11=\"\", \"\", 'SKILL 2'!$L$11)","v":""},{"$f":"IF('SKILL 2'!$L$14=\"\", \"\", 'SKILL 2'!$L$14)","v":""},{"$f":"IF('SKILL 2'!$K41=\"\", \"\", 'SKILL 2'!$K41)","v":""},{"$f":"IF('SKILL 2'!$L41=\"\", \"\", 'SKILL 2'!$L41)","v":""},{"$f":"IF('SKILL 2'!$M41=\"\", \"\", 'SKILL 2'!$M41)","v":""},{"$f":"IF('SKILL 3'!$C$7=\"\", \"\", 'SKILL 3'!$C$7)","v":""},{"$f":"IF('SKILL 3'!$G$11=\"\", \"\", 'SKILL 3'!$G$11)","v":""},{"$f":"IF('SKILL 3'!$G$14=\"\", \"\", 'SKILL 3'!$G$14)","v":""},{"$f":"IF('SKILL 3'!$G41=\"\", \"\", 'SKILL 3'!$G41)","v":""},{"$f":"IF('SKILL 3'!$I$11=\"\", \"\", 'SKILL 3'!$I$11)","v":""},{"$f":"IF('SKILL 3'!$I$14=\"\", \"\", 'SKILL 3'!$I$14)","v":""},{"$f":"IF('SKILL 3'!$H41=\"\", \"\", 'SKILL 3'!$H41)","v":""},{"$f":"IF('SKILL 3'!$I41=\"\", \"\", 'SKILL 3'!$I41)","v":""},{"$f":"IF('SKILL 3'!$J41=\"\", \"\", 'SKILL 3'!$J41)","v":""},{"$f":"IF('SKILL 3'!$L$11=\"\", \"\", 'SKILL 3'!$L$11)","v":""},{"$f":"IF('SKILL 3'!$L$14=\"\", \"\", 'SKILL 3'!$L$14)","v":""},{"$f":"IF('SKILL 3'!$K41=\"\", \"\", 'SKILL 3'!$K41)","v":""},{"$f":"IF('SKILL 3'!$L41=\"\", \"\", 'SKILL 3'!$L41)","v":""},{"$f":"IF('SKILL 3'!$M41=\"\", \"\", 'SKILL 3'!$M41)","v":""},{"$f":"IF('SKILL 4'!$C$7=\"\", \"\", 'SKILL 4'!$C$7)","v":""},{"$f":"IF('SKILL 4'!$G$11=\"\", \"\", 'SKILL 4'!$G$11)","v":""},{"$f":"IF('SKILL 4'!$G$14=\"\", \"\", 'SKILL 4'!$G$14)","v":""},{"$f":"IF('SKILL 4'!$G41=\"\", \"\", 'SKILL 4'!$G41)","v":""},{"$f":"IF('SKILL 4'!$I$11=\"\", \"\", 'SKILL 4'!$I$11)","v":""},{"$f":"IF('SKILL 4'!$I$14=\"\", \"\", 'SKILL 4'!$I$14)","v":""},{"$f":"IF('SKILL 4'!$H41=\"\", \"\", 'SKILL 4'!$H41)","v":""},{"$f":"IF('SKILL 4'!$I41=\"\", \"\", 'SKILL 4'!$I41)","v":""},{"$f":"IF('SKILL 4'!$J41=\"\", \"\", 'SKILL 4'!$J41)","v":""},{"$f":"IF('SKILL 4'!$L$11=\"\", \"\", 'SKILL 4'!$L$11)","v":""},{"$f":"IF('SKILL 4'!$L$14=\"\", \"\", 'SKILL 4'!$L$14)","v":""},{"$f":"IF('SKILL 4'!$K41=\"\", \"\", 'SKILL 4'!$K41)","v":""},{"$f":"IF('SKILL 4'!$L41=\"\", \"\", 'SKILL 4'!$L41)","v":""},{"$f":"IF('SKILL 4'!$M41=\"\", \"\", 'SKILL 4'!$M41)","v":""},{"$f":"IF('SKILL 5'!$C$7=\"\", \"\", 'SKILL 5'!$C$7)","v":""},{"$f":"IF('SKILL 5'!$G$11=\"\", \"\", 'SKILL 5'!$G$11)","v":""},{"$f":"IF('SKILL 5'!$G$14=\"\", \"\", 'SKILL 5'!$G$14)","v":""},{"$f":"IF('SKILL 5'!$G41=\"\", \"\", 'SKILL 5'!$G41)","v":""},{"$f":"IF('SKILL 5'!$I$11=\"\", \"\", 'SKILL 5'!$I$11)","v":""},{"$f":"IF('SKILL 5'!$I$14=\"\", \"\", 'SKILL 5'!$I$14)","v":""},{"$f":"IF('SKILL 5'!$H41=\"\", \"\", 'SKILL 5'!$H41)","v":""},{"$f":"IF('SKILL 5'!$I41=\"\", \"\", 'SKILL 5'!$I41)","v":""},{"$f":"IF('SKILL 5'!$J41=\"\", \"\", 'SKILL 5'!$J41)","v":""},{"$f":"IF('SKILL 5'!$L$11=\"\", \"\", 'SKILL 5'!$L$11)","v":""},{"$f":"IF('SKILL 5'!$L$14=\"\", \"\", 'SKILL 5'!$L$14)","v":""},{"$f":"IF('SKILL 5'!$K41=\"\", \"\", 'SKILL 5'!$K41)","v":""},{"$f":"IF('SKILL 5'!$L41=\"\", \"\", 'SKILL 5'!$L41)","v":""},{"$f":"IF('SKILL 5'!$M41=\"\", \"\", 'SKILL 5'!$M41)","v":""},{"$f":"IF('SKILL 6'!$C$7=\"\", \"\", 'SKILL 6'!$C$7)","v":""},{"$f":"IF('SKILL 6'!$G$11=\"\", \"\", 'SKILL 6'!$G$11)","v":""},{"$f":"IF('SKILL 6'!$G$14=\"\", \"\", 'SKILL 6'!$G$14)","v":""},{"$f":"IF('SKILL 6'!$G41=\"\", \"\", 'SKILL 6'!$G41)","v":""},{"$f":"IF('SKILL 6'!$I$11=\"\", \"\", 'SKILL 6'!$I$11)","v":""},{"$f":"IF('SKILL 6'!$I$14=\"\", \"\", 'SKILL 6'!$I$14)","v":""},{"$f":"IF('SKILL 6'!$H41=\"\", \"\", 'SKILL 6'!$H41)","v":""},{"$f":"IF('SKILL 6'!$I41=\"\", \"\", 'SKILL 6'!$I41)","v":""},{"$f":"IF('SKILL 6'!$J41=\"\", \"\", 'SKILL 6'!$J41)","v":""},{"$f":"IF('SKILL 6'!$L$11=\"\", \"\", 'SKILL 6'!$L$11)","v":""},{"$f":"IF('SKILL 6'!$L$14=\"\", \"\", 'SKILL 6'!$L$14)","v":""},{"$f":"IF('SKILL 6'!$K41=\"\", \"\", 'SKILL 6'!$K41)","v":""},{"$f":"IF('SKILL 6'!$L41=\"\", \"\", 'SKILL 6'!$L41)","v":""},{"$f":"IF('SKILL 6'!$M41=\"\", \"\", 'SKILL 6'!$M41)","v":""}]
[{"$f":"IF(ATTENDANCE!$D$40=\"\", \"\", ATTENDANCE!$D$40)","v":""},{"$f":"IF(ATTENDANCE!$C$3=\"\", \"\", ATTENDANCE!$C$3)","v":""},{"$f":"IF(ATTENDANCE!$C$4=\"\", \"\", ATTENDANCE!$C$4)","v":""},{"$f":"IF(ATTENDANCE!$C$5=\"\", \"\", ATTENDANCE!$C$5)","v":""},{"$f":"IF(ATTENDANCE!$C$6=\"\", \"\", ATTENDANCE!$C$6)","v":""},{"$f":"IF(ATTENDANCE!$F$11=\"\", \"\", ATTENDANCE!$F$11)","v":""},{"$f":"IF(ATTENDANCE!$F$12=\"\", \"\", ATTENDANCE!$F$12)","v":""},{"$f":"IF(ATTENDANCE!$F40=\"\", \"\", ATTENDANCE!$F40)","v":""},{"$f":"IF(ATTENDANCE!$G40=\"\", \"\", ATTENDANCE!$G40)","v":""},{"$f":"IF(ATTENDANCE!$H$11=\"\", \"\", ATTENDANCE!$H$11)","v":""},{"$f":"IF(ATTENDANCE!$H$12=\"\", \"\", ATTENDANCE!$H$12)","v":""},{"$f":"IF(ATTENDANCE!$H40=\"\", \"\", ATTENDANCE!$H40)","v":""},{"$f":"IF(ATTENDANCE!$I$11=\"\", \"\", ATTENDANCE!$I$11)","v":""},{"$f":"IF(ATTENDANCE!$I$12=\"\", \"\", ATTENDANCE!$I$12)","v":""},{"$f":"IF(ATTENDANCE!$I40=\"\", \"\", ATTENDANCE!$I40)","v":""},{"$f":"IF('SKILL 1'!$C$7=\"\", \"\", 'SKILL 1'!$C$7)","v":""},{"$f":"IF('SKILL 1'!$G$11=\"\", \"\", 'SKILL 1'!$G$11)","v":""},{"$f":"IF('SKILL 1'!$G$14=\"\", \"\", 'SKILL 1'!$G$14)","v":""},{"$f":"IF('SKILL 1'!$G42=\"\", \"\", 'SKILL 1'!$G42)","v":""},{"$f":"IF('SKILL 1'!$I$11=\"\", \"\", 'SKILL 1'!$I$11)","v":""},{"$f":"IF('SKILL 1'!$I$14=\"\", \"\", 'SKILL 1'!$I$14)","v":""},{"$f":"IF('SKILL 1'!$H42=\"\", \"\", 'SKILL 1'!$H42)","v":""},{"$f":"IF('SKILL 1'!$I42=\"\", \"\", 'SKILL 1'!$I42)","v":""},{"$f":"IF('SKILL 1'!$J42=\"\", \"\", 'SKILL 1'!$J42)","v":""},{"$f":"IF('SKILL 1'!$L$11=\"\", \"\", 'SKILL 1'!$L$11)","v":""},{"$f":"IF('SKILL 1'!$L$14=\"\", \"\", 'SKILL 1'!$L$14)","v":""},{"$f":"IF('SKILL 1'!$K42=\"\", \"\", 'SKILL 1'!$K42)","v":""},{"$f":"IF('SKILL 1'!$L42=\"\", \"\", 'SKILL 1'!$L42)","v":""},{"$f":"IF('SKILL 1'!$M42=\"\", \"\", 'SKILL 1'!$M42)","v":""},{"$f":"IF('SKILL 2'!$C$7=\"\", \"\", 'SKILL 2'!$C$7)","v":""},{"$f":"IF('SKILL 2'!$G$11=\"\", \"\", 'SKILL 2'!$G$11)","v":""},{"$f":"IF('SKILL 2'!$G$14=\"\", \"\", 'SKILL 2'!$G$14)","v":""},{"$f":"IF('SKILL 2'!$G42=\"\", \"\", 'SKILL 2'!$G42)","v":""},{"$f":"IF('SKILL 2'!$I$11=\"\", \"\", 'SKILL 2'!$I$11)","v":""},{"$f":"IF('SKILL 2'!$I$14=\"\", \"\", 'SKILL 2'!$I$14)","v":""},{"$f":"IF('SKILL 2'!$H42=\"\", \"\", 'SKILL 2'!$H42)","v":""},{"$f":"IF('SKILL 2'!$I42=\"\", \"\", 'SKILL 2'!$I42)","v":""},{"$f":"IF('SKILL 2'!$J42=\"\", \"\", 'SKILL 2'!$J42)","v":""},{"$f":"IF('SKILL 2'!$L$11=\"\", \"\", 'SKILL 2'!$L$11)","v":""},{"$f":"IF('SKILL 2'!$L$14=\"\", \"\", 'SKILL 2'!$L$14)","v":""},{"$f":"IF('SKILL 2'!$K42=\"\", \"\", 'SKILL 2'!$K42)","v":""},{"$f":"IF('SKILL 2'!$L42=\"\", \"\", 'SKILL 2'!$L42)","v":""},{"$f":"IF('SKILL 2'!$M42=\"\", \"\", 'SKILL 2'!$M42)","v":""},{"$f":"IF('SKILL 3'!$C$7=\"\", \"\", 'SKILL 3'!$C$7)","v":""},{"$f":"IF('SKILL 3'!$G$11=\"\", \"\", 'SKILL 3'!$G$11)","v":""},{"$f":"IF('SKILL 3'!$G$14=\"\", \"\", 'SKILL 3'!$G$14)","v":""},{"$f":"IF('SKILL 3'!$G42=\"\", \"\", 'SKILL 3'!$G42)","v":""},{"$f":"IF('SKILL 3'!$I$11=\"\", \"\", 'SKILL 3'!$I$11)","v":""},{"$f":"IF('SKILL 3'!$I$14=\"\", \"\", 'SKILL 3'!$I$14)","v":""},{"$f":"IF('SKILL 3'!$H42=\"\", \"\", 'SKILL 3'!$H42)","v":""},{"$f":"IF('SKILL 3'!$I42=\"\", \"\", 'SKILL 3'!$I42)","v":""},{"$f":"IF('SKILL 3'!$J42=\"\", \"\", 'SKILL 3'!$J42)","v":""},{"$f":"IF('SKILL 3'!$L$11=\"\", \"\", 'SKILL 3'!$L$11)","v":""},{"$f":"IF('SKILL 3'!$L$14=\"\", \"\", 'SKILL 3'!$L$14)","v":""},{"$f":"IF('SKILL 3'!$K42=\"\", \"\", 'SKILL 3'!$K42)","v":""},{"$f":"IF('SKILL 3'!$L42=\"\", \"\", 'SKILL 3'!$L42)","v":""},{"$f":"IF('SKILL 3'!$M42=\"\", \"\", 'SKILL 3'!$M42)","v":""},{"$f":"IF('SKILL 4'!$C$7=\"\", \"\", 'SKILL 4'!$C$7)","v":""},{"$f":"IF('SKILL 4'!$G$11=\"\", \"\", 'SKILL 4'!$G$11)","v":""},{"$f":"IF('SKILL 4'!$G$14=\"\", \"\", 'SKILL 4'!$G$14)","v":""},{"$f":"IF('SKILL 4'!$G42=\"\", \"\", 'SKILL 4'!$G42)","v":""},{"$f":"IF('SKILL 4'!$I$11=\"\", \"\", 'SKILL 4'!$I$11)","v":""},{"$f":"IF('SKILL 4'!$I$14=\"\", \"\", 'SKILL 4'!$I$14)","v":""},{"$f":"IF('SKILL 4'!$H42=\"\", \"\", 'SKILL 4'!$H42)","v":""},{"$f":"IF('SKILL 4'!$I42=\"\", \"\", 'SKILL 4'!$I42)","v":""},{"$f":"IF('SKILL 4'!$J42=\"\", \"\", 'SKILL 4'!$J42)","v":""},{"$f":"IF('SKILL 4'!$L$11=\"\", \"\", 'SKILL 4'!$L$11)","v":""},{"$f":"IF('SKILL 4'!$L$14=\"\", \"\", 'SKILL 4'!$L$14)","v":""},{"$f":"IF('SKILL 4'!$K42=\"\", \"\", 'SKILL 4'!$K42)","v":""},{"$f":"IF('SKILL 4'!$L42=\"\", \"\", 'SKILL 4'!$L42)","v":""},{"$f":"IF('SKILL 4'!$M42=\"\", \"\", 'SKILL 4'!$M42)","v":""},{"$f":"IF('SKILL 5'!$C$7=\"\", \"\", 'SKILL 5'!$C$7)","v":""},{"$f":"IF('SKILL 5'!$G$11=\"\", \"\", 'SKILL 5'!$G$11)","v":""},{"$f":"IF('SKILL 5'!$G$14=\"\", \"\", 'SKILL 5'!$G$14)","v":""},{"$f":"IF('SKILL 5'!$G42=\"\", \"\", 'SKILL 5'!$G42)","v":""},{"$f":"IF('SKILL 5'!$I$11=\"\", \"\", 'SKILL 5'!$I$11)","v":""},{"$f":"IF('SKILL 5'!$I$14=\"\", \"\", 'SKILL 5'!$I$14)","v":""},{"$f":"IF('SKILL 5'!$H42=\"\", \"\", 'SKILL 5'!$H42)","v":""},{"$f":"IF('SKILL 5'!$I42=\"\", \"\", 'SKILL 5'!$I42)","v":""},{"$f":"IF('SKILL 5'!$J42=\"\", \"\", 'SKILL 5'!$J42)","v":""},{"$f":"IF('SKILL 5'!$L$11=\"\", \"\", 'SKILL 5'!$L$11)","v":""},{"$f":"IF('SKILL 5'!$L$14=\"\", \"\", 'SKILL 5'!$L$14)","v":""},{"$f":"IF('SKILL 5'!$K42=\"\", \"\", 'SKILL 5'!$K42)","v":""},{"$f":"IF('SKILL 5'!$L42=\"\", \"\", 'SKILL 5'!$L42)","v":""},{"$f":"IF('SKILL 5'!$M42=\"\", \"\", 'SKILL 5'!$M42)","v":""},{"$f":"IF('SKILL 6'!$C$7=\"\", \"\", 'SKILL 6'!$C$7)","v":""},{"$f":"IF('SKILL 6'!$G$11=\"\", \"\", 'SKILL 6'!$G$11)","v":""},{"$f":"IF('SKILL 6'!$G$14=\"\", \"\", 'SKILL 6'!$G$14)","v":""},{"$f":"IF('SKILL 6'!$G42=\"\", \"\", 'SKILL 6'!$G42)","v":""},{"$f":"IF('SKILL 6'!$I$11=\"\", \"\", 'SKILL 6'!$I$11)","v":""},{"$f":"IF('SKILL 6'!$I$14=\"\", \"\", 'SKILL 6'!$I$14)","v":""},{"$f":"IF('SKILL 6'!$H42=\"\", \"\", 'SKILL 6'!$H42)","v":""},{"$f":"IF('SKILL 6'!$I42=\"\", \"\", 'SKILL 6'!$I42)","v":""},{"$f":"IF('SKILL 6'!$J42=\"\", \"\", 'SKILL 6'!$J42)","v":""},{"$f":"IF('SKILL 6'!$L$11=\"\", \"\", 'SKILL 6'!$L$11)","v":""},{"$f":"IF('SKILL 6'!$L$14=\"\", \"\", 'SKILL 6'!$L$14)","v":""},{"$f":"IF('SKILL 6'!$K42=\"\", \"\", 'SKILL 6'!$K42)","v":""},{"$f":"IF('SKILL 6'!$L42=\"\", \"\", 'SKILL 6'!$L42)","v":""},{"$f":"IF('SKILL 6'!$M42=\"\", \"\", 'SKILL 6'!$M42)","v":""}]
[{"$f":"IF(ATTENDANCE!$D$41=\"\", \"\", ATTENDANCE!$D$41)","v":""},{"$f":"IF(ATTENDANCE!$C$3=\"\", \"\", ATTENDANCE!$C$3)","v":""},{"$f":"IF(ATTENDANCE!$C$4=\"\", \"\", ATTENDANCE!$C$4)","v":""},{"$f":"IF(ATTENDANCE!$C$5=\"\", \"\", ATTENDANCE!$C$5)","v":""},{"$f":"IF(ATTENDANCE!$C$6=\"\", \"\", ATTENDANCE!$C$6)","v":""},{"$f":"IF(ATTENDANCE!$F$11=\"\", \"\", ATTENDANCE!$F$11)","v":""},{"$f":"IF(ATTENDANCE!$F$12=\"\", \"\", ATTENDANCE!$F$12)","v":""},{"$f":"IF(ATTENDANCE!$F41=\"\", \"\", ATTENDANCE!$F41)","v":""},{"$f":"IF(ATTENDANCE!$G41=\"\", \"\", ATTENDANCE!$G41)","v":""},{"$f":"IF(ATTENDANCE!$H$11=\"\", \"\", ATTENDANCE!$H$11)","v":""},{"$f":"IF(ATTENDANCE!$H$12=\"\", \"\", ATTENDANCE!$H$12)","v":""},{"$f":"IF(ATTENDANCE!$H41=\"\", \"\", ATTENDANCE!$H41)","v":""},{"$f":"IF(ATTENDANCE!$I$11=\"\", \"\", ATTENDANCE!$I$11)","v":""},{"$f":"IF(ATTENDANCE!$I$12=\"\", \"\", ATTENDANCE!$I$12)","v":""},{"$f":"IF(ATTENDANCE!$I41=\"\", \"\", ATTENDANCE!$I41)","v":""},{"$f":"IF('SKILL 1'!$C$7=\"\", \"\", 'SKILL 1'!$C$7)","v":""},{"$f":"IF('SKILL 1'!$G$11=\"\", \"\", 'SKILL 1'!$G$11)","v":""},{"$f":"IF('SKILL 1'!$G$14=\"\", \"\", 'SKILL 1'!$G$14)","v":""},{"$f":"IF('SKILL 1'!$G43=\"\", \"\", 'SKILL 1'!$G43)","v":""},{"$f":"IF('SKILL 1'!$I$11=\"\", \"\", 'SKILL 1'!$I$11)","v":""},{"$f":"IF('SKILL 1'!$I$14=\"\", \"\", 'SKILL 1'!$I$14)","v":""},{"$f":"IF('SKILL 1'!$H43=\"\", \"\", 'SKILL 1'!$H43)","v":""},{"$f":"IF('SKILL 1'!$I43=\"\", \"\", 'SKILL 1'!$I43)","v":""},{"$f":"IF('SKILL 1'!$J43=\"\", \"\", 'SKILL 1'!$J43)","v":""},{"$f":"IF('SKILL 1'!$L$11=\"\", \"\", 'SKILL 1'!$L$11)","v":""},{"$f":"IF('SKILL 1'!$L$14=\"\", \"\", 'SKILL 1'!$L$14)","v":""},{"$f":"IF('SKILL 1'!$K43=\"\", \"\", 'SKILL 1'!$K43)","v":""},{"$f":"IF('SKILL 1'!$L43=\"\", \"\", 'SKILL 1'!$L43)","v":""},{"$f":"IF('SKILL 1'!$M43=\"\", \"\", 'SKILL 1'!$M43)","v":""},{"$f":"IF('SKILL 2'!$C$7=\"\", \"\", 'SKILL 2'!$C$7)","v":""},{"$f":"IF('SKILL 2'!$G$11=\"\", \"\", 'SKILL 2'!$G$11)","v":""},{"$f":"IF('SKILL 2'!$G$14=\"\", \"\", 'SKILL 2'!$G$14)","v":""},{"$f":"IF('SKILL 2'!$G43=\"\", \"\", 'SKILL 2'!$G43)","v":""},{"$f":"IF('SKILL 2'!$I$11=\"\", \"\", 'SKILL 2'!$I$11)","v":""},{"$f":"IF('SKILL 2'!$I$14=\"\", \"\", 'SKILL 2'!$I$14)","v":""},{"$f":"IF('SKILL 2'!$H43=\"\", \"\", 'SKILL 2'!$H43)","v":""},{"$f":"IF('SKILL 2'!$I43=\"\", \"\", 'SKILL 2'!$I43)","v":""},{"$f":"IF('SKILL 2'!$J43=\"\", \"\", 'SKILL 2'!$J43)","v":""},{"$f":"IF('SKILL 2'!$L$11=\"\", \"\", 'SKILL 2'!$L$11)","v":""},{"$f":"IF('SKILL 2'!$L$14=\"\", \"\", 'SKILL 2'!$L$14)","v":""},{"$f":"IF('SKILL 2'!$K43=\"\", \"\", 'SKILL 2'!$K43)","v":""},{"$f":"IF('SKILL 2'!$L43=\"\", \"\", 'SKILL 2'!$L43)","v":""},{"$f":"IF('SKILL 2'!$M43=\"\", \"\", 'SKILL 2'!$M43)","v":""},{"$f":"IF('SKILL 3'!$C$7=\"\", \"\", 'SKILL 3'!$C$7)","v":""},{"$f":"IF('SKILL 3'!$G$11=\"\", \"\", 'SKILL 3'!$G$11)","v":""},{"$f":"IF('SKILL 3'!$G$14=\"\", \"\", 'SKILL 3'!$G$14)","v":""},{"$f":"IF('SKILL 3'!$G43=\"\", \"\", 'SKILL 3'!$G43)","v":""},{"$f":"IF('SKILL 3'!$I$11=\"\", \"\", 'SKILL 3'!$I$11)","v":""},{"$f":"IF('SKILL 3'!$I$14=\"\", \"\", 'SKILL 3'!$I$14)","v":""},{"$f":"IF('SKILL 3'!$H43=\"\", \"\", 'SKILL 3'!$H43)","v":""},{"$f":"IF('SKILL 3'!$I43=\"\", \"\", 'SKILL 3'!$I43)","v":""},{"$f":"IF('SKILL 3'!$J43=\"\", \"\", 'SKILL 3'!$J43)","v":""},{"$f":"IF('SKILL 3'!$L$11=\"\", \"\", 'SKILL 3'!$L$11)","v":""},{"$f":"IF('SKILL 3'!$L$14=\"\", \"\", 'SKILL 3'!$L$14)","v":""},{"$f":"IF('SKILL 3'!$K43=\"\", \"\", 'SKILL 3'!$K43)","v":""},{"$f":"IF('SKILL 3'!$L43=\"\", \"\", 'SKILL 3'!$L43)","v":""},{"$f":"IF('SKILL 3'!$M43=\"\", \"\", 'SKILL 3'!$M43)","v":""},{"$f":"IF('SKILL 4'!$C$7=\"\", \"\", 'SKILL 4'!$C$7)","v":""},{"$f":"IF('SKILL 4'!$G$11=\"\", \"\", 'SKILL 4'!$G$11)","v":""},{"$f":"IF('SKILL 4'!$G$14=\"\", \"\", 'SKILL 4'!$G$14)","v":""},{"$f":"IF('SKILL 4'!$G43=\"\", \"\", 'SKILL 4'!$G43)","v":""},{"$f":"IF('SKILL 4'!$I$11=\"\", \"\", 'SKILL 4'!$I$11)","v":""},{"$f":"IF('SKILL 4'!$I$14=\"\", \"\", 'SKILL 4'!$I$14)","v":""},{"$f":"IF('SKILL 4'!$H43=\"\", \"\", 'SKILL 4'!$H43)","v":""},{"$f":"IF('SKILL 4'!$I43=\"\", \"\", 'SKILL 4'!$I43)","v":""},{"$f":"IF('SKILL 4'!$J43=\"\", \"\", 'SKILL 4'!$J43)","v":""},{"$f":"IF('SKILL 4'!$L$11=\"\", \"\", 'SKILL 4'!$L$11)","v":""},{"$f":"IF('SKILL 4'!$L$14=\"\", \"\", 'SKILL 4'!$L$14)","v":""},{"$f":"IF('SKILL 4'!$K43=\"\", \"\", 'SKILL 4'!$K43)","v":""},{"$f":"IF('SKILL 4'!$L43=\"\", \"\", 'SKILL 4'!$L43)","v":""},{"$f":"IF('SKILL 4'!$M43=\"\", \"\", 'SKILL 4'!$M43)","v":""},{"$f":"IF('SKILL 5'!$C$7=\"\", \"\", 'SKILL 5'!$C$7)","v":""},{"$f":"IF('SKILL 5'!$G$11=\"\", \"\", 'SKILL 5'!$G$11)","v":""},{"$f":"IF('SKILL 5'!$G$14=\"\", \"\", 'SKILL 5'!$G$14)","v":""},{"$f":"IF('SKILL 5'!$G43=\"\", \"\", 'SKILL 5'!$G43)","v":""},{"$f":"IF('SKILL 5'!$I$11=\"\", \"\", 'SKILL 5'!$I$11)","v":""},{"$f":"IF('SKILL 5'!$I$14=\"\", \"\", 'SKILL 5'!$I$14)","v":""},{"$f":"IF('SKILL 5'!$H43=\"\", \"\", 'SKILL 5'!$H43)","v":""},{"$f":"IF('SKILL 5'!$I43=\"\", \"\", 'SKILL 5'!$I43)","v":""},{"$f":"IF('SKILL 5'!$J43=\"\", \"\", 'SKILL 5'!$J43)","v":""},{"$f":"IF('SKILL 5'!$L$11=\"\", \"\", 'SKILL 5'!$L$11)","v":""},{"$f":"IF('SKILL 5'!$L$14=\"\", \"\", 'SKILL 5'!$L$14)","v":""},{"$f":"IF('SKILL 5'!$K43=\"\", \"\", 'SKILL 5'!$K43)","v":""},{"$f":"IF('SKILL 5'!$L43=\"\", \"\", 'SKILL 5'!$L43)","v":""},{"$f":"IF('SKILL 5'!$M43=\"\", \"\", 'SKILL 5'!$M43)","v":""},{"$f":"IF('SKILL 6'!$C$7=\"\", \"\", 'SKILL 6'!$C$7)","v":""},{"$f":"IF('SKILL 6'!$G$11=\"\", \"\", 'SKILL 6'!$G$11)","v":""},{"$f":"IF('SKILL 6'!$G$14=\"\", \"\", 'SKILL 6'!$G$14)","v":""},{"$f":"IF('SKILL 6'!$G43=\"\", \"\", 'SKILL 6'!$G43)","v":""},{"$f":"IF('SKILL 6'!$I$11=\"\", \"\", 'SKILL 6'!$I$11)","v":""},{"$f":"IF('SKILL 6'!$I$14=\"\", \"\", 'SKILL 6'!$I$14)","v":""},{"$f":"IF('SKILL 6'!$H43=\"\", \"\", 'SKILL 6'!$H43)","v":""},{"$f":"IF('SKILL 6'!$I43=\"\", \"\", 'SKILL 6'!$I43)","v":""},{"$f":"IF('SKILL 6'!$J43=\"\", \"\", 'SKILL 6'!$J43)","v":""},{"$f":"IF('SKILL 6'!$L$11=\"\", \"\", 'SKILL 6'!$L$11)","v":""},{"$f":"IF('SKILL 6'!$L$14=\"\", \"\", 'SKILL 6'!$L$14)","v":""},{"$f":"IF('SKILL 6'!$K43=\"\", \"\", 'SKILL 6'!$K43)","v":""},{"$f":"IF('SKILL 6'!$L43=\"\", \"\", 'SKILL 6'!$L43)","v":""},{"$f":"IF('SKILL 6'!$M43=\"\", \"\", 'SKILL 6'!$M43)","v":""}]
[{"$f":"IF(ATTENDANCE!$D$42=\"\", \"\", ATTENDANCE!$D$42)","v":""},{"$f":"IF(ATTENDANCE!$C$3=\"\", \"\", ATTENDANCE!$C$3)","v":""},{"$f":"IF(ATTENDANCE!$C$4=\"\", \"\", ATTENDANCE!$C$4)","v":""},{"$f":"IF(ATTENDANCE!$C$5=\"\", \"\", ATTENDANCE!$C$5)","v":""},{"$f":"IF(ATTENDANCE!$C$6=\"\", \"\", ATTENDANCE!$C$6)","v":""},{"$f":"IF(ATTENDANCE!$F$11=\"\", \"\", ATTENDANCE!$F$11)","v":""},{"$f":"IF(ATTENDANCE!$F$12=\"\", \"\", ATTENDANCE!$F$12)","v":""},{"$f":"IF(ATTENDANCE!$F42=\"\", \"\", ATTENDANCE!$F42)","v":""},{"$f":"IF(ATTENDANCE!$G42=\"\", \"\", ATTENDANCE!$G42)","v":""},{"$f":"IF(ATTENDANCE!$H$11=\"\", \"\", ATTENDANCE!$H$11)","v":""},{"$f":"IF(ATTENDANCE!$H$12=\"\", \"\", ATTENDANCE!$H$12)","v":""},{"$f":"IF(ATTENDANCE!$H42=\"\", \"\", ATTENDANCE!$H42)","v":""},{"$f":"IF(ATTENDANCE!$I$11=\"\", \"\", ATTENDANCE!$I$11)","v":""},{"$f":"IF(ATTENDANCE!$I$12=\"\", \"\", ATTENDANCE!$I$12)","v":""},{"$f":"IF(ATTENDANCE!$I42=\"\", \"\", ATTENDANCE!$I42)","v":""},{"$f":"IF('SKILL 1'!$C$7=\"\", \"\", 'SKILL 1'!$C$7)","v":""},{"$f":"IF('SKILL 1'!$G$11=\"\", \"\", 'SKILL 1'!$G$11)","v":""},{"$f":"IF('SKILL 1'!$G$14=\"\", \"\", 'SKILL 1'!$G$14)","v":""},{"$f":"IF('SKILL 1'!$G44=\"\", \"\", 'SKILL 1'!$G44)","v":""},{"$f":"IF('SKILL 1'!$I$11=\"\", \"\", 'SKILL 1'!$I$11)","v":""},{"$f":"IF('SKILL 1'!$I$14=\"\", \"\", 'SKILL 1'!$I$14)","v":""},{"$f":"IF('SKILL 1'!$H44=\"\", \"\", 'SKILL 1'!$H44)","v":""},{"$f":"IF('SKILL 1'!$I44=\"\", \"\", 'SKILL 1'!$I44)","v":""},{"$f":"IF('SKILL 1'!$J44=\"\", \"\", 'SKILL 1'!$J44)","v":""},{"$f":"IF('SKILL 1'!$L$11=\"\", \"\", 'SKILL 1'!$L$11)","v":""},{"$f":"IF('SKILL 1'!$L$14=\"\", \"\", 'SKILL 1'!$L$14)","v":""},{"$f":"IF('SKILL 1'!$K44=\"\", \"\", 'SKILL 1'!$K44)","v":""},{"$f":"IF('SKILL 1'!$L44=\"\", \"\", 'SKILL 1'!$L44)","v":""},{"$f":"IF('SKILL 1'!$M44=\"\", \"\", 'SKILL 1'!$M44)","v":""},{"$f":"IF('SKILL 2'!$C$7=\"\", \"\", 'SKILL 2'!$C$7)","v":""},{"$f":"IF('SKILL 2'!$G$11=\"\", \"\", 'SKILL 2'!$G$11)","v":""},{"$f":"IF('SKILL 2'!$G$14=\"\", \"\", 'SKILL 2'!$G$14)","v":""},{"$f":"IF('SKILL 2'!$G44=\"\", \"\", 'SKILL 2'!$G44)","v":""},{"$f":"IF('SKILL 2'!$I$11=\"\", \"\", 'SKILL 2'!$I$11)","v":""},{"$f":"IF('SKILL 2'!$I$14=\"\", \"\", 'SKILL 2'!$I$14)","v":""},{"$f":"IF('SKILL 2'!$H44=\"\", \"\", 'SKILL 2'!$H44)","v":""},{"$f":"IF('SKILL 2'!$I44=\"\", \"\", 'SKILL 2'!$I44)","v":""},{"$f":"IF('SKILL 2'!$J44=\"\", \"\", 'SKILL 2'!$J44)","v":""},{"$f":"IF('SKILL 2'!$L$11=\"\", \"\", 'SKILL 2'!$L$11)","v":""},{"$f":"IF('SKILL 2'!$L$14=\"\", \"\", 'SKILL 2'!$L$14)","v":""},{"$f":"IF('SKILL 2'!$K44=\"\", \"\", 'SKILL 2'!$K44)","v":""},{"$f":"IF('SKILL 2'!$L44=\"\", \"\", 'SKILL 2'!$L44)","v":""},{"$f":"IF('SKILL 2'!$M44=\"\", \"\", 'SKILL 2'!$M44)","v":""},{"$f":"IF('SKILL 3'!$C$7=\"\", \"\", 'SKILL 3'!$C$7)","v":""},{"$f":"IF('SKILL 3'!$G$11=\"\", \"\", 'SKILL 3'!$G$11)","v":""},{"$f":"IF('SKILL 3'!$G$14=\"\", \"\", 'SKILL 3'!$G$14)","v":""},{"$f":"IF('SKILL 3'!$G44=\"\", \"\", 'SKILL 3'!$G44)","v":""},{"$f":"IF('SKILL 3'!$I$11=\"\", \"\", 'SKILL 3'!$I$11)","v":""},{"$f":"IF('SKILL 3'!$I$14=\"\", \"\", 'SKILL 3'!$I$14)","v":""},{"$f":"IF('SKILL 3'!$H44=\"\", \"\", 'SKILL 3'!$H44)","v":""},{"$f":"IF('SKILL 3'!$I44=\"\", \"\", 'SKILL 3'!$I44)","v":""},{"$f":"IF('SKILL 3'!$J44=\"\", \"\", 'SKILL 3'!$J44)","v":""},{"$f":"IF('SKILL 3'!$L$11=\"\", \"\", 'SKILL 3'!$L$11)","v":""},{"$f":"IF('SKILL 3'!$L$14=\"\", \"\", 'SKILL 3'!$L$14)","v":""},{"$f":"IF('SKILL 3'!$K44=\"\", \"\", 'SKILL 3'!$K44)","v":""},{"$f":"IF('SKILL 3'!$L44=\"\", \"\", 'SKILL 3'!$L44)","v":""},{"$f":"IF('SKILL 3'!$M44=\"\", \"\", 'SKILL 3'!$M44)","v":""},{"$f":"IF('SKILL 4'!$C$7=\"\", \"\", 'SKILL 4'!$C$7)","v":""},{"$f":"IF('SKILL 4'!$G$11=\"\", \"\", 'SKILL 4'!$G$11)","v":""},{"$f":"IF('SKILL 4'!$G$14=\"\", \"\", 'SKILL 4'!$G$14)","v":""},{"$f":"IF('SKILL 4'!$G44=\"\", \"\", 'SKILL 4'!$G44)","v":""},{"$f":"IF('SKILL 4'!$I$11=\"\", \"\", 'SKILL 4'!$I$11)","v":""},{"$f":"IF('SKILL 4'!$I$14=\"\", \"\", 'SKILL 4'!$I$14)","v":""},{"$f":"IF('SKILL 4'!$H44=\"\", \"\", 'SKILL 4'!$H44)","v":""},{"$f":"IF('SKILL 4'!$I44=\"\", \"\", 'SKILL 4'!$I44)","v":""},{"$f":"IF('SKILL 4'!$J44=\"\", \"\", 'SKILL 4'!$J44)","v":""},{"$f":"IF('SKILL 4'!$L$11=\"\", \"\", 'SKILL 4'!$L$11)","v":""},{"$f":"IF('SKILL 4'!$L$14=\"\", \"\", 'SKILL 4'!$L$14)","v":""},{"$f":"IF('SKILL 4'!$K44=\"\", \"\", 'SKILL 4'!$K44)","v":""},{"$f":"IF('SKILL 4'!$L44=\"\", \"\", 'SKILL 4'!$L44)","v":""},{"$f":"IF('SKILL 4'!$M44=\"\", \"\", 'SKILL 4'!$M44)","v":""},{"$f":"IF('SKILL 5'!$C$7=\"\", \"\", 'SKILL 5'!$C$7)","v":""},{"$f":"IF('SKILL 5'!$G$11=\"\", \"\", 'SKILL 5'!$G$11)","v":""},{"$f":"IF('SKILL 5'!$G$14=\"\", \"\", 'SKILL 5'!$G$14)","v":""},{"$f":"IF('SKILL 5'!$G44=\"\", \"\", 'SKILL 5'!$G44)","v":""},{"$f":"IF('SKILL 5'!$I$11=\"\", \"\", 'SKILL 5'!$I$11)","v":""},{"$f":"IF('SKILL 5'!$I$14=\"\", \"\", 'SKILL 5'!$I$14)","v":""},{"$f":"IF('SKILL 5'!$H44=\"\", \"\", 'SKILL 5'!$H44)","v":""},{"$f":"IF('SKILL 5'!$I44=\"\", \"\", 'SKILL 5'!$I44)","v":""},{"$f":"IF('SKILL 5'!$J44=\"\", \"\", 'SKILL 5'!$J44)","v":""},{"$f":"IF('SKILL 5'!$L$11=\"\", \"\", 'SKILL 5'!$L$11)","v":""},{"$f":"IF('SKILL 5'!$L$14=\"\", \"\", 'SKILL 5'!$L$14)","v":""},{"$f":"IF('SKILL 5'!$K44=\"\", \"\", 'SKILL 5'!$K44)","v":""},{"$f":"IF('SKILL 5'!$L44=\"\", \"\", 'SKILL 5'!$L44)","v":""},{"$f":"IF('SKILL 5'!$M44=\"\", \"\", 'SKILL 5'!$M44)","v":""},{"$f":"IF('SKILL 6'!$C$7=\"\", \"\", 'SKILL 6'!$C$7)","v":""},{"$f":"IF('SKILL 6'!$G$11=\"\", \"\", 'SKILL 6'!$G$11)","v":""},{"$f":"IF('SKILL 6'!$G$14=\"\", \"\", 'SKILL 6'!$G$14)","v":""},{"$f":"IF('SKILL 6'!$G44=\"\", \"\", 'SKILL 6'!$G44)","v":""},{"$f":"IF('SKILL 6'!$I$11=\"\", \"\", 'SKILL 6'!$I$11)","v":""},{"$f":"IF('SKILL 6'!$I$14=\"\", \"\", 'SKILL 6'!$I$14)","v":""},{"$f":"IF('SKILL 6'!$H44=\"\", \"\", 'SKILL 6'!$H44)","v":""},{"$f":"IF('SKILL 6'!$I44=\"\", \"\", 'SKILL 6'!$I44)","v":""},{"$f":"IF('SKILL 6'!$J44=\"\", \"\", 'SKILL 6'!$J44)","v":""},{"$f":"IF('SKILL 6'!$L$11=\"\", \"\", 'SKILL 6'!$L$11)","v":""},{"$f":"IF('SKILL 6'!$L$14=\"\", \"\", 'SKILL 6'!$L$14)","v":""},{"$f":"IF('SKILL 6'!$K44=\"\", \"\", 'SKILL 6'!$K44)","v":""},{"$f":"IF('SKILL 6'!$L44=\"\", \"\", 'SKILL 6'!$L44)","v":""},{"$f":"IF('SKILL 6'!$M44=\"\", \"\", 'SKILL 6'!$M44)","v":""}]
[{"$f":"IF(ATTENDANCE!$D$43=\"\", \"\", ATTENDANCE!$D$43)","v":""},{"$f":"IF(ATTENDANCE!$C$3=\"\", \"\", ATTENDANCE!$C$3)","v":""},{"$f":"IF(ATTENDANCE!$C$4=\"\", \"\", ATTENDANCE!$C$4)","v":""},{"$f":"IF(ATTENDANCE!$C$5=\"\", \"\", ATTENDANCE!$C$5)","v":""},{"$f":"IF(ATTENDANCE!$C$6=\"\", \"\", ATTENDANCE!$C$6)","v":""},{"$f":"IF(ATTENDANCE!$F$11=\"\", \"\", ATTENDANCE!$F$11)","v":""},{"$f":"IF(ATTENDANCE!$F$12=\"\", \"\", ATTENDANCE!$F$12)","v":""},{"$f":"IF(ATTENDANCE!$F43=\"\", \"\", ATTENDANCE!$F43)","v":""},{"$f":"IF(ATTENDANCE!$G43=\"\", \"\", ATTENDANCE!$G43)","v":""},{"$f":"IF(ATTENDANCE!$H$11=\"\", \"\", ATTENDANCE!$H$11)","v":""},{"$f":"IF(ATTENDANCE!$H$12=\"\", \"\", ATTENDANCE!$H$12)","v":""},{"$f":"IF(ATTENDANCE!$H43=\"\", \"\", ATTENDANCE!$H43)","v":""},{"$f":"IF(ATTENDANCE!$I$11=\"\", \"\", ATTENDANCE!$I$11)","v":""},{"$f":"IF(ATTENDANCE!$I$12=\"\", \"\", ATTENDANCE!$I$12)","v":""},{"$f":"IF(ATTENDANCE!$I43=\"\", \"\", ATTENDANCE!$I43)","v":""},{"$f":"IF('SKILL 1'!$C$7=\"\", \"\", 'SKILL 1'!$C$7)","v":""},{"$f":"IF('SKILL 1'!$G$11=\"\", \"\", 'SKILL 1'!$G$11)","v":""},{"$f":"IF('SKILL 1'!$G$14=\"\", \"\", 'SKILL 1'!$G$14)","v":""},{"$f":"IF('SKILL 1'!$G45=\"\", \"\", 'SKILL 1'!$G45)","v":""},{"$f":"IF('SKILL 1'!$I$11=\"\", \"\", 'SKILL 1'!$I$11)","v":""},{"$f":"IF('SKILL 1'!$I$14=\"\", \"\", 'SKILL 1'!$I$14)","v":""},{"$f":"IF('SKILL 1'!$H45=\"\", \"\", 'SKILL 1'!$H45)","v":""},{"$f":"IF('SKILL 1'!$I45=\"\", \"\", 'SKILL 1'!$I45)","v":""},{"$f":"IF('SKILL 1'!$J45=\"\", \"\", 'SKILL 1'!$J45)","v":""},{"$f":"IF('SKILL 1'!$L$11=\"\", \"\", 'SKILL 1'!$L$11)","v":""},{"$f":"IF('SKILL 1'!$L$14=\"\", \"\", 'SKILL 1'!$L$14)","v":""},{"$f":"IF('SKILL 1'!$K45=\"\", \"\", 'SKILL 1'!$K45)","v":""},{"$f":"IF('SKILL 1'!$L45=\"\", \"\", 'SKILL 1'!$L45)","v":""},{"$f":"IF('SKILL 1'!$M45=\"\", \"\", 'SKILL 1'!$M45)","v":""},{"$f":"IF('SKILL 2'!$C$7=\"\", \"\", 'SKILL 2'!$C$7)","v":""},{"$f":"IF('SKILL 2'!$G$11=\"\", \"\", 'SKILL 2'!$G$11)","v":""},{"$f":"IF('SKILL 2'!$G$14=\"\", \"\", 'SKILL 2'!$G$14)","v":""},{"$f":"IF('SKILL 2'!$G45=\"\", \"\", 'SKILL 2'!$G45)","v":""},{"$f":"IF('SKILL 2'!$I$11=\"\", \"\", 'SKILL 2'!$I$11)","v":""},{"$f":"IF('SKILL 2'!$I$14=\"\", \"\", 'SKILL 2'!$I$14)","v":""},{"$f":"IF('SKILL 2'!$H45=\"\", \"\", 'SKILL 2'!$H45)","v":""},{"$f":"IF('SKILL 2'!$I45=\"\", \"\", 'SKILL 2'!$I45)","v":""},{"$f":"IF('SKILL 2'!$J45=\"\", \"\", 'SKILL 2'!$J45)","v":""},{"$f":"IF('SKILL 2'!$L$11=\"\", \"\", 'SKILL 2'!$L$11)","v":""},{"$f":"IF('SKILL 2'!$L$14=\"\", \"\", 'SKILL 2'!$L$14)","v":""},{"$f":"IF('SKILL 2'!$K45=\"\", \"\", 'SKILL 2'!$K45)","v":""},{"$f":"IF('SKILL 2'!$L45=\"\", \"\", 'SKILL 2'!$L45)","v":""},{"$f":"IF('SKILL 2'!$M45=\"\", \"\", 'SKILL 2'!$M45)","v":""},{"$f":"IF('SKILL 3'!$C$7=\"\", \"\", 'SKILL 3'!$C$7)","v":""},{"$f":"IF('SKILL 3'!$G$11=\"\", \"\", 'SKILL 3'!$G$11)","v":""},{"$f":"IF('SKILL 3'!$G$14=\"\", \"\", 'SKILL 3'!$G$14)","v":""},{"$f":"IF('SKILL 3'!$G45=\"\", \"\", 'SKILL 3'!$G45)","v":""},{"$f":"IF('SKILL 3'!$I$11=\"\", \"\", 'SKILL 3'!$I$11)","v":""},{"$f":"IF('SKILL 3'!$I$14=\"\", \"\", 'SKILL 3'!$I$14)","v":""},{"$f":"IF('SKILL 3'!$H45=\"\", \"\", 'SKILL 3'!$H45)","v":""},{"$f":"IF('SKILL 3'!$I45=\"\", \"\", 'SKILL 3'!$I45)","v":""},{"$f":"IF('SKILL 3'!$J45=\"\", \"\", 'SKILL 3'!$J45)","v":""},{"$f":"IF('SKILL 3'!$L$11=\"\", \"\", 'SKILL 3'!$L$11)","v":""},{"$f":"IF('SKILL 3'!$L$14=\"\", \"\", 'SKILL 3'!$L$14)","v":""},{"$f":"IF('SKILL 3'!$K45=\"\", \"\", 'SKILL 3'!$K45)","v":""},{"$f":"IF('SKILL 3'!$L45=\"\", \"\", 'SKILL 3'!$L45)","v":""},{"$f":"IF('SKILL 3'!$M45=\"\", \"\", 'SKILL 3'!$M45)","v":""},{"$f":"IF('SKILL 4'!$C$7=\"\", \"\", 'SKILL 4'!$C$7)","v":""},{"$f":"IF('SKILL 4'!$G$11=\"\", \"\", 'SKILL 4'!$G$11)","v":""},{"$f":"IF('SKILL 4'!$G$14=\"\", \"\", 'SKILL 4'!$G$14)","v":""},{"$f":"IF('SKILL 4'!$G45=\"\", \"\", 'SKILL 4'!$G45)","v":""},{"$f":"IF('SKILL 4'!$I$11=\"\", \"\", 'SKILL 4'!$I$11)","v":""},{"$f":"IF('SKILL 4'!$I$14=\"\", \"\", 'SKILL 4'!$I$14)","v":""},{"$f":"IF('SKILL 4'!$H45=\"\", \"\", 'SKILL 4'!$H45)","v":""},{"$f":"IF('SKILL 4'!$I45=\"\", \"\", 'SKILL 4'!$I45)","v":""},{"$f":"IF('SKILL 4'!$J45=\"\", \"\", 'SKILL 4'!$J45)","v":""},{"$f":"IF('SKILL 4'!$L$11=\"\", \"\", 'SKILL 4'!$L$11)","v":""},{"$f":"IF('SKILL 4'!$L$14=\"\", \"\", 'SKILL 4'!$L$14)","v":""},{"$f":"IF('SKILL 4'!$K45=\"\", \"\", 'SKILL 4'!$K45)","v":""},{"$f":"IF('SKILL 4'!$L45=\"\", \"\", 'SKILL 4'!$L45)","v":""},{"$f":"IF('SKILL 4'!$M45=\"\", \"\", 'SKILL 4'!$M45)","v":""},{"$f":"IF('SKILL 5'!$C$7=\"\", \"\", 'SKILL 5'!$C$7)","v":""},{"$f":"IF('SKILL 5'!$G$11=\"\", \"\", 'SKILL 5'!$G$11)","v":""},{"$f":"IF('SKILL 5'!$G$14=\"\", \"\", 'SKILL 5'!$G$14)","v":""},{"$f":"IF('SKILL 5'!$G45=\"\", \"\", 'SKILL 5'!$G45)","v":""},{"$f":"IF('SKILL 5'!$I$11=\"\", \"\", 'SKILL 5'!$I$11)","v":""},{"$f":"IF('SKILL 5'!$I$14=\"\", \"\", 'SKILL 5'!$I$14)","v":""},{"$f":"IF('SKILL 5'!$H45=\"\", \"\", 'SKILL 5'!$H45)","v":""},{"$f":"IF('SKILL 5'!$I45=\"\", \"\", 'SKILL 5'!$I45)","v":""},{"$f":"IF('SKILL 5'!$J45=\"\", \"\", 'SKILL 5'!$J45)","v":""},{"$f":"IF('SKILL 5'!$L$11=\"\", \"\", 'SKILL 5'!$L$11)","v":""},{"$f":"IF('SKILL 5'!$L$14=\"\", \"\", 'SKILL 5'!$L$14)","v":""},{"$f":"IF('SKILL 5'!$K45=\"\", \"\", 'SKILL 5'!$K45)","v":""},{"$f":"IF('SKILL 5'!$L45=\"\", \"\", 'SKILL 5'!$L45)","v":""},{"$f":"IF('SKILL 5'!$M45=\"\", \"\", 'SKILL 5'!$M45)","v":""},{"$f":"IF('SKILL 6'!$C$7=\"\", \"\", 'SKILL 6'!$C$7)","v":""},{"$f":"IF('SKILL 6'!$G$11=\"\", \"\", 'SKILL 6'!$G$11)","v":""},{"$f":"IF('SKILL 6'!$G$14=\"\", \"\", 'SKILL 6'!$G$14)","v":""},{"$f":"IF('SKILL 6'!$G45=\"\", \"\", 'SKILL 6'!$G45)","v":""},{"$f":"IF('SKILL 6'!$I$11=\"\", \"\", 'SKILL 6'!$I$11)","v":""},{"$f":"IF('SKILL 6'!$I$14=\"\", \"\", 'SKILL 6'!$I$14)","v":""},{"$f":"IF('SKILL 6'!$H45=\"\", \"\", 'SKILL 6'!$H45)","v":""},{"$f":"IF('SKILL 6'!$I45=\"\", \"\", 'SKILL 6'!$I45)","v":""},{"$f":"IF('SKILL 6'!$J45=\"\", \"\", 'SKILL 6'!$J45)","v":""},{"$f":"IF('SKILL 6'!$L$11=\"\", \"\", 'SKILL 6'!$L$11)","v":""},{"$f":"IF('SKILL 6'!$L$14=\"\", \"\", 'SKILL 6'!$L$14)","v":""},{"$f":"IF('SKILL 6'!$K45=\"\", \"\", 'SKILL 6'!$K45)","v":""},{"$f":"IF('SKILL 6'!$L45=\"\", \"\", 'SKILL 6'!$L45)","v":""},{"$f":"IF('SKILL 6'!$M45=\"\", \"\", 'SKILL 6'!$M45)","v":""}]
[{"$f":"IF(ATTENDANCE!$D$44=\"\", \"\", ATTENDANCE!$D$44)","v":""},{"$f":"IF(ATTENDANCE!$C$3=\"\", \"\", ATTENDANCE!$C$3)","v":""},{"$f":"IF(ATTENDANCE!$C$4=\"\", \"\", ATTENDANCE!$C$4)","v":""},{"$f":"IF(ATTENDANCE!$C$5=\"\", \"\", ATTENDANCE!$C$5)","v":""},{"$f":"IF(ATTENDANCE!$C$6=\"\", \"\", ATTENDANCE!$C$6)","v":""},{"$f":"IF(ATTENDANCE!$F$11=\"\", \"\", ATTENDANCE!$F$11)","v":""},{"$f":"IF(ATTENDANCE!$F$12=\"\", \"\", ATTENDANCE!$F$12)","v":""},{"$f":"IF(ATTENDANCE!$F44=\"\", \"\", ATTENDANCE!$F44)","v":""},{"$f":"IF(ATTENDANCE!$G44=\"\", \"\", ATTENDANCE!$G44)","v":""},{"$f":"IF(ATTENDANCE!$H$11=\"\", \"\", ATTENDANCE!$H$11)","v":""},{"$f":"IF(ATTENDANCE!$H$12=\"\", \"\", ATTENDANCE!$H$12)","v":""},{"$f":"IF(ATTENDANCE!$H44=\"\", \"\", ATTENDANCE!$H44)","v":""},{"$f":"IF(ATTENDANCE!$I$11=\"\", \"\", ATTENDANCE!$I$11)","v":""},{"$f":"IF(ATTENDANCE!$I$12=\"\", \"\", ATTENDANCE!$I$12)","v":""},{"$f":"IF(ATTENDANCE!$I44=\"\", \"\", ATTENDANCE!$I44)","v":""},{"$f":"IF('SKILL 1'!$C$7=\"\", \"\", 'SKILL 1'!$C$7)","v":""},{"$f":"IF('SKILL 1'!$G$11=\"\", \"\", 'SKILL 1'!$G$11)","v":""},{"$f":"IF('SKILL 1'!$G$14=\"\", \"\", 'SKILL 1'!$G$14)","v":""},{"$f":"IF('SKILL 1'!$G46=\"\", \"\", 'SKILL 1'!$G46)","v":""},{"$f":"IF('SKILL 1'!$I$11=\"\", \"\", 'SKILL 1'!$I$11)","v":""},{"$f":"IF('SKILL 1'!$I$14=\"\", \"\", 'SKILL 1'!$I$14)","v":""},{"$f":"IF('SKILL 1'!$H46=\"\", \"\", 'SKILL 1'!$H46)","v":""},{"$f":"IF('SKILL 1'!$I46=\"\", \"\", 'SKILL 1'!$I46)","v":""},{"$f":"IF('SKILL 1'!$J46=\"\", \"\", 'SKILL 1'!$J46)","v":""},{"$f":"IF('SKILL 1'!$L$11=\"\", \"\", 'SKILL 1'!$L$11)","v":""},{"$f":"IF('SKILL 1'!$L$14=\"\", \"\", 'SKILL 1'!$L$14)","v":""},{"$f":"IF('SKILL 1'!$K46=\"\", \"\", 'SKILL 1'!$K46)","v":""},{"$f":"IF('SKILL 1'!$L46=\"\", \"\", 'SKILL 1'!$L46)","v":""},{"$f":"IF('SKILL 1'!$M46=\"\", \"\", 'SKILL 1'!$M46)","v":""},{"$f":"IF('SKILL 2'!$C$7=\"\", \"\", 'SKILL 2'!$C$7)","v":""},{"$f":"IF('SKILL 2'!$G$11=\"\", \"\", 'SKILL 2'!$G$11)","v":""},{"$f":"IF('SKILL 2'!$G$14=\"\", \"\", 'SKILL 2'!$G$14)","v":""},{"$f":"IF('SKILL 2'!$G46=\"\", \"\", 'SKILL 2'!$G46)","v":""},{"$f":"IF('SKILL 2'!$I$11=\"\", \"\", 'SKILL 2'!$I$11)","v":""},{"$f":"IF('SKILL 2'!$I$14=\"\", \"\", 'SKILL 2'!$I$14)","v":""},{"$f":"IF('SKILL 2'!$H46=\"\", \"\", 'SKILL 2'!$H46)","v":""},{"$f":"IF('SKILL 2'!$I46=\"\", \"\", 'SKILL 2'!$I46)","v":""},{"$f":"IF('SKILL 2'!$J46=\"\", \"\", 'SKILL 2'!$J46)","v":""},{"$f":"IF('SKILL 2'!$L$11=\"\", \"\", 'SKILL 2'!$L$11)","v":""},{"$f":"IF('SKILL 2'!$L$14=\"\", \"\", 'SKILL 2'!$L$14)","v":""},{"$f":"IF('SKILL 2'!$K46=\"\", \"\", 'SKILL 2'!$K46)","v":""},{"$f":"IF('SKILL 2'!$L46=\"\", \"\", 'SKILL 2'!$L46)","v":""},{"$f":"IF('SKILL 2'!$M46=\"\", \"\", 'SKILL 2'!$M46)","v":""},{"$f":"IF('SKILL 3'!$C$7=\"\", \"\", 'SKILL 3'!$C$7)","v":""},{"$f":"IF('SKILL 3'!$G$11=\"\", \"\", 'SKILL 3'!$G$11)","v":""},{"$f":"IF('SKILL 3'!$G$14=\"\", \"\", 'SKILL 3'!$G$14)","v":""},{"$f":"IF('SKILL 3'!$G46=\"\", \"\", 'SKILL 3'!$G46)","v":""},{"$f":"IF('SKILL 3'!$I$11=\"\", \"\", 'SKILL 3'!$I$11)","v":""},{"$f":"IF('SKILL 3'!$I$14=\"\", \"\", 'SKILL 3'!$I$14)","v":""},{"$f":"IF('SKILL 3'!$H46=\"\", \"\", 'SKILL 3'!$H46)","v":""},{"$f":"IF('SKILL 3'!$I46=\"\", \"\", 'SKILL 3'!$I46)","v":""},{"$f":"IF('SKILL 3'!$J46=\"\", \"\", 'SKILL 3'!$J46)","v":""},{"$f":"IF('SKILL 3'!$L$11=\"\", \"\", 'SKILL 3'!$L$11)","v":""},{"$f":"IF('SKILL 3'!$L$14=\"\", \"\", 'SKILL 3'!$L$14)","v":""},{"$f":"IF('SKILL 3'!$K46=\"\", \"\", 'SKILL 3'!$K46)","v":""},{"$f":"IF('SKILL 3'!$L46=\"\", \"\", 'SKILL 3'!$L46)","v":""},{"$f":"IF('SKILL 3'!$M46=\"\", \"\", 'SKILL 3'!$M46)","v":""},{"$f":"IF('SKILL 4'!$C$7=\"\", \"\", 'SKILL 4'!$C$7)","v":""},{"$f":"IF('SKILL 4'!$G$11=\"\", \"\", 'SKILL 4'!$G$11)","v":""},{"$f":"IF('SKILL 4'!$G$14=\"\", \"\", 'SKILL 4'!$G$14)","v":""},{"$f":"IF('SKILL 4'!$G46=\"\", \"\", 'SKILL 4'!$G46)","v":""},{"$f":"IF('SKILL 4'!$I$11=\"\", \"\", 'SKILL 4'!$I$11)","v":""},{"$f":"IF('SKILL 4'!$I$14=\"\", \"\", 'SKILL 4'!$I$14)","v":""},{"$f":"IF('SKILL 4'!$H46=\"\", \"\", 'SKILL 4'!$H46)","v":""},{"$f":"IF('SKILL 4'!$I46=\"\", \"\", 'SKILL 4'!$I46)","v":""},{"$f":"IF('SKILL 4'!$J46=\"\", \"\", 'SKILL 4'!$J46)","v":""},{"$f":"IF('SKILL 4'!$L$11=\"\", \"\", 'SKILL 4'!$L$11)","v":""},{"$f":"IF('SKILL 4'!$L$14=\"\", \"\", 'SKILL 4'!$L$14)","v":""},{"$f":"IF('SKILL 4'!$K46=\"\", \"\", 'SKILL 4'!$K46)","v":""},{"$f":"IF('SKILL 4'!$L46=\"\", \"\", 'SKILL 4'!$L46)","v":""},{"$f":"IF('SKILL 4'!$M46=\"\", \"\", 'SKILL 4'!$M46)","v":""},{"$f":"IF('SKILL 5'!$C$7=\"\", \"\", 'SKILL 5'!$C$7)","v":""},{"$f":"IF('SKILL 5'!$G$11=\"\", \"\", 'SKILL 5'!$G$11)","v":""},{"$f":"IF('SKILL 5'!$G$14=\"\", \"\", 'SKILL 5'!$G$14)","v":""},{"$f":"IF('SKILL 5'!$G46=\"\", \"\", 'SKILL 5'!$G46)","v":""},{"$f":"IF('SKILL 5'!$I$11=\"\", \"\", 'SKILL 5'!$I$11)","v":""},{"$f":"IF('SKILL 5'!$I$14=\"\", \"\", 'SKILL 5'!$I$14)","v":""},{"$f":"IF('SKILL 5'!$H46=\"\", \"\", 'SKILL 5'!$H46)","v":""},{"$f":"IF('SKILL 5'!$I46=\"\", \"\", 'SKILL 5'!$I46)","v":""},{"$f":"IF('SKILL 5'!$J46=\"\", \"\", 'SKILL 5'!$J46)","v":""},{"$f":"IF('SKILL 5'!$L$11=\"\", \"\", 'SKILL 5'!$L$11)","v":""},{"$f":"IF('SKILL 5'!$L$14=\"\", \"\", 'SKILL 5'!$L$14)","v":""},{"$f":"IF('SKILL 5'!$K46=\"\", \"\", 'SKILL 5'!$K46)","v":""},{"$f":"IF('SKILL 5'!$L46=\"\", \"\", 'SKILL 5'!$L46)","v":""},{"$f":"IF('SKILL 5'!$M46=\"\", \"\", 'SKILL 5'!$M46)","v":""},{"$f":"IF('SKILL 6'!$C$7=\"\", \"\", 'SKILL 6'!$C$7)","v":""},{"$f":"IF('SKILL 6'!$G$11=\"\", \"\", 'SKILL 6'!$G$11)","v":""},{"$f":"IF('SKILL 6'!$G$14=\"\", \"\", 'SKILL 6'!$G$14)","v":""},{"$f":"IF('SKILL 6'!$G46=\"\", \"\", 'SKILL 6'!$G46)","v":""},{"$f":"IF('SKILL 6'!$I$11=\"\", \"\", 'SKILL 6'!$I$11)","v":""},{"$f":"IF('SKILL 6'!$I$14=\"\", \"\", 'SKILL 6'!$I$14)","v":""},{"$f":"IF('SKILL 6'!$H46=\"\", \"\", 'SKILL 6'!$H46)","v":""},{"$f":"IF('SKILL 6'!$I46=\"\", \"\", 'SKILL 6'!$I46)","v":""},{"$f":"IF('SKILL 6'!$J46=\"\", \"\", 'SKILL 6'!$J46)","v":""},{"$f":"IF('SKILL 6'!$L$11=\"\", \"\", 'SKILL 6'!$L$11)","v":""},{"$f":"IF('SKILL 6'!$L$14=\"\", \"\", 'SKILL 6'!$L$14)","v":""},{"$f":"IF('SKILL 6'!$K46=\"\", \"\", 'SKILL 6'!$K46)","v":""},{"$f":"IF('SKILL 6'!$L46=\"\", \"\", 'SKILL 6'!$L46)","v":""},{"$f":"IF('SKILL 6'!$M46=\"\", \"\", 'SKILL 6'!$M46)","v":""}]
[{"$f":"IF(ATTENDANCE!$D$45=\"\", \"\", ATTENDANCE!$D$45)","v":""},{"$f":"IF(ATTENDANCE!$C$3=\"\", \"\", ATTENDANCE!$C$3)","v":""},{"$f":"IF(ATTENDANCE!$C$4=\"\", \"\", ATTENDANCE!$C$4)","v":""},{"$f":"IF(ATTENDANCE!$C$5=\"\", \"\", ATTENDANCE!$C$5)","v":""},{"$f":"IF(ATTENDANCE!$C$6=\"\", \"\", ATTENDANCE!$C$6)","v":""},{"$f":"IF(ATTENDANCE!$F$11=\"\", \"\", ATTENDANCE!$F$11)","v":""},{"$f":"IF(ATTENDANCE!$F$12=\"\", \"\", ATTENDANCE!$F$12)","v":""},{"$f":"IF(ATTENDANCE!$F45=\"\", \"\", ATTENDANCE!$F45)","v":""},{"$f":"IF(ATTENDANCE!$G45=\"\", \"\", ATTENDANCE!$G45)","v":""},{"$f":"IF(ATTENDANCE!$H$11=\"\", \"\", ATTENDANCE!$H$11)","v":""},{"$f":"IF(ATTENDANCE!$H$12=\"\", \"\", ATTENDANCE!$H$12)","v":""},{"$f":"IF(ATTENDANCE!$H45=\"\", \"\", ATTENDANCE!$H45)","v":""},{"$f":"IF(ATTENDANCE!$I$11=\"\", \"\", ATTENDANCE!$I$11)","v":""},{"$f":"IF(ATTENDANCE!$I$12=\"\", \"\", ATTENDANCE!$I$12)","v":""},{"$f":"IF(ATTENDANCE!$I45=\"\", \"\", ATTENDANCE!$I45)","v":""},{"$f":"IF('SKILL 1'!$C$7=\"\", \"\", 'SKILL 1'!$C$7)","v":""},{"$f":"IF('SKILL 1'!$G$11=\"\", \"\", 'SKILL 1'!$G$11)","v":""},{"$f":"IF('SKILL 1'!$G$14=\"\", \"\", 'SKILL 1'!$G$14)","v":""},{"$f":"IF('SKILL 1'!$G47=\"\", \"\", 'SKILL 1'!$G47)","v":""},{"$f":"IF('SKILL 1'!$I$11=\"\", \"\", 'SKILL 1'!$I$11)","v":""},{"$f":"IF('SKILL 1'!$I$14=\"\", \"\", 'SKILL 1'!$I$14)","v":""},{"$f":"IF('SKILL 1'!$H47=\"\", \"\", 'SKILL 1'!$H47)","v":""},{"$f":"IF('SKILL 1'!$I47=\"\", \"\", 'SKILL 1'!$I47)","v":""},{"$f":"IF('SKILL 1'!$J47=\"\", \"\", 'SKILL 1'!$J47)","v":""},{"$f":"IF('SKILL 1'!$L$11=\"\", \"\", 'SKILL 1'!$L$11)","v":""},{"$f":"IF('SKILL 1'!$L$14=\"\", \"\", 'SKILL 1'!$L$14)","v":""},{"$f":"IF('SKILL 1'!$K47=\"\", \"\", 'SKILL 1'!$K47)","v":""},{"$f":"IF('SKILL 1'!$L47=\"\", \"\", 'SKILL 1'!$L47)","v":""},{"$f":"IF('SKILL 1'!$M47=\"\", \"\", 'SKILL 1'!$M47)","v":""},{"$f":"IF('SKILL 2'!$C$7=\"\", \"\", 'SKILL 2'!$C$7)","v":""},{"$f":"IF('SKILL 2'!$G$11=\"\", \"\", 'SKILL 2'!$G$11)","v":""},{"$f":"IF('SKILL 2'!$G$14=\"\", \"\", 'SKILL 2'!$G$14)","v":""},{"$f":"IF('SKILL 2'!$G47=\"\", \"\", 'SKILL 2'!$G47)","v":""},{"$f":"IF('SKILL 2'!$I$11=\"\", \"\", 'SKILL 2'!$I$11)","v":""},{"$f":"IF('SKILL 2'!$I$14=\"\", \"\", 'SKILL 2'!$I$14)","v":""},{"$f":"IF('SKILL 2'!$H47=\"\", \"\", 'SKILL 2'!$H47)","v":""},{"$f":"IF('SKILL 2'!$I47=\"\", \"\", 'SKILL 2'!$I47)","v":""},{"$f":"IF('SKILL 2'!$J47=\"\", \"\", 'SKILL 2'!$J47)","v":""},{"$f":"IF('SKILL 2'!$L$11=\"\", \"\", 'SKILL 2'!$L$11)","v":""},{"$f":"IF('SKILL 2'!$L$14=\"\", \"\", 'SKILL 2'!$L$14)","v":""},{"$f":"IF('SKILL 2'!$K47=\"\", \"\", 'SKILL 2'!$K47)","v":""},{"$f":"IF('SKILL 2'!$L47=\"\", \"\", 'SKILL 2'!$L47)","v":""},{"$f":"IF('SKILL 2'!$M47=\"\", \"\", 'SKILL 2'!$M47)","v":""},{"$f":"IF('SKILL 3'!$C$7=\"\", \"\", 'SKILL 3'!$C$7)","v":""},{"$f":"IF('SKILL 3'!$G$11=\"\", \"\", 'SKILL 3'!$G$11)","v":""},{"$f":"IF('SKILL 3'!$G$14=\"\", \"\", 'SKILL 3'!$G$14)","v":""},{"$f":"IF('SKILL 3'!$G47=\"\", \"\", 'SKILL 3'!$G47)","v":""},{"$f":"IF('SKILL 3'!$I$11=\"\", \"\", 'SKILL 3'!$I$11)","v":""},{"$f":"IF('SKILL 3'!$I$14=\"\", \"\", 'SKILL 3'!$I$14)","v":""},{"$f":"IF('SKILL 3'!$H47=\"\", \"\", 'SKILL 3'!$H47)","v":""},{"$f":"IF('SKILL 3'!$I47=\"\", \"\", 'SKILL 3'!$I47)","v":""},{"$f":"IF('SKILL 3'!$J47=\"\", \"\", 'SKILL 3'!$J47)","v":""},{"$f":"IF('SKILL 3'!$L$11=\"\", \"\", 'SKILL 3'!$L$11)","v":""},{"$f":"IF('SKILL 3'!$L$14=\"\", \"\", 'SKILL 3'!$L$14)","v":""},{"$f":"IF('SKILL 3'!$K47=\"\", \"\", 'SKILL 3'!$K47)","v":""},{"$f":"IF('SKILL 3'!$L47=\"\", \"\", 'SKILL 3'!$L47)","v":""},{"$f":"IF('SKILL 3'!$M47=\"\", \"\", 'SKILL 3'!$M47)","v":""},{"$f":"IF('SKILL 4'!$C$7=\"\", \"\", 'SKILL 4'!$C$7)","v":""},{"$f":"IF('SKILL 4'!$G$11=\"\", \"\", 'SKILL 4'!$G$11)","v":""},{"$f":"IF('SKILL 4'!$G$14=\"\", \"\", 'SKILL 4'!$G$14)","v":""},{"$f":"IF('SKILL 4'!$G47=\"\", \"\", 'SKILL 4'!$G47)","v":""},{"$f":"IF('SKILL 4'!$I$11=\"\", \"\", 'SKILL 4'!$I$11)","v":""},{"$f":"IF('SKILL 4'!$I$14=\"\", \"\", 'SKILL 4'!$I$14)","v":""},{"$f":"IF('SKILL 4'!$H47=\"\", \"\", 'SKILL 4'!$H47)","v":""},{"$f":"IF('SKILL 4'!$I47=\"\", \"\", 'SKILL 4'!$I47)","v":""},{"$f":"IF('SKILL 4'!$J47=\"\", \"\", 'SKILL 4'!$J47)","v":""},{"$f":"IF('SKILL 4'!$L$11=\"\", \"\", 'SKILL 4'!$L$11)","v":""},{"$f":"IF('SKILL 4'!$L$14=\"\", \"\", 'SKILL 4'!$L$14)","v":""},{"$f":"IF('SKILL 4'!$K47=\"\", \"\", 'SKILL 4'!$K47)","v":""},{"$f":"IF('SKILL 4'!$L47=\"\", \"\", 'SKILL 4'!$L47)","v":""},{"$f":"IF('SKILL 4'!$M47=\"\", \"\", 'SKILL 4'!$M47)","v":""},{"$f":"IF('SKILL 5'!$C$7=\"\", \"\", 'SKILL 5'!$C$7)","v":""},{"$f":"IF('SKILL 5'!$G$11=\"\", \"\", 'SKILL 5'!$G$11)","v":""},{"$f":"IF('SKILL 5'!$G$14=\"\", \"\", 'SKILL 5'!$G$14)","v":""},{"$f":"IF('SKILL 5'!$G47=\"\", \"\", 'SKILL 5'!$G47)","v":""},{"$f":"IF('SKILL 5'!$I$11=\"\", \"\", 'SKILL 5'!$I$11)","v":""},{"$f":"IF('SKILL 5'!$I$14=\"\", \"\", 'SKILL 5'!$I$14)","v":""},{"$f":"IF('SKILL 5'!$H47=\"\", \"\", 'SKILL 5'!$H47)","v":""},{"$f":"IF('SKILL 5'!$I47=\"\", \"\", 'SKILL 5'!$I47)","v":""},{"$f":"IF('SKILL 5'!$J47=\"\", \"\", 'SKILL 5'!$J47)","v":""},{"$f":"IF('SKILL 5'!$L$11=\"\", \"\", 'SKILL 5'!$L$11)","v":""},{"$f":"IF('SKILL 5'!$L$14=\"\", \"\", 'SKILL 5'!$L$14)","v":""},{"$f":"IF('SKILL 5'!$K47=\"\", \"\", 'SKILL 5'!$K47)","v":""},{"$f":"IF('SKILL 5'!$L47=\"\", \"\", 'SKILL 5'!$L47)","v":""},{"$f":"IF('SKILL 5'!$M47=\"\", \"\", 'SKILL 5'!$M47)","v":""},{"$f":"IF('SKILL 6'!$C$7=\"\", \"\", 'SKILL 6'!$C$7)","v":""},{"$f":"IF('SKILL 6'!$G$11=\"\", \"\", 'SKILL 6'!$G$11)","v":""},{"$f":"IF('SKILL 6'!$G$14=\"\", \"\", 'SKILL 6'!$G$14)","v":""},{"$f":"IF('SKILL 6'!$G47=\"\", \"\", 'SKILL 6'!$G47)","v":""},{"$f":"IF('SKILL 6'!$I$11=\"\", \"\", 'SKILL 6'!$I$11)","v":""},{"$f":"IF('SKILL 6'!$I$14=\"\", \"\", 'SKILL 6'!$I$14)","v":""},{"$f":"IF('SKILL 6'!$H47=\"\", \"\", 'SKILL 6'!$H47)","v":""},{"$f":"IF('SKILL 6'!$I47=\"\", \"\", 'SKILL 6'!$I47)","v":""},{"$f":"IF('SKILL 6'!$J47=\"\", \"\", 'SKILL 6'!$J47)","v":""},{"$f":"IF('SKILL 6'!$L$11=\"\", \"\", 'SKILL 6'!$L$11)","v":""},{"$f":"IF('SKILL 6'!$L$14=\"\", \"\", 'SKILL 6'!$L$14)","v":""},{"$f":"IF('SKILL 6'!$K47=\"\", \"\", 'SKILL 6'!$K47)","v":""},{"$f":"IF('SKILL 6'!$L47=\"\", \"\", 'SKILL 6'!$L47)","v":""},{"$f":"IF('SKILL 6'!$M47=\"\", \"\", 'SKILL 6'!$M47)","v":""}]
[{"$f":"IF(ATTENDANCE!$D$46=\"\", \"\", ATTENDANCE!$D$46)","v":""},{"$f":"IF(ATTENDANCE!$C$3=\"\", \"\", ATTENDANCE!$C$3)","v":""},{"$f":"IF(ATTENDANCE!$C$4=\"\", \"\", ATTENDANCE!$C$4)","v":""},{"$f":"IF(ATTENDANCE!$C$5=\"\", \"\", ATTENDANCE!$C$5)","v":""},{"$f":"IF(ATTENDANCE!$C$6=\"\", \"\", ATTENDANCE!$C$6)","v":""},{"$f":"IF(ATTENDANCE!$F$11=\"\", \"\", ATTENDANCE!$F$11)","v":""},{"$f":"IF(ATTENDANCE!$F$12=\"\", \"\", ATTENDANCE!$F$12)","v":""},{"$f":"IF(ATTENDANCE!$F46=\"\", \"\", ATTENDANCE!$F46)","v":""},{"$f":"IF(ATTENDANCE!$G46=\"\", \"\", ATTENDANCE!$G46)","v":""},{"$f":"IF(ATTENDANCE!$H$11=\"\", \"\", ATTENDANCE!$H$11)","v":""},{"$f":"IF(ATTENDANCE!$H$12=\"\", \"\", ATTENDANCE!$H$12)","v":""},{"$f":"IF(ATTENDANCE!$H46=\"\", \"\", ATTENDANCE!$H46)","v":""},{"$f":"IF(ATTENDANCE!$I$11=\"\", \"\", ATTENDANCE!$I$11)","v":""},{"$f":"IF(ATTENDANCE!$I$12=\"\", \"\", ATTENDANCE!$I$12)","v":""},{"$f":"IF(ATTENDANCE!$I46=\"\", \"\", ATTENDANCE!$I46)","v":""},{"$f":"IF('SKILL 1'!$C$7=\"\", \"\", 'SKILL 1'!$C$7)","v":""},{"$f":"IF('SKILL 1'!$G$11=\"\", \"\", 'SKILL 1'!$G$11)","v":""},{"$f":"IF('SKILL 1'!$G$14=\"\", \"\", 'SKILL 1'!$G$14)","v":""},{"$f":"IF('SKILL 1'!$G48=\"\", \"\", 'SKILL 1'!$G48)","v":""},{"$f":"IF('SKILL 1'!$I$11=\"\", \"\", 'SKILL 1'!$I$11)","v":""},{"$f":"IF('SKILL 1'!$I$14=\"\", \"\", 'SKILL 1'!$I$14)","v":""},{"$f":"IF('SKILL 1'!$H48=\"\", \"\", 'SKILL 1'!$H48)","v":""},{"$f":"IF('SKILL 1'!$I48=\"\", \"\", 'SKILL 1'!$I48)","v":""},{"$f":"IF('SKILL 1'!$J48=\"\", \"\", 'SKILL 1'!$J48)","v":""},{"$f":"IF('SKILL 1'!$L$11=\"\", \"\", 'SKILL 1'!$L$11)","v":""},{"$f":"IF('SKILL 1'!$L$14=\"\", \"\", 'SKILL 1'!$L$14)","v":""},{"$f":"IF('SKILL 1'!$K48=\"\", \"\", 'SKILL 1'!$K48)","v":""},{"$f":"IF('SKILL 1'!$L48=\"\", \"\", 'SKILL 1'!$L48)","v":""},{"$f":"IF('SKILL 1'!$M48=\"\", \"\", 'SKILL 1'!$M48)","v":""},{"$f":"IF('SKILL 2'!$C$7=\"\", \"\", 'SKILL 2'!$C$7)","v":""},{"$f":"IF('SKILL 2'!$G$11=\"\", \"\", 'SKILL 2'!$G$11)","v":""},{"$f":"IF('SKILL 2'!$G$14=\"\", \"\", 'SKILL 2'!$G$14)","v":""},{"$f":"IF('SKILL 2'!$G48=\"\", \"\", 'SKILL 2'!$G48)","v":""},{"$f":"IF('SKILL 2'!$I$11=\"\", \"\", 'SKILL 2'!$I$11)","v":""},{"$f":"IF('SKILL 2'!$I$14=\"\", \"\", 'SKILL 2'!$I$14)","v":""},{"$f":"IF('SKILL 2'!$H48=\"\", \"\", 'SKILL 2'!$H48)","v":""},{"$f":"IF('SKILL 2'!$I48=\"\", \"\", 'SKILL 2'!$I48)","v":""},{"$f":"IF('SKILL 2'!$J48=\"\", \"\", 'SKILL 2'!$J48)","v":""},{"$f":"IF('SKILL 2'!$L$11=\"\", \"\", 'SKILL 2'!$L$11)","v":""},{"$f":"IF('SKILL 2'!$L$14=\"\", \"\", 'SKILL 2'!$L$14)","v":""},{"$f":"IF('SKILL 2'!$K48=\"\", \"\", 'SKILL 2'!$K48)","v":""},{"$f":"IF('SKILL 2'!$L48=\"\", \"\", 'SKILL 2'!$L48)","v":""},{"$f":"IF('SKILL 2'!$M48=\"\", \"\", 'SKILL 2'!$M48)","v":""},{"$f":"IF('SKILL 3'!$C$7=\"\", \"\", 'SKILL 3'!$C$7)","v":""},{"$f":"IF('SKILL 3'!$G$11=\"\", \"\", 'SKILL 3'!$G$11)","v":""},{"$f":"IF('SKILL 3'!$G$14=\"\", \"\", 'SKILL 3'!$G$14)","v":""},{"$f":"IF('SKILL 3'!$G48=\"\", \"\", 'SKILL 3'!$G48)","v":""},{"$f":"IF('SKILL 3'!$I$11=\"\", \"\", 'SKILL 3'!$I$11)","v":""},{"$f":"IF('SKILL 3'!$I$14=\"\", \"\", 'SKILL 3'!$I$14)","v":""},{"$f":"IF('SKILL 3'!$H48=\"\", \"\", 'SKILL 3'!$H48)","v":""},{"$f":"IF('SKILL 3'!$I48=\"\", \"\", 'SKILL 3'!$I48)","v":""},{"$f":"IF('SKILL 3'!$J48=\"\", \"\", 'SKILL 3'!$J48)","v":""},{"$f":"IF('SKILL 3'!$L$11=\"\", \"\", 'SKILL 3'!$L$11)","v":""},{"$f":"IF('SKILL 3'!$L$14=\"\", \"\", 'SKILL 3'!$L$14)","v":""},{"$f":"IF('SKILL 3'!$K48=\"\", \"\", 'SKILL 3'!$K48)","v":""},{"$f":"IF('SKILL 3'!$L48=\"\", \"\", 'SKILL 3'!$L48)","v":""},{"$f":"IF('SKILL 3'!$M48=\"\", \"\", 'SKILL 3'!$M48)","v":""},{"$f":"IF('SKILL 4'!$C$7=\"\", \"\", 'SKILL 4'!$C$7)","v":""},{"$f":"IF('SKILL 4'!$G$11=\"\", \"\", 'SKILL 4'!$G$11)","v":""},{"$f":"IF('SKILL 4'!$G$14=\"\", \"\", 'SKILL 4'!$G$14)","v":""},{"$f":"IF('SKILL 4'!$G48=\"\", \"\", 'SKILL 4'!$G48)","v":""},{"$f":"IF('SKILL 4'!$I$11=\"\", \"\", 'SKILL 4'!$I$11)","v":""},{"$f":"IF('SKILL 4'!$I$14=\"\", \"\", 'SKILL 4'!$I$14)","v":""},{"$f":"IF('SKILL 4'!$H48=\"\", \"\", 'SKILL 4'!$H48)","v":""},{"$f":"IF('SKILL 4'!$I48=\"\", \"\", 'SKILL 4'!$I48)","v":""},{"$f":"IF('SKILL 4'!$J48=\"\", \"\", 'SKILL 4'!$J48)","v":""},{"$f":"IF('SKILL 4'!$L$11=\"\", \"\", 'SKILL 4'!$L$11)","v":""},{"$f":"IF('SKILL 4'!$L$14=\"\", \"\", 'SKILL 4'!$L$14)","v":""},{"$f":"IF('SKILL 4'!$K48=\"\", \"\", 'SKILL 4'!$K48)","v":""},{"$f":"IF('SKILL 4'!$L48=\"\", \"\", 'SKILL 4'!$L48)","v":""},{"$f":"IF('SKILL 4'!$M48=\"\", \"\", 'SKILL 4'!$M48)","v":""},{"$f":"IF('SKILL 5'!$C$7=\"\", \"\", 'SKILL 5'!$C$7)","v":""},{"$f":"IF('SKILL 5'!$G$11=\"\", \"\", 'SKILL 5'!$G$11)","v":""},{"$f":"IF('SKILL 5'!$G$14=\"\", \"\", 'SKILL 5'!$G$14)","v":""},{"$f":"IF('SKILL 5'!$G48=\"\", \"\", 'SKILL 5'!$G48)","v":""},{"$f":"IF('SKILL 5'!$I$11=\"\", \"\", 'SKILL 5'!$I$11)","v":""},{"$f":"IF('SKILL 5'!$I$14=\"\", \"\", 'SKILL 5'!$I$14)","v":""},{"$f":"IF('SKILL 5'!$H48=\"\", \"\", 'SKILL 5'!$H48)","v":""},{"$f":"IF('SKILL 5'!$I48=\"\", \"\", 'SKILL 5'!$I48)","v":""},{"$f":"IF('SKILL 5'!$J48=\"\", \"\", 'SKILL 5'!$J48)","v":""},{"$f":"IF('SKILL 5'!$L$11=\"\", \"\", 'SKILL 5'!$L$11)","v":""},{"$f":"IF('SKILL 5'!$L$14=\"\", \"\", 'SKILL 5'!$L$14)","v":""},{"$f":"IF('SKILL 5'!$K48=\"\", \"\", 'SKILL 5'!$K48)","v":""},{"$f":"IF('SKILL 5'!$L48=\"\", \"\", 'SKILL 5'!$L48)","v":""},{"$f":"IF('SKILL 5'!$M48=\"\", \"\", 'SKILL 5'!$M48)","v":""},{"$f":"IF('SKILL 6'!$C$7=\"\", \"\", 'SKILL 6'!$C$7)","v":""},{"$f":"IF('SKILL 6'!$G$11=\"\", \"\", 'SKILL 6'!$G$11)","v":""},{"$f":"IF('SKILL 6'!$G$14=\"\", \"\", 'SKILL 6'!$G$14)","v":""},{"$f":"IF('SKILL 6'!$G48=\"\", \"\", 'SKILL 6'!$G48)","v":""},{"$f":"IF('SKILL 6'!$I$11=\"\", \"\", 'SKILL 6'!$I$11)","v":""},{"$f":"IF('SKILL 6'!$I$14=\"\", \"\", 'SKILL 6'!$I$14)","v":""},{"$f":"IF('SKILL 6'!$H48=\"\", \"\", 'SKILL 6'!$H48)","v":""},{"$f":"IF('SKILL 6'!$I48=\"\", \"\", 'SKILL 6'!$I48)","v":""},{"$f":"IF('SKILL 6'!$J48=\"\", \"\", 'SKILL 6'!$J48)","v":""},{"$f":"IF('SKILL 6'!$L$11=\"\", \"\", 'SKILL 6'!$L$11)","v":""},{"$f":"IF('SKILL 6'!$L$14=\"\", \"\", 'SKILL 6'!$L$14)","v":""},{"$f":"IF('SKILL 6'!$K48=\"\", \"\", 'SKILL 6'!$K48)","v":""},{"$f":"IF('SKILL 6'!$L48=\"\", \"\", 'SKILL 6'!$L48)","v":""},{"$f":"IF('SKILL 6'!$M48=\"\", \"\", 'SKILL 6'!$M48)","v":""}]
[{"$f":"IF(ATTENDANCE!$D$47=\"\", \"\", ATTENDANCE!$D$47)","v":""},{"$f":"IF(ATTENDANCE!$C$3=\"\", \"\", ATTENDANCE!$C$3)","v":""},{"$f":"IF(ATTENDANCE!$C$4=\"\", \"\", ATTENDANCE!$C$4)","v":""},{"$f":"IF(ATTENDANCE!$C$5=\"\", \"\", ATTENDANCE!$C$5)","v":""},{"$f":"IF(ATTENDANCE!$C$6=\"\", \"\", ATTENDANCE!$C$6)","v":""},{"$f":"IF(ATTENDANCE!$F$11=\"\", \"\", ATTENDANCE!$F$11)","v":""},{"$f":"IF(ATTENDANCE!$F$12=\"\", \"\", ATTENDANCE!$F$12)","v":""},{"$f":"IF(ATTENDANCE!$F47=\"\", \"\", ATTENDANCE!$F47)","v":""},{"$f":"IF(ATTENDANCE!$G47=\"\", \"\", ATTENDANCE!$G47)","v":""},{"$f":"IF(ATTENDANCE!$H$11=\"\", \"\", ATTENDANCE!$H$11)","v":""},{"$f":"IF(ATTENDANCE!$H$12=\"\", \"\", ATTENDANCE!$H$12)","v":""},{"$f":"IF(ATTENDANCE!$H47=\"\", \"\", ATTENDANCE!$H47)","v":""},{"$f":"IF(ATTENDANCE!$I$11=\"\", \"\", ATTENDANCE!$I$11)","v":""},{"$f":"IF(ATTENDANCE!$I$12=\"\", \"\", ATTENDANCE!$I$12)","v":""},{"$f":"IF(ATTENDANCE!$I47=\"\", \"\", ATTENDANCE!$I47)","v":""},{"$f":"IF('SKILL 1'!$C$7=\"\", \"\", 'SKILL 1'!$C$7)","v":""},{"$f":"IF('SKILL 1'!$G$11=\"\", \"\", 'SKILL 1'!$G$11)","v":""},{"$f":"IF('SKILL 1'!$G$14=\"\", \"\", 'SKILL 1'!$G$14)","v":""},{"$f":"IF('SKILL 1'!$G49=\"\", \"\", 'SKILL 1'!$G49)","v":""},{"$f":"IF('SKILL 1'!$I$11=\"\", \"\", 'SKILL 1'!$I$11)","v":""},{"$f":"IF('SKILL 1'!$I$14=\"\", \"\", 'SKILL 1'!$I$14)","v":""},{"$f":"IF('SKILL 1'!$H49=\"\", \"\", 'SKILL 1'!$H49)","v":""},{"$f":"IF('SKILL 1'!$I49=\"\", \"\", 'SKILL 1'!$I49)","v":""},{"$f":"IF('SKILL 1'!$J49=\"\", \"\", 'SKILL 1'!$J49)","v":""},{"$f":"IF('SKILL 1'!$L$11=\"\", \"\", 'SKILL 1'!$L$11)","v":""},{"$f":"IF('SKILL 1'!$L$14=\"\", \"\", 'SKILL 1'!$L$14)","v":""},{"$f":"IF('SKILL 1'!$K49=\"\", \"\", 'SKILL 1'!$K49)","v":""},{"$f":"IF('SKILL 1'!$L49=\"\", \"\", 'SKILL 1'!$L49)","v":""},{"$f":"IF('SKILL 1'!$M49=\"\", \"\", 'SKILL 1'!$M49)","v":""},{"$f":"IF('SKILL 2'!$C$7=\"\", \"\", 'SKILL 2'!$C$7)","v":""},{"$f":"IF('SKILL 2'!$G$11=\"\", \"\", 'SKILL 2'!$G$11)","v":""},{"$f":"IF('SKILL 2'!$G$14=\"\", \"\", 'SKILL 2'!$G$14)","v":""},{"$f":"IF('SKILL 2'!$G49=\"\", \"\", 'SKILL 2'!$G49)","v":""},{"$f":"IF('SKILL 2'!$I$11=\"\", \"\", 'SKILL 2'!$I$11)","v":""},{"$f":"IF('SKILL 2'!$I$14=\"\", \"\", 'SKILL 2'!$I$14)","v":""},{"$f":"IF('SKILL 2'!$H49=\"\", \"\", 'SKILL 2'!$H49)","v":""},{"$f":"IF('SKILL 2'!$I49=\"\", \"\", 'SKILL 2'!$I49)","v":""},{"$f":"IF('SKILL 2'!$J49=\"\", \"\", 'SKILL 2'!$J49)","v":""},{"$f":"IF('SKILL 2'!$L$11=\"\", \"\", 'SKILL 2'!$L$11)","v":""},{"$f":"IF('SKILL 2'!$L$14=\"\", \"\", 'SKILL 2'!$L$14)","v":""},{"$f":"IF('SKILL 2'!$K49=\"\", \"\", 'SKILL 2'!$K49)","v":""},{"$f":"IF('SKILL 2'!$L49=\"\", \"\", 'SKILL 2'!$L49)","v":""},{"$f":"IF('SKILL 2'!$M49=\"\", \"\", 'SKILL 2'!$M49)","v":""},{"$f":"IF('SKILL 3'!$C$7=\"\", \"\", 'SKILL 3'!$C$7)","v":""},{"$f":"IF('SKILL 3'!$G$11=\"\", \"\", 'SKILL 3'!$G$11)","v":""},{"$f":"IF('SKILL 3'!$G$14=\"\", \"\", 'SKILL 3'!$G$14)","v":""},{"$f":"IF('SKILL 3'!$G49=\"\", \"\", 'SKILL 3'!$G49)","v":""},{"$f":"IF('SKILL 3'!$I$11=\"\", \"\", 'SKILL 3'!$I$11)","v":""},{"$f":"IF('SKILL 3'!$I$14=\"\", \"\", 'SKILL 3'!$I$14)","v":""},{"$f":"IF('SKILL 3'!$H49=\"\", \"\", 'SKILL 3'!$H49)","v":""},{"$f":"IF('SKILL 3'!$I49=\"\", \"\", 'SKILL 3'!$I49)","v":""},{"$f":"IF('SKILL 3'!$J49=\"\", \"\", 'SKILL 3'!$J49)","v":""},{"$f":"IF('SKILL 3'!$L$11=\"\", \"\", 'SKILL 3'!$L$11)","v":""},{"$f":"IF('SKILL 3'!$L$14=\"\", \"\", 'SKILL 3'!$L$14)","v":""},{"$f":"IF('SKILL 3'!$K49=\"\", \"\", 'SKILL 3'!$K49)","v":""},{"$f":"IF('SKILL 3'!$L49=\"\", \"\", 'SKILL 3'!$L49)","v":""},{"$f":"IF('SKILL 3'!$M49=\"\", \"\", 'SKILL 3'!$M49)","v":""},{"$f":"IF('SKILL 4'!$C$7=\"\", \"\", 'SKILL 4'!$C$7)","v":""},{"$f":"IF('SKILL 4'!$G$11=\"\", \"\", 'SKILL 4'!$G$11)","v":""},{"$f":"IF('SKILL 4'!$G$14=\"\", \"\", 'SKILL 4'!$G$14)","v":""},{"$f":"IF('SKILL 4'!$G49=\"\", \"\", 'SKILL 4'!$G49)","v":""},{"$f":"IF('SKILL 4'!$I$11=\"\", \"\", 'SKILL 4'!$I$11)","v":""},{"$f":"IF('SKILL 4'!$I$14=\"\", \"\", 'SKILL 4'!$I$14)","v":""},{"$f":"IF('SKILL 4'!$H49=\"\", \"\", 'SKILL 4'!$H49)","v":""},{"$f":"IF('SKILL 4'!$I49=\"\", \"\", 'SKILL 4'!$I49)","v":""},{"$f":"IF('SKILL 4'!$J49=\"\", \"\", 'SKILL 4'!$J49)","v":""},{"$f":"IF('SKILL 4'!$L$11=\"\", \"\", 'SKILL 4'!$L$11)","v":""},{"$f":"IF('SKILL 4'!$L$14=\"\", \"\", 'SKILL 4'!$L$14)","v":""},{"$f":"IF('SKILL 4'!$K49=\"\", \"\", 'SKILL 4'!$K49)","v":""},{"$f":"IF('SKILL 4'!$L49=\"\", \"\", 'SKILL 4'!$L49)","v":""},{"$f":"IF('SKILL 4'!$M49=\"\", \"\", 'SKILL 4'!$M49)","v":""},{"$f":"IF('SKILL 5'!$C$7=\"\", \"\", 'SKILL 5'!$C$7)","v":""},{"$f":"IF('SKILL 5'!$G$11=\"\", \"\", 'SKILL 5'!$G$11)","v":""},{"$f":"IF('SKILL 5'!$G$14=\"\", \"\", 'SKILL 5'!$G$14)","v":""},{"$f":"IF('SKILL 5'!$G49=\"\", \"\", 'SKILL 5'!$G49)","v":""},{"$f":"IF('SKILL 5'!$I$11=\"\", \"\", 'SKILL 5'!$I$11)","v":""},{"$f":"IF('SKILL 5'!$I$14=\"\", \"\", 'SKILL 5'!$I$14)","v":""},{"$f":"IF('SKILL 5'!$H49=\"\", \"\", 'SKILL 5'!$H49)","v":""},{"$f":"IF('SKILL 5'!$I49=\"\", \"\", 'SKILL 5'!$I49)","v":""},{"$f":"IF('SKILL 5'!$J49=\"\", \"\", 'SKILL 5'!$J49)","v":""},{"$f":"IF('SKILL 5'!$L$11=\"\", \"\", 'SKILL 5'!$L$11)","v":""},{"$f":"IF('SKILL 5'!$L$14=\"\", \"\", 'SKILL 5'!$L$14)","v":""},{"$f":"IF('SKILL 5'!$K49=\"\", \"\", 'SKILL 5'!$K49)","v":""},{"$f":"IF('SKILL 5'!$L49=\"\", \"\", 'SKILL 5'!$L49)","v":""},{"$f":"IF('SKILL 5'!$M49=\"\", \"\", 'SKILL 5'!$M49)","v":""},{"$f":"IF('SKILL 6'!$C$7=\"\", \"\", 'SKILL 6'!$C$7)","v":""},{"$f":"IF('SKILL 6'!$G$11=\"\", \"\", 'SKILL 6'!$G$11)","v":""},{"$f":"IF('SKILL 6'!$G$14=\"\", \"\", 'SKILL 6'!$G$14)","v":""},{"$f":"IF('SKILL 6'!$G49=\"\", \"\", 'SKILL 6'!$G49)","v":""},{"$f":"IF('SKILL 6'!$I$11=\"\", \"\", 'SKILL 6'!$I$11)","v":""},{"$f":"IF('SKILL 6'!$I$14=\"\", \"\", 'SKILL 6'!$I$14)","v":""},{"$f":"IF('SKILL 6'!$H49=\"\", \"\", 'SKILL 6'!$H49)","v":""},{"$f":"IF('SKILL 6'!$I49=\"\", \"\", 'SKILL 6'!$I49)","v":""},{"$f":"IF('SKILL 6'!$J49=\"\", \"\", 'SKILL 6'!$J49)","v":""},{"$f":"IF('SKILL 6'!$L$11=\"\", \"\", 'SKILL 6'!$L$11)","v":""},{"$f":"IF('SKILL 6'!$L$14=\"\", \"\", 'SKILL 6'!$L$14)","v":""},{"$f":"IF('SKILL 6'!$K49=\"\", \"\", 'SKILL 6'!$K49)","v":""},{"$f":"IF('SKILL 6'!$L49=\"\", \"\", 'SKILL 6'!$L49)","v":""},{"$f":"IF('SKILL 6'!$M49=\"\", \"\", 'SKILL 6'!$M49)","v":""}]
[{"$f":"IF(ATTENDANCE!$D$48=\"\", \"\", ATTENDANCE!$D$48)","v":""},{"$f":"IF(ATTENDANCE!$C$3=\"\", \"\", ATTENDANCE!$C$3)","v":""},{"$f":"IF(ATTENDANCE!$C$4=\"\", \"\", ATTENDANCE!$C$4)","v":""},{"$f":"IF(ATTENDANCE!$C$5=\"\", \"\", ATTENDANCE!$C$5)","v":""},{"$f":"IF(ATTENDANCE!$C$6=\"\", \"\", ATTENDANCE!$C$6)","v":""},{"$f":"IF(ATTENDANCE!$F$11=\"\", \"\", ATTENDANCE!$F$11)","v":""},{"$f":"IF(ATTENDANCE!$F$12=\"\", \"\", ATTENDANCE!$F$12)","v":""},{"$f":"IF(ATTENDANCE!$F48=\"\", \"\", ATTENDANCE!$F48)","v":""},{"$f":"IF(ATTENDANCE!$G48=\"\", \"\", ATTENDANCE!$G48)","v":""},{"$f":"IF(ATTENDANCE!$H$11=\"\", \"\", ATTENDANCE!$H$11)","v":""},{"$f":"IF(ATTENDANCE!$H$12=\"\", \"\", ATTENDANCE!$H$12)","v":""},{"$f":"IF(ATTENDANCE!$H48=\"\", \"\", ATTENDANCE!$H48)","v":""},{"$f":"IF(ATTENDANCE!$I$11=\"\", \"\", ATTENDANCE!$I$11)","v":""},{"$f":"IF(ATTENDANCE!$I$12=\"\", \"\", ATTENDANCE!$I$12)","v":""},{"$f":"IF(ATTENDANCE!$I48=\"\", \"\", ATTENDANCE!$I48)","v":""},{"$f":"IF('SKILL 1'!$C$7=\"\", \"\", 'SKILL 1'!$C$7)","v":""},{"$f":"IF('SKILL 1'!$G$11=\"\", \"\", 'SKILL 1'!$G$11)","v":""},{"$f":"IF('SKILL 1'!$G$14=\"\", \"\", 'SKILL 1'!$G$14)","v":""},{"$f":"IF('SKILL 1'!$G50=\"\", \"\", 'SKILL 1'!$G50)","v":""},{"$f":"IF('SKILL 1'!$I$11=\"\", \"\", 'SKILL 1'!$I$11)","v":""},{"$f":"IF('SKILL 1'!$I$14=\"\", \"\", 'SKILL 1'!$I$14)","v":""},{"$f":"IF('SKILL 1'!$H50=\"\", \"\", 'SKILL 1'!$H50)","v":""},{"$f":"IF('SKILL 1'!$I50=\"\", \"\", 'SKILL 1'!$I50)","v":""},{"$f":"IF('SKILL 1'!$J50=\"\", \"\", 'SKILL 1'!$J50)","v":""},{"$f":"IF('SKILL 1'!$L$11=\"\", \"\", 'SKILL 1'!$L$11)","v":""},{"$f":"IF('SKILL 1'!$L$14=\"\", \"\", 'SKILL 1'!$L$14)","v":""},{"$f":"IF('SKILL 1'!$K50=\"\", \"\", 'SKILL 1'!$K50)","v":""},{"$f":"IF('SKILL 1'!$L50=\"\", \"\", 'SKILL 1'!$L50)","v":""},{"$f":"IF('SKILL 1'!$M50=\"\", \"\", 'SKILL 1'!$M50)","v":""},{"$f":"IF('SKILL 2'!$C$7=\"\", \"\", 'SKILL 2'!$C$7)","v":""},{"$f":"IF('SKILL 2'!$G$11=\"\", \"\", 'SKILL 2'!$G$11)","v":""},{"$f":"IF('SKILL 2'!$G$14=\"\", \"\", 'SKILL 2'!$G$14)","v":""},{"$f":"IF('SKILL 2'!$G50=\"\", \"\", 'SKILL 2'!$G50)","v":""},{"$f":"IF('SKILL 2'!$I$11=\"\", \"\", 'SKILL 2'!$I$11)","v":""},{"$f":"IF('SKILL 2'!$I$14=\"\", \"\", 'SKILL 2'!$I$14)","v":""},{"$f":"IF('SKILL 2'!$H50=\"\", \"\", 'SKILL 2'!$H50)","v":""},{"$f":"IF('SKILL 2'!$I50=\"\", \"\", 'SKILL 2'!$I50)","v":""},{"$f":"IF('SKILL 2'!$J50=\"\", \"\", 'SKILL 2'!$J50)","v":""},{"$f":"IF('SKILL 2'!$L$11=\"\", \"\", 'SKILL 2'!$L$11)","v":""},{"$f":"IF('SKILL 2'!$L$14=\"\", \"\", 'SKILL 2'!$L$14)","v":""},{"$f":"IF('SKILL 2'!$K50=\"\", \"\", 'SKILL 2'!$K50)","v":""},{"$f":"IF('SKILL 2'!$L50=\"\", \"\", 'SKILL 2'!$L50)","v":""},{"$f":"IF('SKILL 2'!$M50=\"\", \"\", 'SKILL 2'!$M50)","v":""},{"$f":"IF('SKILL 3'!$C$7=\"\", \"\", 'SKILL 3'!$C$7)","v":""},{"$f":"IF('SKILL 3'!$G$11=\"\", \"\", 'SKILL 3'!$G$11)","v":""},{"$f":"IF('SKILL 3'!$G$14=\"\", \"\", 'SKILL 3'!$G$14)","v":""},{"$f":"IF('SKILL 3'!$G50=\"\", \"\", 'SKILL 3'!$G50)","v":""},{"$f":"IF('SKILL 3'!$I$11=\"\", \"\", 'SKILL 3'!$I$11)","v":""},{"$f":"IF('SKILL 3'!$I$14=\"\", \"\", 'SKILL 3'!$I$14)","v":""},{"$f":"IF('SKILL 3'!$H50=\"\", \"\", 'SKILL 3'!$H50)","v":""},{"$f":"IF('SKILL 3'!$I50=\"\", \"\", 'SKILL 3'!$I50)","v":""},{"$f":"IF('SKILL 3'!$J50=\"\", \"\", 'SKILL 3'!$J50)","v":""},{"$f":"IF('SKILL 3'!$L$11=\"\", \"\", 'SKILL 3'!$L$11)","v":""},{"$f":"IF('SKILL 3'!$L$14=\"\", \"\", 'SKILL 3'!$L$14)","v":""},{"$f":"IF('SKILL 3'!$K50=\"\", \"\", 'SKILL 3'!$K50)","v":""},{"$f":"IF('SKILL 3'!$L50=\"\", \"\", 'SKILL 3'!$L50)","v":""},{"$f":"IF('SKILL 3'!$M50=\"\", \"\", 'SKILL 3'!$M50)","v":""},{"$f":"IF('SKILL 4'!$C$7=\"\", \"\", 'SKILL 4'!$C$7)","v":""},{"$f":"IF('SKILL 4'!$G$11=\"\", \"\", 'SKILL 4'!$G$11)","v":""},{"$f":"IF('SKILL 4'!$G$14=\"\", \"\", 'SKILL 4'!$G$14)","v":""},{"$f":"IF('SKILL 4'!$G50=\"\", \"\", 'SKILL 4'!$G50)","v":""},{"$f":"IF('SKILL 4'!$I$11=\"\", \"\", 'SKILL 4'!$I$11)","v":""},{"$f":"IF('SKILL 4'!$I$14=\"\", \"\", 'SKILL 4'!$I$14)","v":""},{"$f":"IF('SKILL 4'!$H50=\"\", \"\", 'SKILL 4'!$H50)","v":""},{"$f":"IF('SKILL 4'!$I50=\"\", \"\", 'SKILL 4'!$I50)","v":""},{"$f":"IF('SKILL 4'!$J50=\"\", \"\", 'SKILL 4'!$J50)","v":""},{"$f":"IF('SKILL 4'!$L$11=\"\", \"\", 'SKILL 4'!$L$11)","v":""},{"$f":"IF('SKILL 4'!$L$14=\"\", \"\", 'SKILL 4'!$L$14)","v":""},{"$f":"IF('SKILL 4'!$K50=\"\", \"\", 'SKILL 4'!$K50)","v":""},{"$f":"IF('SKILL 4'!$L50=\"\", \"\", 'SKILL 4'!$L50)","v":""},{"$f":"IF('SKILL 4'!$M50=\"\", \"\", 'SKILL 4'!$M50)","v":""},{"$f":"IF('SKILL 5'!$C$7=\"\", \"\", 'SKILL 5'!$C$7)","v":""},{"$f":"IF('SKILL 5'!$G$11=\"\", \"\", 'SKILL 5'!$G$11)","v":""},{"$f":"IF('SKILL 5'!$G$14=\"\", \"\", 'SKILL 5'!$G$14)","v":""},{"$f":"IF('SKILL 5'!$G50=\"\", \"\", 'SKILL 5'!$G50)","v":""},{"$f":"IF('SKILL 5'!$I$11=\"\", \"\", 'SKILL 5'!$I$11)","v":""},{"$f":"IF('SKILL 5'!$I$14=\"\", \"\", 'SKILL 5'!$I$14)","v":""},{"$f":"IF('SKILL 5'!$H50=\"\", \"\", 'SKILL 5'!$H50)","v":""},{"$f":"IF('SKILL 5'!$I50=\"\", \"\", 'SKILL 5'!$I50)","v":""},{"$f":"IF('SKILL 5'!$J50=\"\", \"\", 'SKILL 5'!$J50)","v":""},{"$f":"IF('SKILL 5'!$L$11=\"\", \"\", 'SKILL 5'!$L$11)","v":""},{"$f":"IF('SKILL 5'!$L$14=\"\", \"\", 'SKILL 5'!$L$14)","v":""},{"$f":"IF('SKILL 5'!$K50=\"\", \"\", 'SKILL 5'!$K50)","v":""},{"$f":"IF('SKILL 5'!$L50=\"\", \"\", 'SKILL 5'!$L50)","v":""},{"$f":"IF('SKILL 5'!$M50=\"\", \"\", 'SKILL 5'!$M50)","v":""},{"$f":"IF('SKILL 6'!$C$7=\"\", \"\", 'SKILL 6'!$C$7)","v":""},{"$f":"IF('SKILL 6'!$G$11=\"\", \"\", 'SKILL 6'!$G$11)","v":""},{"$f":"IF('SKILL 6'!$G$14=\"\", \"\", 'SKILL 6'!$G$14)","v":""},{"$f":"IF('SKILL 6'!$G50=\"\", \"\", 'SKILL 6'!$G50)","v":""},{"$f":"IF('SKILL 6'!$I$11=\"\", \"\", 'SKILL 6'!$I$11)","v":""},{"$f":"IF('SKILL 6'!$I$14=\"\", \"\", 'SKILL 6'!$I$14)","v":""},{"$f":"IF('SKILL 6'!$H50=\"\", \"\", 'SKILL 6'!$H50)","v":""},{"$f":"IF('SKILL 6'!$I50=\"\", \"\", 'SKILL 6'!$I50)","v":""},{"$f":"IF('SKILL 6'!$J50=\"\", \"\", 'SKILL 6'!$J50)","v":""},{"$f":"IF('SKILL 6'!$L$11=\"\", \"\", 'SKILL 6'!$L$11)","v":""},{"$f":"IF('SKILL 6'!$L$14=\"\", \"\", 'SKILL 6'!$L$14)","v":""},{"$f":"IF('SKILL 6'!$K50=\"\", \"\", 'SKILL 6'!$K50)","v":""},{"$f":"IF('SKILL 6'!$L50=\"\", \"\", 'SKILL 6'!$L50)","v":""},{"$f":"IF('SKILL 6'!$M50=\"\", \"\", 'SKILL 6'!$M50)","v":""}]
[{"$f":"IF(ATTENDANCE!$D$49=\"\", \"\", ATTENDANCE!$D$49)","v":""},{"$f":"IF(ATTENDANCE!$C$3=\"\", \"\", ATTENDANCE!$C$3)","v":""},{"$f":"IF(ATTENDANCE!$C$4=\"\", \"\", ATTENDANCE!$C$4)","v":""},{"$f":"IF(ATTENDANCE!$C$5=\"\", \"\", ATTENDANCE!$C$5)","v":""},{"$f":"IF(ATTENDANCE!$C$6=\"\", \"\", ATTENDANCE!$C$6)","v":""},{"$f":"IF(ATTENDANCE!$F$11=\"\", \"\", ATTENDANCE!$F$11)","v":""},{"$f":"IF(ATTENDANCE!$F$12=\"\", \"\", ATTENDANCE!$F$12)","v":""},{"$f":"IF(ATTENDANCE!$F49=\"\", \"\", ATTENDANCE!$F49)","v":""},{"$f":"IF(ATTENDANCE!$G49=\"\", \"\", ATTENDANCE!$G49)","v":""},{"$f":"IF(ATTENDANCE!$H$11=\"\", \"\", ATTENDANCE!$H$11)","v":""},{"$f":"IF(ATTENDANCE!$H$12=\"\", \"\", ATTENDANCE!$H$12)","v":""},{"$f":"IF(ATTENDANCE!$H49=\"\", \"\", ATTENDANCE!$H49)","v":""},{"$f":"IF(ATTENDANCE!$I$11=\"\", \"\", ATTENDANCE!$I$11)","v":""},{"$f":"IF(ATTENDANCE!$I$12=\"\", \"\", ATTENDANCE!$I$12)","v":""},{"$f":"IF(ATTENDANCE!$I49=\"\", \"\", ATTENDANCE!$I49)","v":""},{"$f":"IF('SKILL 1'!$C$7=\"\", \"\", 'SKILL 1'!$C$7)","v":""},{"$f":"IF('SKILL 1'!$G$11=\"\", \"\", 'SKILL 1'!$G$11)","v":""},{"$f":"IF('SKILL 1'!$G$14=\"\", \"\", 'SKILL 1'!$G$14)","v":""},{"$f":"IF('SKILL 1'!$G51=\"\", \"\", 'SKILL 1'!$G51)","v":""},{"$f":"IF('SKILL 1'!$I$11=\"\", \"\", 'SKILL 1'!$I$11)","v":""},{"$f":"IF('SKILL 1'!$I$14=\"\", \"\", 'SKILL 1'!$I$14)","v":""},{"$f":"IF('SKILL 1'!$H51=\"\", \"\", 'SKILL 1'!$H51)","v":""},{"$f":"IF('SKILL 1'!$I51=\"\", \"\", 'SKILL 1'!$I51)","v":""},{"$f":"IF('SKILL 1'!$J51=\"\", \"\", 'SKILL 1'!$J51)","v":""},{"$f":"IF('SKILL 1'!$L$11=\"\", \"\", 'SKILL 1'!$L$11)","v":""},{"$f":"IF('SKILL 1'!$L$14=\"\", \"\", 'SKILL 1'!$L$14)","v":""},{"$f":"IF('SKILL 1'!$K51=\"\", \"\", 'SKILL 1'!$K51)","v":""},{"$f":"IF('SKILL 1'!$L51=\"\", \"\", 'SKILL 1'!$L51)","v":""},{"$f":"IF('SKILL 1'!$M51=\"\", \"\", 'SKILL 1'!$M51)","v":""},{"$f":"IF('SKILL 2'!$C$7=\"\", \"\", 'SKILL 2'!$C$7)","v":""},{"$f":"IF('SKILL 2'!$G$11=\"\", \"\", 'SKILL 2'!$G$11)","v":""},{"$f":"IF('SKILL 2'!$G$14=\"\", \"\", 'SKILL 2'!$G$14)","v":""},{"$f":"IF('SKILL 2'!$G51=\"\", \"\", 'SKILL 2'!$G51)","v":""},{"$f":"IF('SKILL 2'!$I$11=\"\", \"\", 'SKILL 2'!$I$11)","v":""},{"$f":"IF('SKILL 2'!$I$14=\"\", \"\", 'SKILL 2'!$I$14)","v":""},{"$f":"IF('SKILL 2'!$H51=\"\", \"\", 'SKILL 2'!$H51)","v":""},{"$f":"IF('SKILL 2'!$I51=\"\", \"\", 'SKILL 2'!$I51)","v":""},{"$f":"IF('SKILL 2'!$J51=\"\", \"\", 'SKILL 2'!$J51)","v":""},{"$f":"IF('SKILL 2'!$L$11=\"\", \"\", 'SKILL 2'!$L$11)","v":""},{"$f":"IF('SKILL 2'!$L$14=\"\", \"\", 'SKILL 2'!$L$14)","v":""},{"$f":"IF('SKILL 2'!$K51=\"\", \"\", 'SKILL 2'!$K51)","v":""},{"$f":"IF('SKILL 2'!$L51=\"\", \"\", 'SKILL 2'!$L51)","v":""},{"$f":"IF('SKILL 2'!$M51=\"\", \"\", 'SKILL 2'!$M51)","v":""},{"$f":"IF('SKILL 3'!$C$7=\"\", \"\", 'SKILL 3'!$C$7)","v":""},{"$f":"IF('SKILL 3'!$G$11=\"\", \"\", 'SKILL 3'!$G$11)","v":""},{"$f":"IF('SKILL 3'!$G$14=\"\", \"\", 'SKILL 3'!$G$14)","v":""},{"$f":"IF('SKILL 3'!$G51=\"\", \"\", 'SKILL 3'!$G51)","v":""},{"$f":"IF('SKILL 3'!$I$11=\"\", \"\", 'SKILL 3'!$I$11)","v":""},{"$f":"IF('SKILL 3'!$I$14=\"\", \"\", 'SKILL 3'!$I$14)","v":""},{"$f":"IF('SKILL 3'!$H51=\"\", \"\", 'SKILL 3'!$H51)","v":""},{"$f":"IF('SKILL 3'!$I51=\"\", \"\", 'SKILL 3'!$I51)","v":""},{"$f":"IF('SKILL 3'!$J51=\"\", \"\", 'SKILL 3'!$J51)","v":""},{"$f":"IF('SKILL 3'!$L$11=\"\", \"\", 'SKILL 3'!$L$11)","v":""},{"$f":"IF('SKILL 3'!$L$14=\"\", \"\", 'SKILL 3'!$L$14)","v":""},{"$f":"IF('SKILL 3'!$K51=\"\", \"\", 'SKILL 3'!$K51)","v":""},{"$f":"IF('SKILL 3'!$L51=\"\", \"\", 'SKILL 3'!$L51)","v":""},{"$f":"IF('SKILL 3'!$M51=\"\", \"\", 'SKILL 3'!$M51)","v":""},{"$f":"IF('SKILL 4'!$C$7=\"\", \"\", 'SKILL 4'!$C$7)","v":""},{"$f":"IF('SKILL 4'!$G$11=\"\", \"\", 'SKILL 4'!$G$11)","v":""},{"$f":"IF('SKILL 4'!$G$14=\"\", \"\", 'SKILL 4'!$G$14)","v":""},{"$f":"IF('SKILL 4'!$G51=\"\", \"\", 'SKILL 4'!$G51)","v":""},{"$f":"IF('SKILL 4'!$I$11=\"\", \"\", 'SKILL 4'!$I$11)","v":""},{"$f":"IF('SKILL 4'!$I$14=\"\", \"\", 'SKILL 4'!$I$14)","v":""},{"$f":"IF('SKILL 4'!$H51=\"\", \"\", 'SKILL 4'!$H51)","v":""},{"$f":"IF('SKILL 4'!$I51=\"\", \"\", 'SKILL 4'!$I51)","v":""},{"$f":"IF('SKILL 4'!$J51=\"\", \"\", 'SKILL 4'!$J51)","v":""},{"$f":"IF('SKILL 4'!$L$11=\"\", \"\", 'SKILL 4'!$L$11)","v":""},{"$f":"IF('SKILL 4'!$L$14=\"\", \"\", 'SKILL 4'!$L$14)","v":""},{"$f":"IF('SKILL 4'!$K51=\"\", \"\", 'SKILL 4'!$K51)","v":""},{"$f":"IF('SKILL 4'!$L51=\"\", \"\", 'SKILL 4'!$L51)","v":""},{"$f":"IF('SKILL 4'!$M51=\"\", \"\", 'SKILL 4'!$M51)","v":""},{"$f":"IF('SKILL 5'!$C$7=\"\", \"\", 'SKILL 5'!$C$7)","v":""},{"$f":"IF('SKILL 5'!$G$11=\"\", \"\", 'SKILL 5'!$G$11)","v":""},{"$f":"IF('SKILL 5'!$G$14=\"\", \"\", 'SKILL 5'!$G$14)","v":""},{"$f":"IF('SKILL 5'!$G51=\"\", \"\", 'SKILL 5'!$G51)","v":""},{"$f":"IF('SKILL 5'!$I$11=\"\", \"\", 'SKILL 5'!$I$11)","v":""},{"$f":"IF('SKILL 5'!$I$14=\"\", \"\", 'SKILL 5'!$I$14)","v":""},{"$f":"IF('SKILL 5'!$H51=\"\", \"\", 'SKILL 5'!$H51)","v":""},{"$f":"IF('SKILL 5'!$I51=\"\", \"\", 'SKILL 5'!$I51)","v":""},{"$f":"IF('SKILL 5'!$J51=\"\", \"\", 'SKILL 5'!$J51)","v":""},{"$f":"IF('SKILL 5'!$L$11=\"\", \"\", 'SKILL 5'!$L$11)","v":""},{"$f":"IF('SKILL 5'!$L$14=\"\", \"\", 'SKILL 5'!$L$14)","v":""},{"$f":"IF('SKILL 5'!$K51=\"\", \"\", 'SKILL 5'!$K51)","v":""},{"$f":"IF('SKILL 5'!$L51=\"\", \"\", 'SKILL 5'!$L51)","v":""},{"$f":"IF('SKILL 5'!$M51=\"\", \"\", 'SKILL 5'!$M51)","v":""},{"$f":"IF('SKILL 6'!$C$7=\"\", \"\", 'SKILL 6'!$C$7)","v":""},{"$f":"IF('SKILL 6'!$G$11=\"\", \"\", 'SKILL 6'!$G$11)","v":""},{"$f":"IF('SKILL 6'!$G$14=\"\", \"\", 'SKILL 6'!$G$14)","v":""},{"$f":"IF('SKILL 6'!$G51=\"\", \"\", 'SKILL 6'!$G51)","v":""},{"$f":"IF('SKILL 6'!$I$11=\"\", \"\", 'SKILL 6'!$I$11)","v":""},{"$f":"IF('SKILL 6'!$I$14=\"\", \"\", 'SKILL 6'!$I$14)","v":""},{"$f":"IF('SKILL 6'!$H51=\"\", \"\", 'SKILL 6'!$H51)","v":""},{"$f":"IF('SKILL 6'!$I51=\"\", \"\", 'SKILL 6'!$I51)","v":""},{"$f":"IF('SKILL 6'!$J51=\"\", \"\", 'SKILL 6'!$J51)","v":""},{"$f":"IF('SKILL 6'!$L$11=\"\", \"\", 'SKILL 6'!$L$11)","v":""},{"$f":"IF('SKILL 6'!$L$14=\"\", \"\", 'SKILL 6'!$L$14)","v":""},{"$f":"IF('SKILL 6'!$K51=\"\", \"\", 'SKILL 6'!$K51)","v":""},{"$f":"IF('SKILL 6'!$L51=\"\", \"\", 'SKILL 6'!$L51)","v":""},{"$f":"IF('SKILL 6'!$M51=\"\", \"\", 'SKILL 6'!$M51)","v":""}]
[{"$f":"IF(ATTENDANCE!$D$50=\"\", \"\", ATTENDANCE!$D$50)","v":""},{"$f":"IF(ATTENDANCE!$C$3=\"\", \"\", ATTENDANCE!$C$3)","v":""},{"$f":"IF(ATTENDANCE!$C$4=\"\", \"\", ATTENDANCE!$C$4)","v":""},{"$f":"IF(ATTENDANCE!$C$5=\"\", \"\", ATTENDANCE!$C$5)","v":""},{"$f":"IF(ATTENDANCE!$C$6=\"\", \"\", ATTENDANCE!$C$6)","v":""},{"$f":"IF(ATTENDANCE!$F$11=\"\", \"\", ATTENDANCE!$F$11)","v":""},{"$f":"IF(ATTENDANCE!$F$12=\"\", \"\", ATTENDANCE!$F$12)","v":""},{"$f":"IF(ATTENDANCE!$F50=\"\", \"\", ATTENDANCE!$F50)","v":""},{"$f":"IF(ATTENDANCE!$G50=\"\", \"\", ATTENDANCE!$G50)","v":""},{"$f":"IF(ATTENDANCE!$H$11=\"\", \"\", ATTENDANCE!$H$11)","v":""},{"$f":"IF(ATTENDANCE!$H$12=\"\", \"\", ATTENDANCE!$H$12)","v":""},{"$f":"IF(ATTENDANCE!$H50=\"\", \"\", ATTENDANCE!$H50)","v":""},{"$f":"IF(ATTENDANCE!$I$11=\"\", \"\", ATTENDANCE!$I$11)","v":""},{"$f":"IF(ATTENDANCE!$I$12=\"\", \"\", ATTENDANCE!$I$12)","v":""},{"$f":"IF(ATTENDANCE!$I50=\"\", \"\", ATTENDANCE!$I50)","v":""},{"$f":"IF('SKILL 1'!$C$7=\"\", \"\", 'SKILL 1'!$C$7)","v":""},{"$f":"IF('SKILL 1'!$G$11=\"\", \"\", 'SKILL 1'!$G$11)","v":""},{"$f":"IF('SKILL 1'!$G$14=\"\", \"\", 'SKILL 1'!$G$14)","v":""},{"$f":"IF('SKILL 1'!$G52=\"\", \"\", 'SKILL 1'!$G52)","v":""},{"$f":"IF('SKILL 1'!$I$11=\"\", \"\", 'SKILL 1'!$I$11)","v":""},{"$f":"IF('SKILL 1'!$I$14=\"\", \"\", 'SKILL 1'!$I$14)","v":""},{"$f":"IF('SKILL 1'!$H52=\"\", \"\", 'SKILL 1'!$H52)","v":""},{"$f":"IF('SKILL 1'!$I52=\"\", \"\", 'SKILL 1'!$I52)","v":""},{"$f":"IF('SKILL 1'!$J52=\"\", \"\", 'SKILL 1'!$J52)","v":""},{"$f":"IF('SKILL 1'!$L$11=\"\", \"\", 'SKILL 1'!$L$11)","v":""},{"$f":"IF('SKILL 1'!$L$14=\"\", \"\", 'SKILL 1'!$L$14)","v":""},{"$f":"IF('SKILL 1'!$K52=\"\", \"\", 'SKILL 1'!$K52)","v":""},{"$f":"IF('SKILL 1'!$L52=\"\", \"\", 'SKILL 1'!$L52)","v":""},{"$f":"IF('SKILL 1'!$M52=\"\", \"\", 'SKILL 1'!$M52)","v":""},{"$f":"IF('SKILL 2'!$C$7=\"\", \"\", 'SKILL 2'!$C$7)","v":""},{"$f":"IF('SKILL 2'!$G$11=\"\", \"\", 'SKILL 2'!$G$11)","v":""},{"$f":"IF('SKILL 2'!$G$14=\"\", \"\", 'SKILL 2'!$G$14)","v":""},{"$f":"IF('SKILL 2'!$G52=\"\", \"\", 'SKILL 2'!$G52)","v":""},{"$f":"IF('SKILL 2'!$I$11=\"\", \"\", 'SKILL 2'!$I$11)","v":""},{"$f":"IF('SKILL 2'!$I$14=\"\", \"\", 'SKILL 2'!$I$14)","v":""},{"$f":"IF('SKILL 2'!$H52=\"\", \"\", 'SKILL 2'!$H52)","v":""},{"$f":"IF('SKILL 2'!$I52=\"\", \"\", 'SKILL 2'!$I52)","v":""},{"$f":"IF('SKILL 2'!$J52=\"\", \"\", 'SKILL 2'!$J52)","v":""},{"$f":"IF('SKILL 2'!$L$11=\"\", \"\", 'SKILL 2'!$L$11)","v":""},{"$f":"IF('SKILL 2'!$L$14=\"\", \"\", 'SKILL 2'!$L$14)","v":""},{"$f":"IF('SKILL 2'!$K52=\"\", \"\", 'SKILL 2'!$K52)","v":""},{"$f":"IF('SKILL 2'!$L52=\"\", \"\", 'SKILL 2'!$L52)","v":""},{"$f":"IF('SKILL 2'!$M52=\"\", \"\", 'SKILL 2'!$M52)","v":""},{"$f":"IF('SKILL 3'!$C$7=\"\", \"\", 'SKILL 3'!$C$7)","v":""},{"$f":"IF('SKILL 3'!$G$11=\"\", \"\", 'SKILL 3'!$G$11)","v":""},{"$f":"IF('SKILL 3'!$G$14=\"\", \"\", 'SKILL 3'!$G$14)","v":""},{"$f":"IF('SKILL 3'!$G52=\"\", \"\", 'SKILL 3'!$G52)","v":""},{"$f":"IF('SKILL 3'!$I$11=\"\", \"\", 'SKILL 3'!$I$11)","v":""},{"$f":"IF('SKILL 3'!$I$14=\"\", \"\", 'SKILL 3'!$I$14)","v":""},{"$f":"IF('SKILL 3'!$H52=\"\", \"\", 'SKILL 3'!$H52)","v":""},{"$f":"IF('SKILL 3'!$I52=\"\", \"\", 'SKILL 3'!$I52)","v":""},{"$f":"IF('SKILL 3'!$J52=\"\", \"\", 'SKILL 3'!$J52)","v":""},{"$f":"IF('SKILL 3'!$L$11=\"\", \"\", 'SKILL 3'!$L$11)","v":""},{"$f":"IF('SKILL 3'!$L$14=\"\", \"\", 'SKILL 3'!$L$14)","v":""},{"$f":"IF('SKILL 3'!$K52=\"\", \"\", 'SKILL 3'!$K52)","v":""},{"$f":"IF('SKILL 3'!$L52=\"\", \"\", 'SKILL 3'!$L52)","v":""},{"$f":"IF('SKILL 3'!$M52=\"\", \"\", 'SKILL 3'!$M52)","v":""},{"$f":"IF('SKILL 4'!$C$7=\"\", \"\", 'SKILL 4'!$C$7)","v":""},{"$f":"IF('SKILL 4'!$G$11=\"\", \"\", 'SKILL 4'!$G$11)","v":""},{"$f":"IF('SKILL 4'!$G$14=\"\", \"\", 'SKILL 4'!$G$14)","v":""},{"$f":"IF('SKILL 4'!$G52=\"\", \"\", 'SKILL 4'!$G52)","v":""},{"$f":"IF('SKILL 4'!$I$11=\"\", \"\", 'SKILL 4'!$I$11)","v":""},{"$f":"IF('SKILL 4'!$I$14=\"\", \"\", 'SKILL 4'!$I$14)","v":""},{"$f":"IF('SKILL 4'!$H52=\"\", \"\", 'SKILL 4'!$H52)","v":""},{"$f":"IF('SKILL 4'!$I52=\"\", \"\", 'SKILL 4'!$I52)","v":""},{"$f":"IF('SKILL 4'!$J52=\"\", \"\", 'SKILL 4'!$J52)","v":""},{"$f":"IF('SKILL 4'!$L$11=\"\", \"\", 'SKILL 4'!$L$11)","v":""},{"$f":"IF('SKILL 4'!$L$14=\"\", \"\", 'SKILL 4'!$L$14)","v":""},{"$f":"IF('SKILL 4'!$K52=\"\", \"\", 'SKILL 4'!$K52)","v":""},{"$f":"IF('SKILL 4'!$L52=\"\", \"\", 'SKILL 4'!$L52)","v":""},{"$f":"IF('SKILL 4'!$M52=\"\", \"\", 'SKILL 4'!$M52)","v":""},{"$f":"IF('SKILL 5'!$C$7=\"\", \"\", 'SKILL 5'!$C$7)","v":""},{"$f":"IF('SKILL 5'!$G$11=\"\", \"\", 'SKILL 5'!$G$11)","v":""},{"$f":"IF('SKILL 5'!$G$14=\"\", \"\", 'SKILL 5'!$G$14)","v":""},{"$f":"IF('SKILL 5'!$G52=\"\", \"\", 'SKILL 5'!$G52)","v":""},{"$f":"IF('SKILL 5'!$I$11=\"\", \"\", 'SKILL 5'!$I$11)","v":""},{"$f":"IF('SKILL 5'!$I$14=\"\", \"\", 'SKILL 5'!$I$14)","v":""},{"$f":"IF('SKILL 5'!$H52=\"\", \"\", 'SKILL 5'!$H52)","v":""},{"$f":"IF('SKILL 5'!$I52=\"\", \"\", 'SKILL 5'!$I52)","v":""},{"$f":"IF('SKILL 5'!$J52=\"\", \"\", 'SKILL 5'!$J52)","v":""},{"$f":"IF('SKILL 5'!$L$11=\"\", \"\", 'SKILL 5'!$L$11)","v":""},{"$f":"IF('SKILL 5'!$L$14=\"\", \"\", 'SKILL 5'!$L$14)","v":""},{"$f":"IF('SKILL 5'!$K52=\"\", \"\", 'SKILL 5'!$K52)","v":""},{"$f":"IF('SKILL 5'!$L52=\"\", \"\", 'SKILL 5'!$L52)","v":""},{"$f":"IF('SKILL 5'!$M52=\"\", \"\", 'SKILL 5'!$M52)","v":""},{"$f":"IF('SKILL 6'!$C$7=\"\", \"\", 'SKILL 6'!$C$7)","v":""},{"$f":"IF('SKILL 6'!$G$11=\"\", \"\", 'SKILL 6'!$G$11)","v":""},{"$f":"IF('SKILL 6'!$G$14=\"\", \"\", 'SKILL 6'!$G$14)","v":""},{"$f":"IF('SKILL 6'!$G52=\"\", \"\", 'SKILL 6'!$G52)","v":""},{"$f":"IF('SKILL 6'!$I$11=\"\", \"\", 'SKILL 6'!$I$11)","v":""},{"$f":"IF('SKILL 6'!$I$14=\"\", \"\", 'SKILL 6'!$I$14)","v":""},{"$f":"IF('SKILL 6'!$H52=\"\", \"\", 'SKILL 6'!$H52)","v":""},{"$f":"IF('SKILL 6'!$I52=\"\", \"\", 'SKILL 6'!$I52)","v":""},{"$f":"IF('SKILL 6'!$J52=\"\", \"\", 'SKILL 6'!$J52)","v":""},{"$f":"IF('SKILL 6'!$L$11=\"\", \"\", 'SKILL 6'!$L$11)","v":""},{"$f":"IF('SKILL 6'!$L$14=\"\", \"\", 'SKILL 6'!$L$14)","v":""},{"$f":"IF('SKILL 6'!$K52=\"\", \"\", 'SKILL 6'!$K52)","v":""},{"$f":"IF('SKILL 6'!$L52=\"\", \"\", 'SKILL 6'!$L52)","v":""},{"$f":"IF('SKILL 6'!$M52=\"\", \"\", 'SKILL 6'!$M52)","v":""}]
[{"$f":"IF(ATTENDANCE!$D$51=\"\", \"\", ATTENDANCE!$D$51)","v":""},{"$f":"IF(ATTENDANCE!$C$3=\"\", \"\", ATTENDANCE!$C$3)","v":""},{"$f":"IF(ATTENDANCE!$C$4=\"\", \"\", ATTENDANCE!$C$4)","v":""},{"$f":"IF(ATTENDANCE!$C$5=\"\", \"\", ATTENDANCE!$C$5)","v":""},{"$f":"IF(ATTENDANCE!$C$6=\"\", \"\", ATTENDANCE!$C$6)","v":""},{"$f":"IF(ATTENDANCE!$F$11=\"\", \"\", ATTENDANCE!$F$11)","v":""},{"$f":"IF(ATTENDANCE!$F$12=\"\", \"\", ATTENDANCE!$F$12)","v":""},{"$f":"IF(ATTENDANCE!$F51=\"\", \"\", ATTENDANCE!$F51)","v":""},{"$f":"IF(ATTENDANCE!$G51=\"\", \"\", ATTENDANCE!$G51)","v":""},{"$f":"IF(ATTENDANCE!$H$11=\"\", \"\", ATTENDANCE!$H$11)","v":""},{"$f":"IF(ATTENDANCE!$H$12=\"\", \"\", ATTENDANCE!$H$12)","v":""},{"$f":"IF(ATTENDANCE!$H51=\"\", \"\", ATTENDANCE!$H51)","v":""},{"$f":"IF(ATTENDANCE!$I$11=\"\", \"\", ATTENDANCE!$I$11)","v":""},{"$f":"IF(ATTENDANCE!$I$12=\"\", \"\", ATTENDANCE!$I$12)","v":""},{"$f":"IF(ATTENDANCE!$I51=\"\", \"\", ATTENDANCE!$I51)","v":""},{"$f":"IF('SKILL 1'!$C$7=\"\", \"\", 'SKILL 1'!$C$7)","v":""},{"$f":"IF('SKILL 1'!$G$11=\"\", \"\", 'SKILL 1'!$G$11)","v":""},{"$f":"IF('SKILL 1'!$G$14=\"\", \"\", 'SKILL 1'!$G$14)","v":""},{"$f":"IF('SKILL 1'!$G53=\"\", \"\", 'SKILL 1'!$G53)","v":""},{"$f":"IF('SKILL 1'!$I$11=\"\", \"\", 'SKILL 1'!$I$11)","v":""},{"$f":"IF('SKILL 1'!$I$14=\"\", \"\", 'SKILL 1'!$I$14)","v":""},{"$f":"IF('SKILL 1'!$H53=\"\", \"\", 'SKILL 1'!$H53)","v":""},{"$f":"IF('SKILL 1'!$I53=\"\", \"\", 'SKILL 1'!$I53)","v":""},{"$f":"IF('SKILL 1'!$J53=\"\", \"\", 'SKILL 1'!$J53)","v":""},{"$f":"IF('SKILL 1'!$L$11=\"\", \"\", 'SKILL 1'!$L$11)","v":""},{"$f":"IF('SKILL 1'!$L$14=\"\", \"\", 'SKILL 1'!$L$14)","v":""},{"$f":"IF('SKILL 1'!$K53=\"\", \"\", 'SKILL 1'!$K53)","v":""},{"$f":"IF('SKILL 1'!$L53=\"\", \"\", 'SKILL 1'!$L53)","v":""},{"$f":"IF('SKILL 1'!$M53=\"\", \"\", 'SKILL 1'!$M53)","v":""},{"$f":"IF('SKILL 2'!$C$7=\"\", \"\", 'SKILL 2'!$C$7)","v":""},{"$f":"IF('SKILL 2'!$G$11=\"\", \"\", 'SKILL 2'!$G$11)","v":""},{"$f":"IF('SKILL 2'!$G$14=\"\", \"\", 'SKILL 2'!$G$14)","v":""},{"$f":"IF('SKILL 2'!$G53=\"\", \"\", 'SKILL 2'!$G53)","v":""},{"$f":"IF('SKILL 2'!$I$11=\"\", \"\", 'SKILL 2'!$I$11)","v":""},{"$f":"IF('SKILL 2'!$I$14=\"\", \"\", 'SKILL 2'!$I$14)","v":""},{"$f":"IF('SKILL 2'!$H53=\"\", \"\", 'SKILL 2'!$H53)","v":""},{"$f":"IF('SKILL 2'!$I53=\"\", \"\", 'SKILL 2'!$I53)","v":""},{"$f":"IF('SKILL 2'!$J53=\"\", \"\", 'SKILL 2'!$J53)","v":""},{"$f":"IF('SKILL 2'!$L$11=\"\", \"\", 'SKILL 2'!$L$11)","v":""},{"$f":"IF('SKILL 2'!$L$14=\"\", \"\", 'SKILL 2'!$L$14)","v":""},{"$f":"IF('SKILL 2'!$K53=\"\", \"\", 'SKILL 2'!$K53)","v":""},{"$f":"IF('SKILL 2'!$L53=\"\", \"\", 'SKILL 2'!$L53)","v":""},{"$f":"IF('SKILL 2'!$M53=\"\", \"\", 'SKILL 2'!$M53)","v":""},{"$f":"IF('SKILL 3'!$C$7=\"\", \"\", 'SKILL 3'!$C$7)","v":""},{"$f":"IF('SKILL 3'!$G$11=\"\", \"\", 'SKILL 3'!$G$11)","v":""},{"$f":"IF('SKILL 3'!$G$14=\"\", \"\", 'SKILL 3'!$G$14)","v":""},{"$f":"IF('SKILL 3'!$G53=\"\", \"\", 'SKILL 3'!$G53)","v":""},{"$f":"IF('SKILL 3'!$I$11=\"\", \"\", 'SKILL 3'!$I$11)","v":""},{"$f":"IF('SKILL 3'!$I$14=\"\", \"\", 'SKILL 3'!$I$14)","v":""},{"$f":"IF('SKILL 3'!$H53=\"\", \"\", 'SKILL 3'!$H53)","v":""},{"$f":"IF('SKILL 3'!$I53=\"\", \"\", 'SKILL 3'!$I53)","v":""},{"$f":"IF('SKILL 3'!$J53=\"\", \"\", 'SKILL 3'!$J53)","v":""},{"$f":"IF('SKILL 3'!$L$11=\"\", \"\", 'SKILL 3'!$L$11)","v":""},{"$f":"IF('SKILL 3'!$L$14=\"\", \"\", 'SKILL 3'!$L$14)","v":""},{"$f":"IF('SKILL 3'!$K53=\"\", \"\", 'SKILL 3'!$K53)","v":""},{"$f":"IF('SKILL 3'!$L53=\"\", \"\", 'SKILL 3'!$L53)","v":""},{"$f":"IF('SKILL 3'!$M53=\"\", \"\", 'SKILL 3'!$M53)","v":""},{"$f":"IF('SKILL 4'!$C$7=\"\", \"\", 'SKILL 4'!$C$7)","v":""},{"$f":"IF('SKILL 4'!$G$11=\"\", \"\", 'SKILL 4'!$G$11)","v":""},{"$f":"IF('SKILL 4'!$G$14=\"\", \"\", 'SKILL 4'!$G$14)","v":""},{"$f":"IF('SKILL 4'!$G53=\"\", \"\", 'SKILL 4'!$G53)","v":""},{"$f":"IF('SKILL 4'!$I$11=\"\", \"\", 'SKILL 4'!$I$11)","v":""},{"$f":"IF('SKILL 4'!$I$14=\"\", \"\", 'SKILL 4'!$I$14)","v":""},{"$f":"IF('SKILL 4'!$H53=\"\", \"\", 'SKILL 4'!$H53)","v":""},{"$f":"IF('SKILL 4'!$I53=\"\", \"\", 'SKILL 4'!$I53)","v":""},{"$f":"IF('SKILL 4'!$J53=\"\", \"\", 'SKILL 4'!$J53)","v":""},{"$f":"IF('SKILL 4'!$L$11=\"\", \"\", 'SKILL 4'!$L$11)","v":""},{"$f":"IF('SKILL 4'!$L$14=\"\", \"\", 'SKILL 4'!$L$14)","v":""},{"$f":"IF('SKILL 4'!$K53=\"\", \"\", 'SKILL 4'!$K53)","v":""},{"$f":"IF('SKILL 4'!$L53=\"\", \"\", 'SKILL 4'!$L53)","v":""},{"$f":"IF('SKILL 4'!$M53=\"\", \"\", 'SKILL 4'!$M53)","v":""},{"$f":"IF('SKILL 5'!$C$7=\"\", \"\", 'SKILL 5'!$C$7)","v":""},{"$f":"IF('SKILL 5'!$G$11=\"\", \"\", 'SKILL 5'!$G$11)","v":""},{"$f":"IF('SKILL 5'!$G$14=\"\", \"\", 'SKILL 5'!$G$14)","v":""},{"$f":"IF('SKILL 5'!$G53=\"\", \"\", 'SKILL 5'!$G53)","v":""},{"$f":"IF('SKILL 5'!$I$11=\"\", \"\", 'SKILL 5'!$I$11)","v":""},{"$f":"IF('SKILL 5'!$I$14=\"\", \"\", 'SKILL 5'!$I$14)","v":""},{"$f":"IF('SKILL 5'!$H53=\"\", \"\", 'SKILL 5'!$H53)","v":""},{"$f":"IF('SKILL 5'!$I53=\"\", \"\", 'SKILL 5'!$I53)","v":""},{"$f":"IF('SKILL 5'!$J53=\"\", \"\", 'SKILL 5'!$J53)","v":""},{"$f":"IF('SKILL 5'!$L$11=\"\", \"\", 'SKILL 5'!$L$11)","v":""},{"$f":"IF('SKILL 5'!$L$14=\"\", \"\", 'SKILL 5'!$L$14)","v":""},{"$f":"IF('SKILL 5'!$K53=\"\", \"\", 'SKILL 5'!$K53)","v":""},{"$f":"IF('SKILL 5'!$L53=\"\", \"\", 'SKILL 5'!$L53)","v":""},{"$f":"IF('SKILL 5'!$M53=\"\", \"\", 'SKILL 5'!$M53)","v":""},{"$f":"IF('SKILL 6'!$C$7=\"\", \"\", 'SKILL 6'!$C$7)","v":""},{"$f":"IF('SKILL 6'!$G$11=\"\", \"\", 'SKILL 6'!$G$11)","v":""},{"$f":"IF('SKILL 6'!$G$14=\"\", \"\", 'SKILL 6'!$G$14)","v":""},{"$f":"IF('SKILL 6'!$G53=\"\", \"\", 'SKILL 6'!$G53)","v":""},{"$f":"IF('SKILL 6'!$I$11=\"\", \"\", 'SKILL 6'!$I$11)","v":""},{"$f":"IF('SKILL 6'!$I$14=\"\", \"\", 'SKILL 6'!$I$14)","v":""},{"$f":"IF('SKILL 6'!$H53=\"\", \"\", 'SKILL 6'!$H53)","v":""},{"$f":"IF('SKILL 6'!$I53=\"\", \"\", 'SKILL 6'!$I53)","v":""},{"$f":"IF('SKILL 6'!$J53=\"\", \"\", 'SKILL 6'!$J53)","v":""},{"$f":"IF('SKILL 6'!$L$11=\"\", \"\", 'SKILL 6'!$L$11)","v":""},{"$f":"IF('SKILL 6'!$L$14=\"\", \"\", 'SKILL 6'!$L$14)","v":""},{"$f":"IF('SKILL 6'!$K53=\"\", \"\", 'SKILL 6'!$K53)","v":""},{"$f":"IF('SKILL 6'!$L53=\"\", \"\", 'SKILL 6'!$L53)","v":""},{"$f":"IF('SKILL 6'!$M53=\"\", \"\", 'SKILL 6'!$M53)","v":""}]
[{"$f":"IF(ATTENDANCE!$D$52=\"\", \"\", ATTENDANCE!$D$52)","v":""},{"$f":"IF(ATTENDANCE!$C$3=\"\", \"\", ATTENDANCE!$C$3)","v":""},{"$f":"IF(ATTENDANCE!$C$4=\"\", \"\", ATTENDANCE!$C$4)","v":""},{"$f":"IF(ATTENDANCE!$C$5=\"\", \"\", ATTENDANCE!$C$5)","v":""},{"$f":"IF(ATTENDANCE!$C$6=\"\", \"\", ATTENDANCE!$C$6)","v":""},{"$f":"IF(ATTENDANCE!$F$11=\"\", \"\", ATTENDANCE!$F$11)","v":""},{"$f":"IF(ATTENDANCE!$F$12=\"\", \"\", ATTENDANCE!$F$12)","v":""},{"$f":"IF(ATTENDANCE!$F52=\"\", \"\", ATTENDANCE!$F52)","v":""},{"$f":"IF(ATTENDANCE!$G52=\"\", \"\", ATTENDANCE!$G52)","v":""},{"$f":"IF(ATTENDANCE!$H$11=\"\", \"\", ATTENDANCE!$H$11)","v":""},{"$f":"IF(ATTENDANCE!$H$12=\"\", \"\", ATTENDANCE!$H$12)","v":""},{"$f":"IF(ATTENDANCE!$H52=\"\", \"\", ATTENDANCE!$H52)","v":""},{"$f":"IF(ATTENDANCE!$I$11=\"\", \"\", ATTENDANCE!$I$11)","v":""},{"$f":"IF(ATTENDANCE!$I$12=\"\", \"\", ATTENDANCE!$I$12)","v":""},{"$f":"IF(ATTENDANCE!$I52=\"\", \"\", ATTENDANCE!$I52)","v":""},{"$f":"IF('SKILL 1'!$C$7=\"\", \"\", 'SKILL 1'!$C$7)","v":""},{"$f":"IF('SKILL 1'!$G$11=\"\", \"\", 'SKILL 1'!$G$11)","v":""},{"$f":"IF('SKILL 1'!$G$14=\"\", \"\", 'SKILL 1'!$G$14)","v":""},{"$f":"IF('SKILL 1'!$G54=\"\", \"\", 'SKILL 1'!$G54)","v":""},{"$f":"IF('SKILL 1'!$I$11=\"\", \"\", 'SKILL 1'!$I$11)","v":""},{"$f":"IF('SKILL 1'!$I$14=\"\", \"\", 'SKILL 1'!$I$14)","v":""},{"$f":"IF('SKILL 1'!$H54=\"\", \"\", 'SKILL 1'!$H54)","v":""},{"$f":"IF('SKILL 1'!$I54=\"\", \"\", 'SKILL 1'!$I54)","v":""},{"$f":"IF('SKILL 1'!$J54=\"\", \"\", 'SKILL 1'!$J54)","v":""},{"$f":"IF('SKILL 1'!$L$11=\"\", \"\", 'SKILL 1'!$L$11)","v":""},{"$f":"IF('SKILL 1'!$L$14=\"\", \"\", 'SKILL 1'!$L$14)","v":""},{"$f":"IF('SKILL 1'!$K54=\"\", \"\", 'SKILL 1'!$K54)","v":""},{"$f":"IF('SKILL 1'!$L54=\"\", \"\", 'SKILL 1'!$L54)","v":""},{"$f":"IF('SKILL 1'!$M54=\"\", \"\", 'SKILL 1'!$M54)","v":""},{"$f":"IF('SKILL 2'!$C$7=\"\", \"\", 'SKILL 2'!$C$7)","v":""},{"$f":"IF('SKILL 2'!$G$11=\"\", \"\", 'SKILL 2'!$G$11)","v":""},{"$f":"IF('SKILL 2'!$G$14=\"\", \"\", 'SKILL 2'!$G$14)","v":""},{"$f":"IF('SKILL 2'!$G54=\"\", \"\", 'SKILL 2'!$G54)","v":""},{"$f":"IF('SKILL 2'!$I$11=\"\", \"\", 'SKILL 2'!$I$11)","v":""},{"$f":"IF('SKILL 2'!$I$14=\"\", \"\", 'SKILL 2'!$I$14)","v":""},{"$f":"IF('SKILL 2'!$H54=\"\", \"\", 'SKILL 2'!$H54)","v":""},{"$f":"IF('SKILL 2'!$I54=\"\", \"\", 'SKILL 2'!$I54)","v":""},{"$f":"IF('SKILL 2'!$J54=\"\", \"\", 'SKILL 2'!$J54)","v":""},{"$f":"IF('SKILL 2'!$L$11=\"\", \"\", 'SKILL 2'!$L$11)","v":""},{"$f":"IF('SKILL 2'!$L$14=\"\", \"\", 'SKILL 2'!$L$14)","v":""},{"$f":"IF('SKILL 2'!$K54=\"\", \"\", 'SKILL 2'!$K54)","v":""},{"$f":"IF('SKILL 2'!$L54=\"\", \"\", 'SKILL 2'!$L54)","v":""},{"$f":"IF('SKILL 2'!$M54=\"\", \"\", 'SKILL 2'!$M54)","v":""},{"$f":"IF('SKILL 3'!$C$7=\"\", \"\", 'SKILL 3'!$C$7)","v":""},{"$f":"IF('SKILL 3'!$G$11=\"\", \"\", 'SKILL 3'!$G$11)","v":""},{"$f":"IF('SKILL 3'!$G$14=\"\", \"\", 'SKILL 3'!$G$14)","v":""},{"$f":"IF('SKILL 3'!$G54=\"\", \"\", 'SKILL 3'!$G54)","v":""},{"$f":"IF('SKILL 3'!$I$11=\"\", \"\", 'SKILL 3'!$I$11)","v":""},{"$f":"IF('SKILL 3'!$I$14=\"\", \"\", 'SKILL 3'!$I$14)","v":""},{"$f":"IF('SKILL 3'!$H54=\"\", \"\", 'SKILL 3'!$H54)","v":""},{"$f":"IF('SKILL 3'!$I54=\"\", \"\", 'SKILL 3'!$I54)","v":""},{"$f":"IF('SKILL 3'!$J54=\"\", \"\", 'SKILL 3'!$J54)","v":""},{"$f":"IF('SKILL 3'!$L$11=\"\", \"\", 'SKILL 3'!$L$11)","v":""},{"$f":"IF('SKILL 3'!$L$14=\"\", \"\", 'SKILL 3'!$L$14)","v":""},{"$f":"IF('SKILL 3'!$K54=\"\", \"\", 'SKILL 3'!$K54)","v":""},{"$f":"IF('SKILL 3'!$L54=\"\", \"\", 'SKILL 3'!$L54)","v":""},{"$f":"IF('SKILL 3'!$M54=\"\", \"\", 'SKILL 3'!$M54)","v":""},{"$f":"IF('SKILL 4'!$C$7=\"\", \"\", 'SKILL 4'!$C$7)","v":""},{"$f":"IF('SKILL 4'!$G$11=\"\", \"\", 'SKILL 4'!$G$11)","v":""},{"$f":"IF('SKILL 4'!$G$14=\"\", \"\", 'SKILL 4'!$G$14)","v":""},{"$f":"IF('SKILL 4'!$G54=\"\", \"\", 'SKILL 4'!$G54)","v":""},{"$f":"IF('SKILL 4'!$I$11=\"\", \"\", 'SKILL 4'!$I$11)","v":""},{"$f":"IF('SKILL 4'!$I$14=\"\", \"\", 'SKILL 4'!$I$14)","v":""},{"$f":"IF('SKILL 4'!$H54=\"\", \"\", 'SKILL 4'!$H54)","v":""},{"$f":"IF('SKILL 4'!$I54=\"\", \"\", 'SKILL 4'!$I54)","v":""},{"$f":"IF('SKILL 4'!$J54=\"\", \"\", 'SKILL 4'!$J54)","v":""},{"$f":"IF('SKILL 4'!$L$11=\"\", \"\", 'SKILL 4'!$L$11)","v":""},{"$f":"IF('SKILL 4'!$L$14=\"\", \"\", 'SKILL 4'!$L$14)","v":""},{"$f":"IF('SKILL 4'!$K54=\"\", \"\", 'SKILL 4'!$K54)","v":""},{"$f":"IF('SKILL 4'!$L54=\"\", \"\", 'SKILL 4'!$L54)","v":""},{"$f":"IF('SKILL 4'!$M54=\"\", \"\", 'SKILL 4'!$M54)","v":""},{"$f":"IF('SKILL 5'!$C$7=\"\", \"\", 'SKILL 5'!$C$7)","v":""},{"$f":"IF('SKILL 5'!$G$11=\"\", \"\", 'SKILL 5'!$G$11)","v":""},{"$f":"IF('SKILL 5'!$G$14=\"\", \"\", 'SKILL 5'!$G$14)","v":""},{"$f":"IF('SKILL 5'!$G54=\"\", \"\", 'SKILL 5'!$G54)","v":""},{"$f":"IF('SKILL 5'!$I$11=\"\", \"\", 'SKILL 5'!$I$11)","v":""},{"$f":"IF('SKILL 5'!$I$14=\"\", \"\", 'SKILL 5'!$I$14)","v":""},{"$f":"IF('SKILL 5'!$H54=\"\", \"\", 'SKILL 5'!$H54)","v":""},{"$f":"IF('SKILL 5'!$I54=\"\", \"\", 'SKILL 5'!$I54)","v":""},{"$f":"IF('SKILL 5'!$J54=\"\", \"\", 'SKILL 5'!$J54)","v":""},{"$f":"IF('SKILL 5'!$L$11=\"\", \"\", 'SKILL 5'!$L$11)","v":""},{"$f":"IF('SKILL 5'!$L$14=\"\", \"\", 'SKILL 5'!$L$14)","v":""},{"$f":"IF('SKILL 5'!$K54=\"\", \"\", 'SKILL 5'!$K54)","v":""},{"$f":"IF('SKILL 5'!$L54=\"\", \"\", 'SKILL 5'!$L54)","v":""},{"$f":"IF('SKILL 5'!$M54=\"\", \"\", 'SKILL 5'!$M54)","v":""},{"$f":"IF('SKILL 6'!$C$7=\"\", \"\", 'SKILL 6'!$C$7)","v":""},{"$f":"IF('SKILL 6'!$G$11=\"\", \"\", 'SKILL 6'!$G$11)","v":""},{"$f":"IF('SKILL 6'!$G$14=\"\", \"\", 'SKILL 6'!$G$14)","v":""},{"$f":"IF('SKILL 6'!$G54=\"\", \"\", 'SKILL 6'!$G54)","v":""},{"$f":"IF('SKILL 6'!$I$11=\"\", \"\", 'SKILL 6'!$I$11)","v":""},{"$f":"IF('SKILL 6'!$I$14=\"\", \"\", 'SKILL 6'!$I$14)","v":""},{"$f":"IF('SKILL 6'!$H54=\"\", \"\", 'SKILL 6'!$H54)","v":""},{"$f":"IF('SKILL 6'!$I54=\"\", \"\", 'SKILL 6'!$I54)","v":""},{"$f":"IF('SKILL 6'!$J54=\"\", \"\", 'SKILL 6'!$J54)","v":""},{"$f":"IF('SKILL 6'!$L$11=\"\", \"\", 'SKILL 6'!$L$11)","v":""},{"$f":"IF('SKILL 6'!$L$14=\"\", \"\", 'SKILL 6'!$L$14)","v":""},{"$f":"IF('SKILL 6'!$K54=\"\", \"\", 'SKILL 6'!$K54)","v":""},{"$f":"IF('SKILL 6'!$L54=\"\", \"\", 'SKILL 6'!$L54)","v":""},{"$f":"IF('SKILL 6'!$M54=\"\", \"\", 'SKILL 6'!$M54)","v":""}]
[{"$f":"IF(ATTENDANCE!$D$53=\"\", \"\", ATTENDANCE!$D$53)","v":""},{"$f":"IF(ATTENDANCE!$C$3=\"\", \"\", ATTENDANCE!$C$3)","v":""},{"$f":"IF(ATTENDANCE!$C$4=\"\", \"\", ATTENDANCE!$C$4)","v":""},{"$f":"IF(ATTENDANCE!$C$5=\"\", \"\", ATTENDANCE!$C$5)","v":""},{"$f":"IF(ATTENDANCE!$C$6=\"\", \"\", ATTENDANCE!$C$6)","v":""},{"$f":"IF(ATTENDANCE!$F$11=\"\", \"\", ATTENDANCE!$F$11)","v":""},{"$f":"IF(ATTENDANCE!$F$12=\"\", \"\", ATTENDANCE!$F$12)","v":""},{"$f":"IF(ATTENDANCE!$F53=\"\", \"\", ATTENDANCE!$F53)","v":""},{"$f":"IF(ATTENDANCE!$G53=\"\", \"\", ATTENDANCE!$G53)","v":""},{"$f":"IF(ATTENDANCE!$H$11=\"\", \"\", ATTENDANCE!$H$11)","v":""},{"$f":"IF(ATTENDANCE!$H$12=\"\", \"\", ATTENDANCE!$H$12)","v":""},{"$f":"IF(ATTENDANCE!$H53=\"\", \"\", ATTENDANCE!$H53)","v":""},{"$f":"IF(ATTENDANCE!$I$11=\"\", \"\", ATTENDANCE!$I$11)","v":""},{"$f":"IF(ATTENDANCE!$I$12=\"\", \"\", ATTENDANCE!$I$12)","v":""},{"$f":"IF(ATTENDANCE!$I53=\"\", \"\", ATTENDANCE!$I53)","v":""},{"$f":"IF('SKILL 1'!$C$7=\"\", \"\", 'SKILL 1'!$C$7)","v":""},{"$f":"IF('SKILL 1'!$G$11=\"\", \"\", 'SKILL 1'!$G$11)","v":""},{"$f":"IF('SKILL 1'!$G$14=\"\", \"\", 'SKILL 1'!$G$14)","v":""},{"$f":"IF('SKILL 1'!$G55=\"\", \"\", 'SKILL 1'!$G55)","v":""},{"$f":"IF('SKILL 1'!$I$11=\"\", \"\", 'SKILL 1'!$I$11)","v":""},{"$f":"IF('SKILL 1'!$I$14=\"\", \"\", 'SKILL 1'!$I$14)","v":""},{"$f":"IF('SKILL 1'!$H55=\"\", \"\", 'SKILL 1'!$H55)","v":""},{"$f":"IF('SKILL 1'!$I55=\"\", \"\", 'SKILL 1'!$I55)","v":""},{"$f":"IF('SKILL 1'!$J55=\"\", \"\", 'SKILL 1'!$J55)","v":""},{"$f":"IF('SKILL 1'!$L$11=\"\", \"\", 'SKILL 1'!$L$11)","v":""},{"$f":"IF('SKILL 1'!$L$14=\"\", \"\", 'SKILL 1'!$L$14)","v":""},{"$f":"IF('SKILL 1'!$K55=\"\", \"\", 'SKILL 1'!$K55)","v":""},{"$f":"IF('SKILL 1'!$L55=\"\", \"\", 'SKILL 1'!$L55)","v":""},{"$f":"IF('SKILL 1'!$M55=\"\", \"\", 'SKILL 1'!$M55)","v":""},{"$f":"IF('SKILL 2'!$C$7=\"\", \"\", 'SKILL 2'!$C$7)","v":""},{"$f":"IF('SKILL 2'!$G$11=\"\", \"\", 'SKILL 2'!$G$11)","v":""},{"$f":"IF('SKILL 2'!$G$14=\"\", \"\", 'SKILL 2'!$G$14)","v":""},{"$f":"IF('SKILL 2'!$G55=\"\", \"\", 'SKILL 2'!$G55)","v":""},{"$f":"IF('SKILL 2'!$I$11=\"\", \"\", 'SKILL 2'!$I$11)","v":""},{"$f":"IF('SKILL 2'!$I$14=\"\", \"\", 'SKILL 2'!$I$14)","v":""},{"$f":"IF('SKILL 2'!$H55=\"\", \"\", 'SKILL 2'!$H55)","v":""},{"$f":"IF('SKILL 2'!$I55=\"\", \"\", 'SKILL 2'!$I55)","v":""},{"$f":"IF('SKILL 2'!$J55=\"\", \"\", 'SKILL 2'!$J55)","v":""},{"$f":"IF('SKILL 2'!$L$11=\"\", \"\", 'SKILL 2'!$L$11)","v":""},{"$f":"IF('SKILL 2'!$L$14=\"\", \"\", 'SKILL 2'!$L$14)","v":""},{"$f":"IF('SKILL 2'!$K55=\"\", \"\", 'SKILL 2'!$K55)","v":""},{"$f":"IF('SKILL 2'!$L55=\"\", \"\", 'SKILL 2'!$L55)","v":""},{"$f":"IF('SKILL 2'!$M55=\"\", \"\", 'SKILL 2'!$M55)","v":""},{"$f":"IF('SKILL 3'!$C$7=\"\", \"\", 'SKILL 3'!$C$7)","v":""},{"$f":"IF('SKILL 3'!$G$11=\"\", \"\", 'SKILL 3'!$G$11)","v":""},{"$f":"IF('SKILL 3'!$G$14=\"\", \"\", 'SKILL 3'!$G$14)","v":""},{"$f":"IF('SKILL 3'!$G55=\"\", \"\", 'SKILL 3'!$G55)","v":""},{"$f":"IF('SKILL 3'!$I$11=\"\", \"\", 'SKILL 3'!$I$11)","v":""},{"$f":"IF('SKILL 3'!$I$14=\"\", \"\", 'SKILL 3'!$I$14)","v":""},{"$f":"IF('SKILL 3'!$H55=\"\", \"\", 'SKILL 3'!$H55)","v":""},{"$f":"IF('SKILL 3'!$I55=\"\", \"\", 'SKILL 3'!$I55)","v":""},{"$f":"IF('SKILL 3'!$J55=\"\", \"\", 'SKILL 3'!$J55)","v":""},{"$f":"IF('SKILL 3'!$L$11=\"\", \"\", 'SKILL 3'!$L$11)","v":""},{"$f":"IF('SKILL 3'!$L$14=\"\", \"\", 'SKILL 3'!$L$14)","v":""},{"$f":"IF('SKILL 3'!$K55=\"\", \"\", 'SKILL 3'!$K55)","v":""},{"$f":"IF('SKILL 3'!$L55=\"\", \"\", 'SKILL 3'!$L55)","v":""},{"$f":"IF('SKILL 3'!$M55=\"\", \"\", 'SKILL 3'!$M55)","v":""},{"$f":"IF('SKILL 4'!$C$7=\"\", \"\", 'SKILL 4'!$C$7)","v":""},{"$f":"IF('SKILL 4'!$G$11=\"\", \"\", 'SKILL 4'!$G$11)","v":""},{"$f":"IF('SKILL 4'!$G$14=\"\", \"\", 'SKILL 4'!$G$14)","v":""},{"$f":"IF('SKILL 4'!$G55=\"\", \"\", 'SKILL 4'!$G55)","v":""},{"$f":"IF('SKILL 4'!$I$11=\"\", \"\", 'SKILL 4'!$I$11)","v":""},{"$f":"IF('SKILL 4'!$I$14=\"\", \"\", 'SKILL 4'!$I$14)","v":""},{"$f":"IF('SKILL 4'!$H55=\"\", \"\", 'SKILL 4'!$H55)","v":""},{"$f":"IF('SKILL 4'!$I55=\"\", \"\", 'SKILL 4'!$I55)","v":""},{"$f":"IF('SKILL 4'!$J55=\"\", \"\", 'SKILL 4'!$J55)","v":""},{"$f":"IF('SKILL 4'!$L$11=\"\", \"\", 'SKILL 4'!$L$11)","v":""},{"$f":"IF('SKILL 4'!$L$14=\"\", \"\", 'SKILL 4'!$L$14)","v":""},{"$f":"IF('SKILL 4'!$K55=\"\", \"\", 'SKILL 4'!$K55)","v":""},{"$f":"IF('SKILL 4'!$L55=\"\", \"\", 'SKILL 4'!$L55)","v":""},{"$f":"IF('SKILL 4'!$M55=\"\", \"\", 'SKILL 4'!$M55)","v":""},{"$f":"IF('SKILL 5'!$C$7=\"\", \"\", 'SKILL 5'!$C$7)","v":""},{"$f":"IF('SKILL 5'!$G$11=\"\", \"\", 'SKILL 5'!$G$11)","v":""},{"$f":"IF('SKILL 5'!$G$14=\"\", \"\", 'SKILL 5'!$G$14)","v":""},{"$f":"IF('SKILL 5'!$G55=\"\", \"\", 'SKILL 5'!$G55)","v":""},{"$f":"IF('SKILL 5'!$I$11=\"\", \"\", 'SKILL 5'!$I$11)","v":""},{"$f":"IF('SKILL 5'!$I$14=\"\", \"\", 'SKILL 5'!$I$14)","v":""},{"$f":"IF('SKILL 5'!$H55=\"\", \"\", 'SKILL 5'!$H55)","v":""},{"$f":"IF('SKILL 5'!$I55=\"\", \"\", 'SKILL 5'!$I55)","v":""},{"$f":"IF('SKILL 5'!$J55=\"\", \"\", 'SKILL 5'!$J55)","v":""},{"$f":"IF('SKILL 5'!$L$11=\"\", \"\", 'SKILL 5'!$L$11)","v":""},{"$f":"IF('SKILL 5'!$L$14=\"\", \"\", 'SKILL 5'!$L$14)","v":""},{"$f":"IF('SKILL 5'!$K55=\"\", \"\", 'SKILL 5'!$K55)","v":""},{"$f":"IF('SKILL 5'!$L55=\"\", \"\", 'SKILL 5'!$L55)","v":""},{"$f":"IF('SKILL 5'!$M55=\"\", \"\", 'SKILL 5'!$M55)","v":""},{"$f":"IF('SKILL 6'!$C$7=\"\", \"\", 'SKILL 6'!$C$7)","v":""},{"$f":"IF('SKILL 6'!$G$11=\"\", \"\", 'SKILL 6'!$G$11)","v":""},{"$f":"IF('SKILL 6'!$G$14=\"\", \"\", 'SKILL 6'!$G$14)","v":""},{"$f":"IF('SKILL 6'!$G55=\"\", \"\", 'SKILL 6'!$G55)","v":""},{"$f":"IF('SKILL 6'!$I$11=\"\", \"\", 'SKILL 6'!$I$11)","v":""},{"$f":"IF('SKILL 6'!$I$14=\"\", \"\", 'SKILL 6'!$I$14)","v":""},{"$f":"IF('SKILL 6'!$H55=\"\", \"\", 'SKILL 6'!$H55)","v":""},{"$f":"IF('SKILL 6'!$I55=\"\", \"\", 'SKILL 6'!$I55)","v":""},{"$f":"IF('SKILL 6'!$J55=\"\", \"\", 'SKILL 6'!$J55)","v":""},{"$f":"IF('SKILL 6'!$L$11=\"\", \"\", 'SKILL 6'!$L$11)","v":""},{"$f":"IF('SKILL 6'!$L$14=\"\", \"\", 'SKILL 6'!$L$14)","v":""},{"$f":"IF('SKILL 6'!$K55=\"\", \"\", 'SKILL 6'!$K55)","v":""},{"$f":"IF('SKILL 6'!$L55=\"\", \"\", 'SKILL 6'!$L55)","v":""},{"$f":"IF('SKILL 6'!$M55=\"\", \"\", 'SKILL 6'!$M55)","v":""}]
[{"$f":"IF(ATTENDANCE!$D$54=\"\", \"\", ATTENDANCE!$D$54)","v":""},{"$f":"IF(ATTENDANCE!$C$3=\"\", \"\", ATTENDANCE!$C$3)","v":""},{"$f":"IF(ATTENDANCE!$C$4=\"\", \"\", ATTENDANCE!$C$4)","v":""},{"$f":"IF(ATTENDANCE!$C$5=\"\", \"\", ATTENDANCE!$C$5)","v":""},{"$f":"IF(ATTENDANCE!$C$6=\"\", \"\", ATTENDANCE!$C$6)","v":""},{"$f":"IF(ATTENDANCE!$F$11=\"\", \"\", ATTENDANCE!$F$11)","v":""},{"$f":"IF(ATTENDANCE!$F$12=\"\", \"\", ATTENDANCE!$F$12)","v":""},{"$f":"IF(ATTENDANCE!$F54=\"\", \"\", ATTENDANCE!$F54)","v":""},{"$f":"IF(ATTENDANCE!$G54=\"\", \"\", ATTENDANCE!$G54)","v":""},{"$f":"IF(ATTENDANCE!$H$11=\"\", \"\", ATTENDANCE!$H$11)","v":""},{"$f":"IF(ATTENDANCE!$H$12=\"\", \"\", ATTENDANCE!$H$12)","v":""},{"$f":"IF(ATTENDANCE!$H54=\"\", \"\", ATTENDANCE!$H54)","v":""},{"$f":"IF(ATTENDANCE!$I$11=\"\", \"\", ATTENDANCE!$I$11)","v":""},{"$f":"IF(ATTENDANCE!$I$12=\"\", \"\", ATTENDANCE!$I$12)","v":""},{"$f":"IF(ATTENDANCE!$I54=\"\", \"\", ATTENDANCE!$I54)","v":""},{"$f":"IF('SKILL 1'!$C$7=\"\", \"\", 'SKILL 1'!$C$7)","v":""},{"$f":"IF('SKILL 1'!$G$11=\"\", \"\", 'SKILL 1'!$G$11)","v":""},{"$f":"IF('SKILL 1'!$G$14=\"\", \"\", 'SKILL 1'!$G$14)","v":""},{"$f":"IF('SKILL 1'!$G56=\"\", \"\", 'SKILL 1'!$G56)","v":""},{"$f":"IF('SKILL 1'!$I$11=\"\", \"\", 'SKILL 1'!$I$11)","v":""},{"$f":"IF('SKILL 1'!$I$14=\"\", \"\", 'SKILL 1'!$I$14)","v":""},{"$f":"IF('SKILL 1'!$H56=\"\", \"\", 'SKILL 1'!$H56)","v":""},{"$f":"IF('SKILL 1'!$I56=\"\", \"\", 'SKILL 1'!$I56)","v":""},{"$f":"IF('SKILL 1'!$J56=\"\", \"\", 'SKILL 1'!$J56)","v":""},{"$f":"IF('SKILL 1'!$L$11=\"\", \"\", 'SKILL 1'!$L$11)","v":""},{"$f":"IF('SKILL 1'!$L$14=\"\", \"\", 'SKILL 1'!$L$14)","v":""},{"$f":"IF('SKILL 1'!$K56=\"\", \"\", 'SKILL 1'!$K56)","v":""},{"$f":"IF('SKILL 1'!$L56=\"\", \"\", 'SKILL 1'!$L56)","v":""},{"$f":"IF('SKILL 1'!$M56=\"\", \"\", 'SKILL 1'!$M56)","v":""},{"$f":"IF('SKILL 2'!$C$7=\"\", \"\", 'SKILL 2'!$C$7)","v":""},{"$f":"IF('SKILL 2'!$G$11=\"\", \"\", 'SKILL 2'!$G$11)","v":""},{"$f":"IF('SKILL 2'!$G$14=\"\", \"\", 'SKILL 2'!$G$14)","v":""},{"$f":"IF('SKILL 2'!$G56=\"\", \"\", 'SKILL 2'!$G56)","v":""},{"$f":"IF('SKILL 2'!$I$11=\"\", \"\", 'SKILL 2'!$I$11)","v":""},{"$f":"IF('SKILL 2'!$I$14=\"\", \"\", 'SKILL 2'!$I$14)","v":""},{"$f":"IF('SKILL 2'!$H56=\"\", \"\", 'SKILL 2'!$H56)","v":""},{"$f":"IF('SKILL 2'!$I56=\"\", \"\", 'SKILL 2'!$I56)","v":""},{"$f":"IF('SKILL 2'!$J56=\"\", \"\", 'SKILL 2'!$J56)","v":""},{"$f":"IF('SKILL 2'!$L$11=\"\", \"\", 'SKILL 2'!$L$11)","v":""},{"$f":"IF('SKILL 2'!$L$14=\"\", \"\", 'SKILL 2'!$L$14)","v":""},{"$f":"IF('SKILL 2'!$K56=\"\", \"\", 'SKILL 2'!$K56)","v":""},{"$f":"IF('SKILL 2'!$L56=\"\", \"\", 'SKILL 2'!$L56)","v":""},{"$f":"IF('SKILL 2'!$M56=\"\", \"\", 'SKILL 2'!$M56)","v":""},{"$f":"IF('SKILL 3'!$C$7=\"\", \"\", 'SKILL 3'!$C$7)","v":""},{"$f":"IF('SKILL 3'!$G$11=\"\", \"\", 'SKILL 3'!$G$11)","v":""},{"$f":"IF('SKILL 3'!$G$14=\"\", \"\", 'SKILL 3'!$G$14)","v":""},{"$f":"IF('SKILL 3'!$G56=\"\", \"\", 'SKILL 3'!$G56)","v":""},{"$f":"IF('SKILL 3'!$I$11=\"\", \"\", 'SKILL 3'!$I$11)","v":""},{"$f":"IF('SKILL 3'!$I$14=\"\", \"\", 'SKILL 3'!$I$14)","v":""},{"$f":"IF('SKILL 3'!$H56=\"\", \"\", 'SKILL 3'!$H56)","v":""},{"$f":"IF('SKILL 3'!$I56=\"\", \"\", 'SKILL 3'!$I56)","v":""},{"$f":"IF('SKILL 3'!$J56=\"\", \"\", 'SKILL 3'!$J56)","v":""},{"$f":"IF('SKILL 3'!$L$11=\"\", \"\", 'SKILL 3'!$L$11)","v":""},{"$f":"IF('SKILL 3'!$L$14=\"\", \"\", 'SKILL 3'!$L$14)","v":""},{"$f":"IF('SKILL 3'!$K56=\"\", \"\", 'SKILL 3'!$K56)","v":""},{"$f":"IF('SKILL 3'!$L56=\"\", \"\", 'SKILL 3'!$L56)","v":""},{"$f":"IF('SKILL 3'!$M56=\"\", \"\", 'SKILL 3'!$M56)","v":""},{"$f":"IF('SKILL 4'!$C$7=\"\", \"\", 'SKILL 4'!$C$7)","v":""},{"$f":"IF('SKILL 4'!$G$11=\"\", \"\", 'SKILL 4'!$G$11)","v":""},{"$f":"IF('SKILL 4'!$G$14=\"\", \"\", 'SKILL 4'!$G$14)","v":""},{"$f":"IF('SKILL 4'!$G56=\"\", \"\", 'SKILL 4'!$G56)","v":""},{"$f":"IF('SKILL 4'!$I$11=\"\", \"\", 'SKILL 4'!$I$11)","v":""},{"$f":"IF('SKILL 4'!$I$14=\"\", \"\", 'SKILL 4'!$I$14)","v":""},{"$f":"IF('SKILL 4'!$H56=\"\", \"\", 'SKILL 4'!$H56)","v":""},{"$f":"IF('SKILL 4'!$I56=\"\", \"\", 'SKILL 4'!$I56)","v":""},{"$f":"IF('SKILL 4'!$J56=\"\", \"\", 'SKILL 4'!$J56)","v":""},{"$f":"IF('SKILL 4'!$L$11=\"\", \"\", 'SKILL 4'!$L$11)","v":""},{"$f":"IF('SKILL 4'!$L$14=\"\", \"\", 'SKILL 4'!$L$14)","v":""},{"$f":"IF('SKILL 4'!$K56=\"\", \"\", 'SKILL 4'!$K56)","v":""},{"$f":"IF('SKILL 4'!$L56=\"\", \"\", 'SKILL 4'!$L56)","v":""},{"$f":"IF('SKILL 4'!$M56=\"\", \"\", 'SKILL 4'!$M56)","v":""},{"$f":"IF('SKILL 5'!$C$7=\"\", \"\", 'SKILL 5'!$C$7)","v":""},{"$f":"IF('SKILL 5'!$G$11=\"\", \"\", 'SKILL 5'!$G$11)","v":""},{"$f":"IF('SKILL 5'!$G$14=\"\", \"\", 'SKILL 5'!$G$14)","v":""},{"$f":"IF('SKILL 5'!$G56=\"\", \"\", 'SKILL 5'!$G56)","v":""},{"$f":"IF('SKILL 5'!$I$11=\"\", \"\", 'SKILL 5'!$I$11)","v":""},{"$f":"IF('SKILL 5'!$I$14=\"\", \"\", 'SKILL 5'!$I$14)","v":""},{"$f":"IF('SKILL 5'!$H56=\"\", \"\", 'SKILL 5'!$H56)","v":""},{"$f":"IF('SKILL 5'!$I56=\"\", \"\", 'SKILL 5'!$I56)","v":""},{"$f":"IF('SKILL 5'!$J56=\"\", \"\", 'SKILL 5'!$J56)","v":""},{"$f":"IF('SKILL 5'!$L$11=\"\", \"\", 'SKILL 5'!$L$11)","v":""},{"$f":"IF('SKILL 5'!$L$14=\"\", \"\", 'SKILL 5'!$L$14)","v":""},{"$f":"IF('SKILL 5'!$K56=\"\", \"\", 'SKILL 5'!$K56)","v":""},{"$f":"IF('SKILL 5'!$L56=\"\", \"\", 'SKILL 5'!$L56)","v":""},{"$f":"IF('SKILL 5'!$M56=\"\", \"\", 'SKILL 5'!$M56)","v":""},{"$f":"IF('SKILL 6'!$C$7=\"\", \"\", 'SKILL 6'!$C$7)","v":""},{"$f":"IF('SKILL 6'!$G$11=\"\", \"\", 'SKILL 6'!$G$11)","v":""},{"$f":"IF('SKILL 6'!$G$14=\"\", \"\", 'SKILL 6'!$G$14)","v":""},{"$f":"IF('SKILL 6'!$G56=\"\", \"\", 'SKILL 6'!$G56)","v":""},{"$f":"IF('SKILL 6'!$I$11=\"\", \"\", 'SKILL 6'!$I$11)","v":""},{"$f":"IF('SKILL 6'!$I$14=\"\", \"\", 'SKILL 6'!$I$14)","v":""},{"$f":"IF('SKILL 6'!$H56=\"\", \"\", 'SKILL 6'!$H56)","v":""},{"$f":"IF('SKILL 6'!$I56=\"\", \"\", 'SKILL 6'!$I56)","v":""},{"$f":"IF('SKILL 6'!$J56=\"\", \"\", 'SKILL 6'!$J56)","v":""},{"$f":"IF('SKILL 6'!$L$11=\"\", \"\", 'SKILL 6'!$L$11)","v":""},{"$f":"IF('SKILL 6'!$L$14=\"\", \"\", 'SKILL 6'!$L$14)","v":""},{"$f":"IF('SKILL 6'!$K56=\"\", \"\", 'SKILL 6'!$K56)","v":""},{"$f":"IF('SKILL 6'!$L56=\"\", \"\", 'SKILL 6'!$L56)","v":""},{"$f":"IF('SKILL 6'!$M56=\"\", \"\", 'SKILL 6'!$M56)","v":""}]