{"text_format":"3","workbook":"xlsx","n_sheets":9,"sheets":["General Info","CCRPI TREND ","Current Perf Summary","Content Mastery  ","Closing Gaps ","Lexiles","Progress for Student Growth","Student Attendance","Beyond the Core"],"not_rendered":{"charts":8,"images":7,"defined_names":1},"read":"whole","date_system":"1900"}

{"sheet":"General Info","index":0,"n_rows":29,"n_cols":3,"rows_kept":29,"merged":[[0,0,0,5],[1,0,1,5],[2,0,2,5],[3,0,3,5],[4,0,4,5],[5,0,5,5],[6,0,6,5],[7,0,7,5],[8,0,8,5],[9,0,9,5],[10,0,10,5],[11,0,11,5],[15,0,15,2],[25,0,28,0],[25,1,25,5],[26,1,26,5],[27,1,27,5],[28,1,28,5]]}
["\"Are We On Target?\""]
["GOAL: To provide a \"focused\" monitoring process that delves deeper into formative macrodata to ensure adequate growth for all students and ensures a common language across/within schools. "]
["1. Provides for a more indepth look at the school's performance overall with regard to content mastery, progress/growth, subgroup gaps, grade level contributions, and literacy. "]
["2. Delivers more precision in macrodata collection and a continuous school improvement process to better inform the leadership team. The process is used to determine the leadership team's priorities of expenditures and implementation. "]
["3. Offers an aligned CCRPI approach for monitoring subgroups using CCRPI subgroup targets to ensure greater equity of services particularly for those students most \"at-risk\". Defines \"significant growth\". "]
["4. Offers formative data that can be used to promote collaborative conversations to identify instructional and learning gaps and lead teachers into a process of triangulating the state curriculum, instructional practices, and assessment format. (Alignment vs misalignment)"]
[]
["Steps to Monitoring Progress "]
["1. Identify a reliable source of data per content area that is closely aligned to GMAS to monitor formative progress towards EOY GSE outcomes. (Beacon can serve in this role. Highly correlated measures are important.)"]
["2. Identify a school level \"data guru\" who has an interest and knowledge of data analysis. (Data guru should be able to use basic function of Excel, extract data points/reports from the formative source, and lead others to summarize performance outcomes in a manner that focuses on growth and aligns with CCRPI calculations.)"]
["3. Ensure 95% participation rate in all formative assessments and apply fidelity measures to ensure assessment protocols are followed. "]
["4. Assess at least 3x per year and apply calculations for Content Mastery weighted performances by subgroups, Lexiles per Reading Status & CCRPI grade level targets, and Progress (SGPs) per ELA & Math. "]
[]
["Reminder: Most tabs only require data to be entered in the green cells. "]
[]
["Common Formative Tools & Correlations"]
["Assessment Name","Content Area","GMAS Correlation"]
["iReady","Reading","Avg. - .80 "]
["MAP","Reading","Avg. - .84 (Note All grades 3-5 are the same.)"]
["STAR","Reading","Avg. - .81 (Note: All grades are the same.)"]
["iStation","Reading","Grades 3-6                              Avg. - .76 ELA          Avg. - .74 Rdg Comp (5th grade lowest correlation)"]
["iReady","Math","Avg. - .81 "]
["MAP","Math","Avg. - .86 (Note: Grade 3-.84; Grades 4-5-.87)"]
["STAR","Math","Avg. - .79 (Note: All grades 3-5 are same.)"]
[]
["Resources","MAP/GMAS Correlation - https://www.nwea.org/content/uploads/2017/01/GA-MAP-Growth-Linking-Study  -FEB2016.pdf p. 8"]
[null,"                                                                                                                                                                           \nRenLearn STAR/GMAS Correlation - http://doc.renlearn.com/KMNet/R004587606GMC2EC.pdf p.4                                                                                                                 "]
[null,"iStation -https://www.istation.com/Content/downloads/studies/GAPredictabilityStudy.pdf "]
[null,"https://www.curriculumassociates.com/-/media/mainsite/files/i-ready/iready-diagnostic-assessments-linking-study-overview-georgia-2020.pdf"]

{"sheet":"CCRPI TREND ","index":1,"n_rows":15,"n_cols":6,"rows_kept":15,"merged":[[8,1,8,3]]}
[null,2022,2023,"Trend Notes ",2024,"Trend Notes "]
["Overall    CCRPI","Paste Picture of CCRPI Data From CCRPI Report Here ","Paste Picture of CCRPI Data From CCRPI Report Here ",null,"Paste Picture of CCRPI Data From CCRPI Report Here "]
["Content Mastery","Paste Picture of CCRPI Data From CCRPI Report Here ","Paste Picture of CCRPI Data From CCRPI Report Here ",null,"Paste Picture of CCRPI Data From CCRPI Report Here "]
["Progress","Paste Picture of CCRPI Data From CCRPI Report Here ","Paste Picture of CCRPI Data From CCRPI Report Here ",null,"Paste Picture of CCRPI Data From CCRPI Report Here "]
["Closing Gap","Paste Picture of CCRPI Data From CCRPI Report Here ","Paste Picture of CCRPI Data From CCRPI Report Here ",null,"Paste Picture of CCRPI Data From CCRPI Report Here "]
["Readiness","Paste Picture of CCRPI Data From CCRPI Report Here ","Paste Picture of CCRPI Data From CCRPI Report Here ",null,"Paste Picture of CCRPI Data From CCRPI Report Here "]
["Climate Star Rating","Paste Picture of CCRPI Data From CCRPI Report Here ","Paste Picture of CCRPI Data From CCRPI Report Here ",null,"Paste Picture of CCRPI Data From CCRPI Report Here "]
[]
["Identified Leadership Team CCRPI Aligned Core Data Sets to be Monitored"]
[null,"Person Responsible","Workbook Tab","Person Responsible","Workbook Tab","Person Responsible"]
["Content Mastery",null,"Pass Fail",null,"Pass Fail"]
["Progress",null,"ISS",null,"ISS"]
["Lexile",null,"OSS",null,"OSS"]
["Writing",null,"Student Attendance",null,"Student Attendance"]
[null,null,"Teacher Attendance",null,"Teacher Attendance"]

{"sheet":"Current Perf Summary","index":2,"n_rows":76,"n_cols":21,"rows_kept":76,"merged":[[0,0,0,9],[7,0,7,8],[8,1,8,4],[8,5,8,8],[20,0,20,8],[21,1,21,4],[21,5,21,8],[33,0,33,9],[34,0,34,9],[35,0,35,5],[38,6,38,10],[49,0,49,9],[64,0,64,4],[72,0,72,4]]}
["Are We On Target?         "]
["Content Mastery","Fall (3-5)","Winter (3-5)","Spring (3-5)","Fall (6-8)","Winter (6-8)","Spring (6-8)"]
["Reading/ELA",{"$f":"'Content Mastery  '!R8","v":{"$error":"#DIV/0!"}},{"$f":"'Content Mastery  '!R30","v":{"$error":"#DIV/0!"}},{"$f":"'Content Mastery  '!R52","v":{"$error":"#DIV/0!"}},{"$f":"'Content Mastery  '!R34","v":{"$error":"#DIV/0!"}},{"$f":"'Content Mastery  '!R56","v":{"$error":"#DIV/0!"}},{"$f":"'Content Mastery  '!R56","v":{"$error":"#DIV/0!"}}]
["Math",{"$f":"'Content Mastery  '!R17","v":{"$error":"#DIV/0!"}},{"$f":"'Content Mastery  '!R39","v":{"$error":"#DIV/0!"}},{"$f":"'Content Mastery  '!R61","v":{"$error":"#DIV/0!"}},{"$f":"'Content Mastery  '!R21","v":{"$error":"#DIV/0!"}},{"$f":"'Content Mastery  '!R43","v":{"$error":"#DIV/0!"}},{"$f":"'Content Mastery  '!R65","v":{"$error":"#DIV/0!"}}]
[]
[]
[]
["Grades 3 - 5"]
[null,"Reading",{"$nulls":3},"Math"]
["Closing Gaps","Fall","Winter","Spring","GMAS","Fall","Winter","Spring","GMAS"]
["All",{"$f":"'Closing Gaps '!H30","v":{"$error":"#DIV/0!"}},{"$f":"'Closing Gaps '!H51","v":{"$error":"#DIV/0!"}},{"$f":"'Closing Gaps '!H71","v":{"$error":"#DIV/0!"}},{"$f":"'Closing Gaps '!H89","v":{"$error":"#DIV/0!"}},{"$f":"'Closing Gaps '!S30","v":{"$error":"#DIV/0!"}},{"$f":"'Closing Gaps '!S51","v":{"$error":"#DIV/0!"}},{"$f":"'Closing Gaps '!S71","v":{"$error":"#DIV/0!"}},{"$f":"'Closing Gaps '!S89","v":{"$error":"#DIV/0!"}}]
["Black",{"$f":"'Closing Gaps '!H31","v":{"$error":"#DIV/0!"}},{"$f":"'Closing Gaps '!H52","v":{"$error":"#DIV/0!"}},{"$f":"'Closing Gaps '!H72","v":{"$error":"#DIV/0!"}},{"$f":"'Closing Gaps '!H90","v":{"$error":"#DIV/0!"}},{"$f":"'Closing Gaps '!S31","v":{"$error":"#DIV/0!"}},{"$f":"'Closing Gaps '!S52","v":{"$error":"#DIV/0!"}},{"$f":"'Closing Gaps '!S72","v":{"$error":"#DIV/0!"}},{"$f":"'Closing Gaps '!S90","v":{"$error":"#DIV/0!"}}]
["White",{"$f":"'Closing Gaps '!H32","v":{"$error":"#DIV/0!"}},{"$f":"'Closing Gaps '!H53","v":{"$error":"#DIV/0!"}},{"$f":"'Closing Gaps '!H73","v":{"$error":"#DIV/0!"}},{"$f":"'Closing Gaps '!H91","v":{"$error":"#DIV/0!"}},{"$f":"'Closing Gaps '!S32","v":{"$error":"#DIV/0!"}},{"$f":"'Closing Gaps '!S53","v":{"$error":"#DIV/0!"}},{"$f":"'Closing Gaps '!S73","v":{"$error":"#DIV/0!"}},{"$f":"'Closing Gaps '!S91","v":{"$error":"#DIV/0!"}}]
["Hispanic ",{"$f":"'Closing Gaps '!H33","v":{"$error":"#DIV/0!"}},{"$f":"'Closing Gaps '!H54","v":{"$error":"#DIV/0!"}},{"$f":"'Closing Gaps '!H74","v":{"$error":"#DIV/0!"}},{"$f":"'Closing Gaps '!H92","v":{"$error":"#DIV/0!"}},{"$f":"'Closing Gaps '!S33","v":{"$error":"#DIV/0!"}},{"$f":"'Closing Gaps '!S54","v":{"$error":"#DIV/0!"}},{"$f":"'Closing Gaps '!S74","v":{"$error":"#DIV/0!"}},{"$f":"'Closing Gaps '!S92","v":{"$error":"#DIV/0!"}}]
["EL ",{"$f":"'Closing Gaps '!H34","v":{"$error":"#DIV/0!"}},{"$f":"'Closing Gaps '!H55","v":{"$error":"#DIV/0!"}},{"$f":"'Closing Gaps '!H75","v":{"$error":"#DIV/0!"}},{"$f":"'Closing Gaps '!H93","v":{"$error":"#DIV/0!"}},{"$f":"'Closing Gaps '!S34","v":{"$error":"#DIV/0!"}},{"$f":"'Closing Gaps '!S55","v":{"$error":"#DIV/0!"}},{"$f":"'Closing Gaps '!S75","v":{"$error":"#DIV/0!"}},{"$f":"'Closing Gaps '!S93","v":{"$error":"#DIV/0!"}}]
["ED",{"$f":"'Closing Gaps '!H35","v":{"$error":"#DIV/0!"}},{"$f":"'Closing Gaps '!H56","v":{"$error":"#DIV/0!"}},{"$f":"'Closing Gaps '!H76","v":{"$error":"#DIV/0!"}},{"$f":"'Closing Gaps '!H94","v":{"$error":"#DIV/0!"}},{"$f":"'Closing Gaps '!S35","v":{"$error":"#DIV/0!"}},{"$f":"'Closing Gaps '!S56","v":{"$error":"#DIV/0!"}},{"$f":"'Closing Gaps '!S76","v":{"$error":"#DIV/0!"}},{"$f":"'Closing Gaps '!S94","v":{"$error":"#DIV/0!"}}]
["SWD",{"$f":"'Closing Gaps '!H36","v":{"$error":"#DIV/0!"}},{"$f":"'Closing Gaps '!H57","v":{"$error":"#DIV/0!"}},{"$f":"'Closing Gaps '!H77","v":{"$error":"#DIV/0!"}},{"$f":"'Closing Gaps '!H95","v":{"$error":"#DIV/0!"}},{"$f":"'Closing Gaps '!S36","v":{"$error":"#DIV/0!"}},{"$f":"'Closing Gaps '!S57","v":{"$error":"#DIV/0!"}},{"$f":"'Closing Gaps '!S77","v":{"$error":"#DIV/0!"}},{"$f":"'Closing Gaps '!S95","v":{"$error":"#DIV/0!"}}]
[]
[]
[]
["Grades 6-8"]
[null,"Reading",{"$nulls":3},"Math"]
["Closing Gaps","Fall","Winter","Spring","GMAS","Fall","Winter","Spring","GMAS"]
["All",{"$f":"'Closing Gaps '!H38","v":{"$error":"#DIV/0!"}},{"$f":"'Closing Gaps '!H59","v":{"$error":"#DIV/0!"}},{"$f":"'Closing Gaps '!H79","v":{"$error":"#DIV/0!"}},{"$f":"'Closing Gaps '!H97","v":{"$error":"#DIV/0!"}},{"$f":"'Closing Gaps '!S38","v":{"$error":"#DIV/0!"}},{"$f":"'Closing Gaps '!S59","v":{"$error":"#DIV/0!"}},{"$f":"'Closing Gaps '!S79","v":{"$error":"#DIV/0!"}},{"$f":"'Closing Gaps '!S97","v":{"$error":"#DIV/0!"}}]
["Black",{"$f":"'Closing Gaps '!H39","v":{"$error":"#DIV/0!"}},{"$f":"'Closing Gaps '!H60","v":{"$error":"#DIV/0!"}},{"$f":"'Closing Gaps '!H80","v":{"$error":"#DIV/0!"}},{"$f":"'Closing Gaps '!H98","v":{"$error":"#DIV/0!"}},{"$f":"'Closing Gaps '!S39","v":{"$error":"#DIV/0!"}},{"$f":"'Closing Gaps '!S60","v":{"$error":"#DIV/0!"}},{"$f":"'Closing Gaps '!S80","v":{"$error":"#DIV/0!"}},{"$f":"'Closing Gaps '!S98","v":{"$error":"#DIV/0!"}}]
["White",{"$f":"'Closing Gaps '!H40","v":{"$error":"#DIV/0!"}},{"$f":"'Closing Gaps '!H61","v":{"$error":"#DIV/0!"}},{"$f":"'Closing Gaps '!H81","v":{"$error":"#DIV/0!"}},{"$f":"'Closing Gaps '!H99","v":{"$error":"#DIV/0!"}},{"$f":"'Closing Gaps '!S40","v":{"$error":"#DIV/0!"}},{"$f":"'Closing Gaps '!S61","v":{"$error":"#DIV/0!"}},{"$f":"'Closing Gaps '!S81","v":{"$error":"#DIV/0!"}},{"$f":"'Closing Gaps '!S99","v":{"$error":"#DIV/0!"}}]
["Hispanic ",{"$f":"'Closing Gaps '!H41","v":{"$error":"#DIV/0!"}},{"$f":"'Closing Gaps '!H62","v":{"$error":"#DIV/0!"}},{"$f":"'Closing Gaps '!H82","v":{"$error":"#DIV/0!"}},{"$f":"'Closing Gaps '!H100","v":{"$error":"#DIV/0!"}},{"$f":"'Closing Gaps '!S41","v":{"$error":"#DIV/0!"}},{"$f":"'Closing Gaps '!S62","v":{"$error":"#DIV/0!"}},{"$f":"'Closing Gaps '!S82","v":{"$error":"#DIV/0!"}},{"$f":"'Closing Gaps '!S100","v":{"$error":"#DIV/0!"}}]
["EL ",{"$f":"'Closing Gaps '!H42","v":{"$error":"#DIV/0!"}},{"$f":"'Closing Gaps '!H63","v":{"$error":"#DIV/0!"}},{"$f":"'Closing Gaps '!H83","v":{"$error":"#DIV/0!"}},{"$f":"'Closing Gaps '!H101","v":{"$error":"#DIV/0!"}},{"$f":"'Closing Gaps '!S42","v":{"$error":"#DIV/0!"}},{"$f":"'Closing Gaps '!S63","v":{"$error":"#DIV/0!"}},{"$f":"'Closing Gaps '!S83","v":{"$error":"#DIV/0!"}},{"$f":"'Closing Gaps '!S101","v":{"$error":"#DIV/0!"}}]
["ED",{"$f":"'Closing Gaps '!H43","v":{"$error":"#DIV/0!"}},{"$f":"'Closing Gaps '!H64","v":{"$error":"#DIV/0!"}},{"$f":"'Closing Gaps '!H84","v":{"$error":"#DIV/0!"}},{"$f":"'Closing Gaps '!H102","v":{"$error":"#DIV/0!"}},{"$f":"'Closing Gaps '!S43","v":{"$error":"#DIV/0!"}},{"$f":"'Closing Gaps '!S64","v":{"$error":"#DIV/0!"}},{"$f":"'Closing Gaps '!S84","v":{"$error":"#DIV/0!"}},{"$f":"'Closing Gaps '!S102","v":{"$error":"#DIV/0!"}}]
["SWD",{"$f":"'Closing Gaps '!H44","v":{"$error":"#DIV/0!"}},{"$f":"'Closing Gaps '!H65","v":{"$error":"#DIV/0!"}},{"$f":"'Closing Gaps '!H85","v":{"$error":"#DIV/0!"}},{"$f":"'Closing Gaps '!H103","v":{"$error":"#DIV/0!"}},{"$f":"'Closing Gaps '!S44","v":{"$error":"#DIV/0!"}},{"$f":"'Closing Gaps '!S65","v":{"$error":"#DIV/0!"}},{"$f":"'Closing Gaps '!S85","v":{"$error":"#DIV/0!"}},{"$f":"'Closing Gaps '!S103","v":{"$error":"#DIV/0!"}}]
[]
[]
[]
[]
[]
["Lexile Performance "]
[null,"BM1","BM2","BM3","BM4","GMAS"]
["Grade Level ","Reading on Grade Level or Above","Reading on Grade Level or Above","Reading on Grade Level or Above","Reading on Grade Level or Above","Reading on Grade Level or Above"]
[3,{"$f":"Lexiles!B14","v":{"$error":"#DIV/0!"}},{"$f":"Lexiles!C14","v":{"$error":"#DIV/0!"}},{"$f":"Lexiles!D14","v":{"$error":"#DIV/0!"}},{"$f":"Lexiles!E14","v":{"$error":"#DIV/0!"}},{"$f":"Lexiles!F14","v":{"$error":"#DIV/0!"}}]
[4,{"$f":"Lexiles!B15","v":{"$error":"#DIV/0!"}},{"$f":"Lexiles!C15","v":{"$error":"#DIV/0!"}},{"$f":"Lexiles!D15","v":{"$error":"#DIV/0!"}},{"$f":"Lexiles!E15","v":{"$error":"#DIV/0!"}},{"$f":"Lexiles!F15","v":{"$error":"#DIV/0!"}}]
[5,{"$f":"Lexiles!B16","v":{"$error":"#DIV/0!"}},{"$f":"Lexiles!C16","v":{"$error":"#DIV/0!"}},{"$f":"Lexiles!D16","v":{"$error":"#DIV/0!"}},{"$f":"Lexiles!E16","v":{"$error":"#DIV/0!"}},{"$f":"Lexiles!F16","v":{"$error":"#DIV/0!"}}]
["Total",{"$f":"Lexiles!B17","v":{"$error":"#DIV/0!"}},{"$f":"Lexiles!C17","v":{"$error":"#DIV/0!"}},{"$f":"Lexiles!D17","v":{"$error":"#DIV/0!"}},{"$f":"Lexiles!E17","v":{"$error":"#DIV/0!"}},{"$f":"Lexiles!F17","v":{"$error":"#DIV/0!"}}]
[6,{"$f":"Lexiles!B18","v":{"$error":"#DIV/0!"}},{"$f":"Lexiles!C18","v":{"$error":"#DIV/0!"}},{"$f":"Lexiles!D18","v":{"$error":"#DIV/0!"}},{"$f":"Lexiles!E18","v":{"$error":"#DIV/0!"}},{"$f":"Lexiles!F18","v":{"$error":"#DIV/0!"}}]
[7,{"$f":"Lexiles!B19","v":{"$error":"#DIV/0!"}},{"$f":"Lexiles!C19","v":{"$error":"#DIV/0!"}},{"$f":"Lexiles!D19","v":{"$error":"#DIV/0!"}},{"$f":"Lexiles!E19","v":{"$error":"#DIV/0!"}},{"$f":"Lexiles!F19","v":{"$error":"#DIV/0!"}}]
[8,{"$f":"Lexiles!B20","v":{"$error":"#DIV/0!"}},{"$f":"Lexiles!C20","v":{"$error":"#DIV/0!"}},{"$f":"Lexiles!D20","v":{"$error":"#DIV/0!"}},{"$f":"Lexiles!E20","v":{"$error":"#DIV/0!"}},{"$f":"Lexiles!F20","v":{"$error":"#DIV/0!"}}]
["Total ",{"$f":"Lexiles!B21","v":{"$error":"#DIV/0!"}},{"$f":"Lexiles!C21","v":{"$error":"#DIV/0!"}},{"$f":"Lexiles!D21","v":{"$error":"#DIV/0!"}},{"$f":"Lexiles!E21","v":{"$error":"#DIV/0!"}},{"$f":"Lexiles!F21","v":{"$error":"#DIV/0!"}}]
[]
[]
[]
["Beyond the Core "]
[null,"Sept","Oct","Nov","Dec","Jan","Feb","Mar","Apr","May"]
["Fine Arts",{"$f":"'Beyond the Core'!C8","v":{"$error":"#DIV/0!"}},{"$f":"'Beyond the Core'!D8","v":{"$error":"#DIV/0!"}},{"$f":"'Beyond the Core'!E8","v":{"$error":"#DIV/0!"}},{"$f":"'Beyond the Core'!F8","v":{"$error":"#DIV/0!"}},{"$f":"'Beyond the Core'!G8","v":{"$error":"#DIV/0!"}},{"$f":"'Beyond the Core'!H8","v":{"$error":"#DIV/0!"}},{"$f":"'Beyond the Core'!I8","v":{"$error":"#DIV/0!"}},{"$f":"'Beyond the Core'!J8","v":{"$error":"#DIV/0!"}},{"$f":"'Beyond the Core'!K8","v":{"$error":"#DIV/0!"}}]
["Computer Science",{"$f":"'Beyond the Core'!C14","v":{"$error":"#DIV/0!"}},{"$f":"'Beyond the Core'!D14","v":{"$error":"#DIV/0!"}},{"$f":"'Beyond the Core'!E14","v":{"$error":"#DIV/0!"}},{"$f":"'Beyond the Core'!F14","v":{"$error":"#DIV/0!"}},{"$f":"'Beyond the Core'!G14","v":{"$error":"#DIV/0!"}},{"$f":"'Beyond the Core'!H14","v":{"$error":"#DIV/0!"}},{"$f":"'Beyond the Core'!I14","v":{"$error":"#DIV/0!"}},{"$f":"'Beyond the Core'!J14","v":{"$error":"#DIV/0!"}},{"$f":"'Beyond the Core'!K14","v":{"$error":"#DIV/0!"}}]
[{"$f":"'Beyond the Core'!E19","v":0},{"$f":"'Beyond the Core'!C24","v":{"$error":"#DIV/0!"}},{"$f":"'Beyond the Core'!D24","v":{"$error":"#DIV/0!"}},{"$f":"'Beyond the Core'!E24","v":{"$error":"#DIV/0!"}},{"$f":"'Beyond the Core'!F24","v":{"$error":"#DIV/0!"}},{"$f":"'Beyond the Core'!G24","v":{"$error":"#DIV/0!"}},{"$f":"'Beyond the Core'!H24","v":{"$error":"#DIV/0!"}},{"$f":"'Beyond the Core'!I24","v":{"$error":"#DIV/0!"}},{"$f":"'Beyond the Core'!J24","v":{"$error":"#DIV/0!"}},{"$f":"'Beyond the Core'!K24","v":{"$error":"#DIV/0!"}}]
[{"$f":"'Beyond the Core'!$E$29","v":0},{"$f":"'Beyond the Core'!$C$34","v":{"$error":"#DIV/0!"}},{"$f":"'Beyond the Core'!$C$34","v":{"$error":"#DIV/0!"}},{"$f":"'Beyond the Core'!$C$34","v":{"$error":"#DIV/0!"}},{"$f":"'Beyond the Core'!$C$34","v":{"$error":"#DIV/0!"}},{"$f":"'Beyond the Core'!$C$34","v":{"$error":"#DIV/0!"}},{"$f":"'Beyond the Core'!$C$34","v":{"$error":"#DIV/0!"}},{"$f":"'Beyond the Core'!$C$34","v":{"$error":"#DIV/0!"}},{"$f":"'Beyond the Core'!$C$34","v":{"$error":"#DIV/0!"}},{"$f":"'Beyond the Core'!$C$34","v":{"$error":"#DIV/0!"}}]
[null,null,"Grades K - 5",{"$nulls":9},"Grades 6-8 "]
["Student Attendance","Aug","Sept","Oct","Nov","Dec","Jan","Feb","Mar","Apr","May","Aug","Sept","Oct","Nov","Dec","Jan","Feb","Mar","Apr","May"]
["Percent of students in   absent less than 10% of enrolled days. (This data appears in the Readiness indicator. )",{"$f":"'Student Attendance'!C6","v":{"$error":"#DIV/0!"}},{"$f":"'Student Attendance'!D6","v":{"$error":"#DIV/0!"}},{"$f":"'Student Attendance'!E6","v":{"$error":"#DIV/0!"}},{"$f":"'Student Attendance'!F6","v":{"$error":"#DIV/0!"}},{"$f":"'Student Attendance'!G6","v":{"$error":"#DIV/0!"}},{"$f":"'Student Attendance'!H6","v":{"$error":"#DIV/0!"}},{"$f":"'Student Attendance'!I6","v":{"$error":"#DIV/0!"}},{"$f":"'Student Attendance'!J6","v":{"$error":"#DIV/0!"}},{"$f":"'Student Attendance'!K6","v":{"$error":"#DIV/0!"}},{"$f":"'Student Attendance'!L6","v":{"$error":"#DIV/0!"}},{"$f":"'Student Attendance'!C13","v":{"$error":"#DIV/0!"}},{"$f":"'Student Attendance'!D13","v":{"$error":"#DIV/0!"}},{"$f":"'Student Attendance'!E13","v":{"$error":"#DIV/0!"}},{"$f":"'Student Attendance'!F13","v":{"$error":"#DIV/0!"}},{"$f":"'Student Attendance'!G13","v":{"$error":"#DIV/0!"}},{"$f":"'Student Attendance'!H13","v":{"$error":"#DIV/0!"}},{"$f":"'Student Attendance'!I13","v":{"$error":"#DIV/0!"}},{"$f":"'Student Attendance'!J13","v":{"$error":"#DIV/0!"}},{"$f":"'Student Attendance'!K13","v":{"$error":"#DIV/0!"}},{"$f":"'Student Attendance'!L13","v":{"$error":"#DIV/0!"}}]
[]
[]
[]
[]
[]
[]
["CCRPI Projected Progress Calculation for           Grades 4-5"]
[null,null,"ELA","Math","Predicted Progress Score"]
["Winter  2023-24",null,{"$f":"'Progress for Student Growth'!C22","v":{"$error":"#DIV/0!"}},{"$f":"'Progress for Student Growth'!D22","v":{"$error":"#DIV/0!"}},{"$f":"'Progress for Student Growth'!E22","v":{"$error":"#DIV/0!"}}]
["Spring 2024",null,{"$f":"'Progress for Student Growth'!C23","v":{"$error":"#DIV/0!"}},{"$f":"'Progress for Student Growth'!D23","v":{"$error":"#DIV/0!"}},{"$f":"'Progress for Student Growth'!E23","v":{"$error":"#DIV/0!"}}]
[]
[]
[]
[]
["CCRPI Projected Progress Calculation for                  Grades 6-8"]
[null,null,"ELA","Math","Predicted Progress Score"]
["Winter  2023-24",null,{"$f":"'Progress for Student Growth'!L22","v":{"$error":"#DIV/0!"}},{"$f":"'Progress for Student Growth'!M22","v":{"$error":"#DIV/0!"}},{"$f":"'Progress for Student Growth'!N22","v":{"$error":"#DIV/0!"}}]
["Spring 2024",null,{"$f":"'Progress for Student Growth'!L23","v":{"$error":"#DIV/0!"}},{"$f":"'Progress for Student Growth'!M23","v":{"$error":"#DIV/0!"}},{"$f":"'Progress for Student Growth'!N23","v":{"$error":"#DIV/0!"}}]

{"sheet":"Content Mastery  ","index":3,"n_rows":90,"n_cols":19,"rows_kept":90,"merged":[[1,4,3,17],[4,0,4,18],[5,2,5,5],[5,12,5,15],[6,0,24,0],[6,10,24,10],[24,1,24,8],[24,11,24,18],[27,2,27,5],[27,12,27,15],[28,0,46,0],[28,10,46,10],[46,1,46,8],[46,11,46,18],[49,2,49,5],[49,12,49,15],[50,0,68,0],[50,10,68,10],[68,1,68,8],[68,11,68,18],[71,2,71,5],[71,12,71,15],[72,0,90,0],[72,10,90,10],[90,1,90,8],[90,11,90,18]]}
[]
[{"$nulls":4}," Progress Monitoring Tool for CCRPI ELA/Math CONTENT MASTERY"]
[]
[]
["Note: Enter grade level data in green cells. The totals will (blue cells and gold cells) will automatically populate. "]
[null,null,"Enter # Students Scoring at Each Performance Level",{"$nulls":9},"Enter # Students Scoring at Each Performance Level"]
[null,"Fall 2022 ","BEG \n(0 pts)","DEV \n(.5 pts)","PRO \n(1 pt)","DIST \n(1.5 pts)","Total Testers ","CCRPI CM Weighted Achievement Rate","Weight for Test",null,null,"Fall 2023","BEG \n(0 pts)","DEV \n(.5 pts)","PRO \n(1 pt)","DIST \n(1.5 pts)","Total Testers ","CCRPI CM Weighted Achievement Rate","Weight for Test"]
[null,"ELA GMAS Projection 3-5",{"$f":"SUM(C9:C11)","v":0},{"$f":"SUM(D9:D11)","v":0},0,0,0,{"$f":"((D8*0.5)+(E8)+(F8*1.5))/G8","v":{"$error":"#DIV/0!"}},{"v":0.425,"d":"42.50%"},null,null,"ELA GMAS Projection 3-5",{"$f":"SUM(M9:M11)","v":0},{"$f":"SUM(N9:N11)","v":0},0,0,{"$f":"SUM(Q9:Q11)","v":0},{"$f":"((N8*0.5)+(O8)+(P8*1.5)) / Q8","v":{"$error":"#DIV/0!"}},{"v":0.425,"d":"42.50%"}]
[null,"3rd Grade",{"$nulls":4},{"$f":"SUM(C9:F9)","v":0},{"$f":"((D9*0.5)+(E9)+(F9*1.5))/G9","v":{"$error":"#DIV/0!"}},{"$nulls":3},"3rd Grade",{"$nulls":4},{"$f":"SUM(M9:P9)","v":0},{"$f":"((N9*0.5)+(O9)+(P9*1.5)) / Q9","v":{"$error":"#DIV/0!"}}]
[null,"4th Grade",{"$nulls":4},0,{"$f":"((D10*0.5)+(E10)+(F10*1.5))/G10","v":{"$error":"#DIV/0!"}},{"$nulls":3},"4th Grade",{"$nulls":4},0,{"$error":"#DIV/0!"}]
[null,"5th Grade ",{"$nulls":4},0,{"$error":"#DIV/0!"},{"$nulls":3},"5th Grade ",{"$nulls":4},0,{"$error":"#DIV/0!"}]
[null,"ELA GMAS Projection 6-8",{"$f":"SUM(C13:C15)","v":0},{"$f":"SUM(D13:D15)","v":0},0,0,0,{"$f":"((D12*0.5)+(E12)+(F12*1.5))/G12","v":{"$error":"#DIV/0!"}},{"v":0.375,"d":"37.50%"},null,null,"ELA GMAS Projection 6-8",{"$f":"SUM(M13:M15)","v":0},{"$f":"SUM(N13:N15)","v":0},0,0,0,{"$error":"#DIV/0!"},{"v":0.375,"d":"37.50%"}]
[null,"6th Grade",{"$nulls":4},{"$f":"SUM(C13:F13)","v":0},{"$f":"((D13*0.5)+(E13)+(F13*1.5))/G13","v":{"$error":"#DIV/0!"}},{"$nulls":3},"6th Grade",{"$nulls":4},0,{"$error":"#DIV/0!"}]
[null,"7th Grade ",{"$nulls":4},0,{"$error":"#DIV/0!"},{"$nulls":3},"7th Grade ",{"$nulls":4},0,{"$error":"#DIV/0!"}]
[null,"8th Grade ",{"$nulls":4},0,{"$error":"#DIV/0!"},{"$nulls":3},"8th Grade ",{"$nulls":4},0,{"$error":"#DIV/0!"}]
[]
[null,"Math GMAS  Projection 3-5",{"$f":"SUM(C18:C20)","v":0},{"$f":"SUM(D18:D20)","v":0},0,0,0,{"$f":"((D17*0.5)+(E17)+(F17*1.5)) / G17","v":{"$error":"#DIV/0!"}},{"v":0.425,"d":"42.50%"},null,null,"Math GMAS Projection 3-5",{"$f":"SUM(M18:M20)","v":0},{"$f":"SUM(N18:N20)","v":0},0,0,0,{"$f":"((N17*0.5)+(O17)+(P17*1.5)) / Q17","v":{"$error":"#DIV/0!"}},{"v":0.425,"d":"42.50%"}]
[null,"3rd Grade",{"$nulls":4},{"$f":"SUM(C18:F18)","v":0},{"$f":"((D18*0.5)+(E18)+(F18*1.5)) / G18","v":{"$error":"#DIV/0!"}},{"$nulls":3},"3rd Grade",{"$nulls":4},{"$f":"SUM(M18:P18)","v":0},{"$f":"((N18*0.5)+(O18)+(P18*1.5)) / Q18","v":{"$error":"#DIV/0!"}}]
[null,"4th Grade",{"$nulls":4},0,{"$error":"#DIV/0!"},{"$nulls":3},"4th Grade",{"$nulls":4},0,{"$error":"#DIV/0!"}]
[null,"5th Grade ",{"$nulls":4},0,{"$error":"#DIV/0!"},{"$nulls":3},"5th Grade ",{"$nulls":4},0,{"$error":"#DIV/0!"}]
[null,"Math GMAS Projection 6-8",{"$f":"SUM(C22:C24)","v":0},{"$f":"SUM(D22:D24)","v":0},0,0,0,{"$f":"((D21*0.5)+(E21)+(F21*1.5)) / G21","v":{"$error":"#DIV/0!"}},{"v":0.375,"d":"37.50%"},null,null,"Math GMAS Projection 6-8",{"$f":"SUM(M22:M24)","v":0},{"$f":"SUM(N22:N24)","v":0},0,0,0,{"$error":"#DIV/0!"},{"v":0.375,"d":"37.50%"}]
[null,"6th Grade",{"$nulls":4},0,{"$f":"((D22*0.5)+(E22)+(F22*1.5)) / G22","v":{"$error":"#DIV/0!"}},{"$nulls":3},"6th Grade",{"$nulls":4},0,{"$error":"#DIV/0!"}]
[null,"7th Grade ",{"$nulls":4},0,{"$error":"#DIV/0!"},{"$nulls":3},"7th Grade ",{"$nulls":4},0,{"$error":"#DIV/0!"}]
[null,"8th Grade ",{"$nulls":4},0,{"$error":"#DIV/0!"},{"$nulls":3},"8th Grade ",{"$nulls":4},0,{"$error":"#DIV/0!"}]
[]
[]
[]
[null,null,"Enter # Students Scoring at Each Performance Level",{"$nulls":9},"Enter # Students Scoring at Each Performance Level"]
[null,"Winter 2022-2023 ","BEG \n(0 pts)","DEV \n(.5 pts)","PRO \n(1 pt)","DIST \n(1.5 pts)","Total Testers ","CCRPI CM Weighted Achievement Rate","Weight for Test",null,null,"Winter 2023-2024","BEG \n(0 pts)","DEV \n(.5 pts)","PRO \n(1 pt)","DIST \n(1.5 pts)","Total Testers ","CCRPI CM Weighted Achievement Rate","Weight for Test"]
[null,"ELA GMAS Projection 3-5",{"$f":"SUM(C31:C33)","v":0},{"$f":"SUM(D31:D33)","v":0},0,0,0,{"$f":"((D30*0.5)+(E30)+(F30*1.5))/G30","v":{"$error":"#DIV/0!"}},{"v":0.425,"d":"42.50%"},null,null,"ELA GMAS Projection 3-5",{"$f":"SUM(M31:M33)","v":0},{"$f":"SUM(N31:N33)","v":0},0,0,0,{"$f":"((N30*0.5)+(O30)+(P30*1.5)) / Q30","v":{"$error":"#DIV/0!"}},{"v":0.425,"d":"42.50%"}]
[null,"3rd Grade",{"$nulls":4},{"$f":"SUM(C31:F31)","v":0},{"$f":"((D31*0.5)+(E31)+(F31*1.5))/G31","v":{"$error":"#DIV/0!"}},{"$nulls":3},"3rd Grade",{"$nulls":4},{"$f":"SUM(M31:P31)","v":0},{"$f":"((N31*0.5)+(O31)+(P31*1.5)) / Q31","v":{"$error":"#DIV/0!"}}]
[null,"4th Grade",{"$nulls":4},0,{"$error":"#DIV/0!"},{"$nulls":3},"4th Grade",{"$nulls":4},0,{"$error":"#DIV/0!"}]
[null,"5th Grade ",{"$nulls":4},0,{"$error":"#DIV/0!"},{"$nulls":3},"5th Grade ",{"$nulls":4},0,{"$error":"#DIV/0!"}]
[null,"ELA GMAS Projection 6-8",{"$f":"SUM(C35:C37)","v":0},{"$f":"SUM(D35:D37)","v":0},0,0,0,{"$f":"((D34*0.5)+(E34)+(F34*1.5))/G34","v":{"$error":"#DIV/0!"}},{"v":0.375,"d":"37.50%"},null,null,"ELA GMAS Projection 6-8",{"$f":"SUM(M35:M37)","v":0},{"$f":"SUM(N35:N37)","v":0},0,0,0,{"$error":"#DIV/0!"},{"v":0.375,"d":"37.50%"}]
[null,"6th Grade",{"$nulls":4},{"$f":"SUM(C35:F35)","v":0},{"$f":"((D35*0.5)+(E35)+(F35*1.5))/G35","v":{"$error":"#DIV/0!"}},{"$nulls":3},"6th Grade",{"$nulls":4},0,{"$error":"#DIV/0!"}]
[null,"7th Grade ",{"$nulls":4},0,{"$error":"#DIV/0!"},{"$nulls":3},"7th Grade ",{"$nulls":4},0,{"$error":"#DIV/0!"}]
[null,"8th Grade ",{"$nulls":4},0,{"$error":"#DIV/0!"},{"$nulls":3},"8th Grade ",{"$nulls":4},0,{"$error":"#DIV/0!"}]
[]
[null,"Math GMAS  Projection 3-5",{"$f":"SUM(C40:C42)","v":0},{"$f":"SUM(D40:D42)","v":0},0,0,0,{"$f":"((D39*0.5)+(E39)+(F39*1.5)) / G39","v":{"$error":"#DIV/0!"}},{"v":0.425,"d":"42.50%"},null,null,"Math GMAS Projection 3-5",{"$f":"SUM(M40:M42)","v":0},{"$f":"SUM(N40:N42)","v":0},0,0,0,{"$f":"((N39*0.5)+(O39)+(P39*1.5)) / Q39","v":{"$error":"#DIV/0!"}},{"v":0.425,"d":"42.50%"}]
[null,"3rd Grade",{"$nulls":4},{"$f":"SUM(C40:F40)","v":0},{"$f":"((D40*0.5)+(E40)+(F40*1.5)) / G40","v":{"$error":"#DIV/0!"}},{"$nulls":3},"3rd Grade",{"$nulls":4},{"$f":"SUM(M40:P40)","v":0},{"$f":"((N40*0.5)+(O40)+(P40*1.5)) / Q40","v":{"$error":"#DIV/0!"}}]
[null,"4th Grade",{"$nulls":4},0,{"$error":"#DIV/0!"},{"$nulls":3},"4th Grade",{"$nulls":4},0,{"$error":"#DIV/0!"}]
[null,"5th Grade ",{"$nulls":4},0,{"$error":"#DIV/0!"},{"$nulls":3},"5th Grade ",{"$nulls":4},0,{"$error":"#DIV/0!"}]
[null,"Math GMAS Projection 6-8",{"$f":"SUM(C44:C46)","v":0},{"$f":"SUM(D44:D46)","v":0},0,0,0,{"$f":"((D43*0.5)+(E43)+(F43*1.5)) / G43","v":{"$error":"#DIV/0!"}},{"v":0.375,"d":"37.50%"},null,null,"Math GMAS Projection 6-8",{"$f":"SUM(M44:M46)","v":0},{"$f":"SUM(N44:N46)","v":0},0,0,0,{"$error":"#DIV/0!"},{"v":0.375,"d":"37.50%"}]
[null,"6th Grade",{"$nulls":4},0,{"$f":"((D44*0.5)+(E44)+(F44*1.5)) / G44","v":{"$error":"#DIV/0!"}},{"$nulls":3},"6th Grade",{"$nulls":4},0,{"$error":"#DIV/0!"}]
[null,"7th Grade ",{"$nulls":4},0,{"$error":"#DIV/0!"},{"$nulls":3},"7th Grade ",{"$nulls":4},0,{"$error":"#DIV/0!"}]
[null,"8th Grade ",{"$nulls":4},0,{"$error":"#DIV/0!"},{"$nulls":3},"8th Grade ",{"$nulls":4},0,{"$error":"#DIV/0!"}]
[]
[]
[]
[null,null,"Enter # Students Scoring at Each Performance Level",{"$nulls":9},"Enter # Students Scoring at Each Performance Level"]
[null,"Spring  2023 ","BEG \n(0 pts)","DEV \n(.5 pts)","PRO \n(1 pt)","DIST \n(1.5 pts)","Total Testers ","CCRPI CM Weighted Achievement Rate","Weight for Test",null,null,"Spring 2024","BEG \n(0 pts)","DEV \n(.5 pts)","PRO \n(1 pt)","DIST \n(1.5 pts)","Total Testers ","CCRPI CM Weighted Achievement Rate","Weight for Test"]
[null,"ELA GMAS Projection 3-5",{"$f":"SUM(C53:C55)","v":0},{"$f":"SUM(D53:D55)","v":0},0,0,0,{"$f":"((D52*0.5)+(E52)+(F52*1.5))/G52","v":{"$error":"#DIV/0!"}},{"v":0.425,"d":"42.50%"},null,null,"ELA GMAS Projection 3-5",{"$f":"SUM(M53:M55)","v":0},{"$f":"SUM(N53:N55)","v":0},0,0,0,{"$f":"((N52*0.5)+(O52)+(P52*1.5)) / Q52","v":{"$error":"#DIV/0!"}},{"v":0.425,"d":"42.50%"}]
[null,"3rd Grade",{"$nulls":4},{"$f":"SUM(C53:F53)","v":0},{"$f":"((D53*0.5)+(E53)+(F53*1.5))/G53","v":{"$error":"#DIV/0!"}},{"$nulls":3},"3rd Grade",{"$nulls":4},{"$f":"SUM(M53:P53)","v":0},{"$f":"((N53*0.5)+(O53)+(P53*1.5)) / Q53","v":{"$error":"#DIV/0!"}}]
[null,"4th Grade",{"$nulls":4},0,{"$error":"#DIV/0!"},{"$nulls":3},"4th Grade",{"$nulls":4},0,{"$error":"#DIV/0!"}]
[null,"5th Grade ",{"$nulls":4},0,{"$error":"#DIV/0!"},{"$nulls":3},"5th Grade ",{"$nulls":4},0,{"$error":"#DIV/0!"}]
[null,"ELA GMAS Projection 6-8",{"$f":"SUM(C57:C59)","v":0},{"$f":"SUM(D57:D59)","v":0},0,0,0,{"$f":"((D56*0.5)+(E56)+(F56*1.5))/G56","v":{"$error":"#DIV/0!"}},{"v":0.375,"d":"37.50%"},null,null,"ELA GMAS Projection 6-8",{"$f":"SUM(M57:M59)","v":0},{"$f":"SUM(N57:N59)","v":0},0,0,0,{"$error":"#DIV/0!"},{"v":0.375,"d":"37.50%"}]
[null,"6th Grade",{"$nulls":4},{"$f":"SUM(C57:F57)","v":0},{"$f":"((D57*0.5)+(E57)+(F57*1.5))/G57","v":{"$error":"#DIV/0!"}},{"$nulls":3},"6th Grade",{"$nulls":4},0,{"$error":"#DIV/0!"}]
[null,"7th Grade ",{"$nulls":4},0,{"$error":"#DIV/0!"},{"$nulls":3},"7th Grade ",{"$nulls":4},0,{"$error":"#DIV/0!"}]
[null,"8th Grade ",{"$nulls":4},0,{"$error":"#DIV/0!"},{"$nulls":3},"8th Grade ",{"$nulls":4},0,{"$error":"#DIV/0!"}]
[]
[null,"Math GMAS  Projection 3-5",{"$f":"SUM(C62:C64)","v":0},{"$f":"SUM(D62:D64)","v":0},0,0,0,{"$f":"((D61*0.5)+(E61)+(F61*1.5)) / G61","v":{"$error":"#DIV/0!"}},{"v":0.425,"d":"42.50%"},null,null,"Math GMAS Projection 3-5",{"$f":"SUM(M62:M64)","v":0},{"$f":"SUM(N62:N64)","v":0},0,0,0,{"$f":"((N61*0.5)+(O61)+(P61*1.5)) / Q61","v":{"$error":"#DIV/0!"}},{"v":0.425,"d":"42.50%"}]
[null,"3rd Grade",{"$nulls":4},{"$f":"SUM(C62:F62)","v":0},{"$f":"((D62*0.5)+(E62)+(F62*1.5)) / G62","v":{"$error":"#DIV/0!"}},{"$nulls":3},"3rd Grade",{"$nulls":4},{"$f":"SUM(M62:P62)","v":0},{"$f":"((N62*0.5)+(O62)+(P62*1.5)) / Q62","v":{"$error":"#DIV/0!"}}]
[null,"4th Grade",{"$nulls":4},0,{"$error":"#DIV/0!"},{"$nulls":3},"4th Grade",{"$nulls":4},0,{"$error":"#DIV/0!"}]
[null,"5th Grade ",{"$nulls":4},0,{"$error":"#DIV/0!"},{"$nulls":3},"5th Grade ",{"$nulls":4},0,{"$error":"#DIV/0!"}]
[null,"Math GMAS Projection 6-8",{"$f":"SUM(C66:C68)","v":0},{"$f":"SUM(D66:D68)","v":0},0,0,0,{"$f":"((D65*0.5)+(E65)+(F65*1.5)) / G65","v":{"$error":"#DIV/0!"}},{"v":0.375,"d":"37.50%"},null,null,"Math GMAS Projection 6-8",{"$f":"SUM(M66:M68)","v":0},{"$f":"SUM(N66:N68)","v":0},0,0,0,{"$error":"#DIV/0!"},{"v":0.375,"d":"37.50%"}]
[null,"6th Grade",{"$nulls":4},0,{"$f":"((D66*0.5)+(E66)+(F66*1.5)) / G66","v":{"$error":"#DIV/0!"}},{"$nulls":3},"6th Grade",{"$nulls":4},0,{"$error":"#DIV/0!"}]
[null,"7th Grade ",{"$nulls":4},0,{"$error":"#DIV/0!"},{"$nulls":3},"7th Grade ",{"$nulls":4},0,{"$error":"#DIV/0!"}]
[null,"8th Grade ",{"$nulls":4},0,{"$error":"#DIV/0!"},{"$nulls":3},"8th Grade ",{"$nulls":4},0,{"$error":"#DIV/0!"}]
[]
[]
[]
[null,null,"Enter # Students Scoring at Each Performance Level",{"$nulls":9},"Enter # Students Scoring at Each Performance Level"]
[null,"GMAS 2023 ","BEG \n(0 pts)","DEV \n(.5 pts)","PRO \n(1 pt)","DIST \n(1.5 pts)","Total Testers ","CCRPI CM Weighted Achievement Rate","Weight for Test",null,null,"GMAS 2024","BEG \n(0 pts)","DEV \n(.5 pts)","PRO \n(1 pt)","DIST \n(1.5 pts)","Total Testers ","CCRPI CM Weighted Achievement Rate","Weight for Test"]
[null,"ELA GMAS Projection 3-5",{"$f":"SUM(C75:C77)","v":0},{"$f":"SUM(D75:D77)","v":0},0,0,0,{"$f":"((D74*0.5)+(E74)+(F74*1.5))/G74","v":{"$error":"#DIV/0!"}},{"v":0.425,"d":"42.50%"},null,null,"ELA GMAS Projection 3-5",{"$f":"SUM(M75:M77)","v":0},{"$f":"SUM(N75:N77)","v":0},0,0,0,{"$f":"((N74*0.5)+(O74)+(P74*1.5)) / Q74","v":{"$error":"#DIV/0!"}},{"v":0.425,"d":"42.50%"}]
[null,"3rd Grade",{"$nulls":4},{"$f":"SUM(C75:F75)","v":0},{"$f":"((D75*0.5)+(E75)+(F75*1.5))/G75","v":{"$error":"#DIV/0!"}},{"$nulls":3},"3rd Grade",{"$nulls":4},{"$f":"SUM(M75:P75)","v":0},{"$f":"((N75*0.5)+(O75)+(P75*1.5)) / Q75","v":{"$error":"#DIV/0!"}}]
[null,"4th Grade",{"$nulls":4},0,{"$error":"#DIV/0!"},{"$nulls":3},"4th Grade",{"$nulls":4},0,{"$error":"#DIV/0!"}]
[null,"5th Grade ",{"$nulls":4},0,{"$error":"#DIV/0!"},{"$nulls":3},"5th Grade ",{"$nulls":4},0,{"$error":"#DIV/0!"}]
[null,"ELA GMAS Projection 6-8",{"$f":"SUM(C79:C81)","v":0},{"$f":"SUM(D79:D81)","v":0},0,0,0,{"$f":"((D78*0.5)+(E78)+(F78*1.5))/G78","v":{"$error":"#DIV/0!"}},{"v":0.375,"d":"37.50%"},null,null,"ELA GMAS Projection 6-8",{"$f":"SUM(M79:M81)","v":0},{"$f":"SUM(N79:N81)","v":0},0,0,0,{"$error":"#DIV/0!"},{"v":0.375,"d":"37.50%"}]
[null,"6th Grade",{"$nulls":4},{"$f":"SUM(C79:F79)","v":0},{"$f":"((D79*0.5)+(E79)+(F79*1.5))/G79","v":{"$error":"#DIV/0!"}},{"$nulls":3},"6th Grade",{"$nulls":4},0,{"$error":"#DIV/0!"}]
[null,"7th Grade ",{"$nulls":4},0,{"$error":"#DIV/0!"},{"$nulls":3},"7th Grade ",{"$nulls":4},0,{"$error":"#DIV/0!"}]
[null,"8th Grade ",{"$nulls":4},0,{"$error":"#DIV/0!"},{"$nulls":3},"8th Grade ",{"$nulls":4},0,{"$error":"#DIV/0!"}]
[]
[null,"Math GMAS  Projection 3-5",{"$f":"SUM(C84:C86)","v":0},{"$f":"SUM(D84:D86)","v":0},0,0,0,{"$f":"((D83*0.5)+(E83)+(F83*1.5)) / G83","v":{"$error":"#DIV/0!"}},{"v":0.425,"d":"42.50%"},null,null,"Math GMAS Projection 3-5",{"$f":"SUM(M84:M86)","v":0},{"$f":"SUM(N84:N86)","v":0},0,0,0,{"$f":"((N83*0.5)+(O83)+(P83*1.5)) / Q83","v":{"$error":"#DIV/0!"}},{"v":0.425,"d":"42.50%"}]
[null,"3rd Grade",{"$nulls":4},{"$f":"SUM(C84:F84)","v":0},{"$f":"((D84*0.5)+(E84)+(F84*1.5)) / G84","v":{"$error":"#DIV/0!"}},{"$nulls":3},"3rd Grade",{"$nulls":4},{"$f":"SUM(M84:P84)","v":0},{"$f":"((N84*0.5)+(O84)+(P84*1.5)) / Q84","v":{"$error":"#DIV/0!"}}]
[null,"4th Grade",{"$nulls":4},0,{"$error":"#DIV/0!"},{"$nulls":3},"4th Grade",{"$nulls":4},0,{"$error":"#DIV/0!"}]
[null,"5th Grade ",{"$nulls":4},0,{"$error":"#DIV/0!"},{"$nulls":3},"5th Grade ",{"$nulls":4},0,{"$error":"#DIV/0!"}]
[null,"Math GMAS Projection 6-8",{"$f":"SUM(C88:C90)","v":0},{"$f":"SUM(D88:D90)","v":0},0,0,0,{"$f":"((D87*0.5)+(E87)+(F87*1.5)) / G87","v":{"$error":"#DIV/0!"}},{"v":0.375,"d":"37.50%"},null,null,"Math GMAS Projection 6-8",{"$f":"SUM(M88:M90)","v":0},{"$f":"SUM(N88:N90)","v":0},0,0,0,{"$error":"#DIV/0!"},{"v":0.375,"d":"37.50%"}]
[null,"6th Grade",{"$nulls":4},0,{"$f":"((D88*0.5)+(E88)+(F88*1.5)) / G88","v":{"$error":"#DIV/0!"}},{"$nulls":3},"6th Grade",{"$nulls":4},0,{"$error":"#DIV/0!"}]
[null,"7th Grade ",{"$nulls":4},0,{"$error":"#DIV/0!"},{"$nulls":3},"7th Grade ",{"$nulls":4},0,{"$error":"#DIV/0!"}]
[null,"8th Grade ",{"$nulls":4},0,{"$error":"#DIV/0!"},{"$nulls":3},"8th Grade ",{"$nulls":4},0,{"$error":"#DIV/0!"}]

{"sheet":"Closing Gaps ","index":4,"n_rows":108,"n_cols":20,"rows_kept":108,"merged":[[0,7,2,13],[5,1,6,16],[26,1,26,8],[26,12,26,19],[27,1,27,8],[27,12,27,19],[36,1,36,8],[36,12,36,19],[48,1,48,8],[48,13,48,17],[48,18,48,19],[57,1,57,8],[57,12,57,19],[68,1,68,8],[68,12,68,19],[77,1,77,8],[77,12,77,19],[86,1,86,8],[86,12,86,19],[95,1,95,8],[95,12,95,19]]}
[{"$nulls":7}," Progress Monitoring Tool for CCRPI ELA/Math CLOSING GAPS                                                                                                                                                                                       "]
[]
[]
[]
[]
[null,"3% Achievement Targets"]
[]
[null,"ELA ","Achievement Score 2022 ","3% Achievement Target ","Enter current year's  CCRPI Achievement Rate ","3% Achievement Target Score 2024",{"$nulls":6},"Math ","Achievement Score 2022 ","3% Achievement Target ","Enter current year's  CCRPI Achievement Rate ","3% Achievement Target Score 2024"]
[null,"All Students 3-5",null,{"$f":"(90-C9)*0.03","v":{"v":2.6999999999999997,"d":"2.70"}},null,{"$f":"E9+D9","v":{"v":2.6999999999999997,"d":"2.70"}},{"$nulls":6},"All Students 3-5",null,{"$f":"(90-N9)*0.03","v":{"v":2.6999999999999997,"d":"2.70"}},null,{"$f":"P9+O9","v":{"v":2.6999999999999997,"d":"2.70"}}]
[null,"Black",null,{"$f":"(90-C10)*0.03","v":{"v":2.6999999999999997,"d":"2.70"}},null,{"v":2.6999999999999997,"d":"2.70"},{"$nulls":6},"Black",null,{"$f":"(90-N10)*0.03","v":{"v":2.6999999999999997,"d":"2.70"}},null,{"v":2.6999999999999997,"d":"2.70"}]
[null,"White",null,{"v":2.6999999999999997,"d":"2.70"},null,{"v":2.6999999999999997,"d":"2.70"},{"$nulls":6},"White",null,{"v":2.6999999999999997,"d":"2.70"},null,{"v":2.6999999999999997,"d":"2.70"}]
[null,"Hispanic",null,{"v":2.6999999999999997,"d":"2.70"},null,{"v":2.6999999999999997,"d":"2.70"},{"$nulls":6},"Hispanic",null,{"v":2.6999999999999997,"d":"2.70"},null,{"v":2.6999999999999997,"d":"2.70"}]
[null,"EL",null,{"v":2.6999999999999997,"d":"2.70"},null,{"v":2.6999999999999997,"d":"2.70"},{"$nulls":6},"EL",null,{"v":2.6999999999999997,"d":"2.70"},null,{"v":2.6999999999999997,"d":"2.70"}]
[null,"ED",null,{"v":2.6999999999999997,"d":"2.70"},null,{"v":2.6999999999999997,"d":"2.70"},{"$nulls":6},"ED",null,{"v":2.6999999999999997,"d":"2.70"},null,{"v":2.6999999999999997,"d":"2.70"}]
[null,"SWD",null,{"v":2.6999999999999997,"d":"2.70"},null,{"v":2.6999999999999997,"d":"2.70"},{"$nulls":6},"SWD",null,{"v":2.6999999999999997,"d":"2.70"},null,{"v":2.6999999999999997,"d":"2.70"}]
[{"$nulls":3},{"v":2.6999999999999997,"d":"2.70"},{"v":2.6189999999999998,"d":"2.62"},{"v":5.318999999999999,"d":"5.32"}]
[null,"All Students 6-8",null,{"v":2.6999999999999997,"d":"2.70"},null,{"v":2.6999999999999997,"d":"2.70"},{"$nulls":6},"All Students 6-8",null,{"$f":"(90-N17)*0.03","v":{"v":2.6999999999999997,"d":"2.70"}},null,{"$f":"P17+O17","v":{"v":2.6999999999999997,"d":"2.70"}}]
[null,"Black",null,{"v":2.6999999999999997,"d":"2.70"},null,{"v":2.6999999999999997,"d":"2.70"},{"$nulls":6},"Black",null,{"v":2.6999999999999997,"d":"2.70"},null,{"v":2.6999999999999997,"d":"2.70"}]
[null,"White",null,{"v":2.6999999999999997,"d":"2.70"},null,{"v":2.6999999999999997,"d":"2.70"},{"$nulls":6},"White",null,{"v":2.6999999999999997,"d":"2.70"},null,{"v":2.6999999999999997,"d":"2.70"}]
[null,"Hispanic",null,{"v":2.6999999999999997,"d":"2.70"},null,{"v":2.6999999999999997,"d":"2.70"},{"$nulls":6},"Hispanic",null,{"v":2.6999999999999997,"d":"2.70"},null,{"v":2.6999999999999997,"d":"2.70"}]
[null,"EL",null,{"v":2.6999999999999997,"d":"2.70"},null,{"v":2.6999999999999997,"d":"2.70"},{"$nulls":6},"EL",null,{"v":2.6999999999999997,"d":"2.70"},null,{"v":2.6999999999999997,"d":"2.70"}]
[null,"ED",null,{"v":2.6999999999999997,"d":"2.70"},null,{"v":2.6999999999999997,"d":"2.70"},{"$nulls":6},"ED",null,{"v":2.6999999999999997,"d":"2.70"},null,{"v":2.6999999999999997,"d":"2.70"}]
[null,"SWD",null,{"v":2.6999999999999997,"d":"2.70"},null,{"v":2.6999999999999997,"d":"2.70"},{"$nulls":6},"SWD",null,{"v":2.6999999999999997,"d":"2.70"},null,{"v":2.6999999999999997,"d":"2.70"}]
[]
[]
[]
[null,"Enter # Students Scoring at Each Performance Level",{"$nulls":10},"Enter # Students Scoring at Each Performance Level"]
[null," ELA Subgroup DATA",{"$nulls":10}," Math Subgroup DATA"]
[null,"Fall 2023","BEG\n(0 pts)","DEV\n(.5 pts)","PRO\n(1 pt)","DIS\n(1.5 pts)","Total Testers","CCRPI CM Weighted Achievement Rate","Are we on target? ",{"$nulls":3},"Fall 2023","BEG\n(0 pts)","DEV\n(.5 pts)","PRO\n(1 pt)","DIS\n(1.5 pts)","Total Testers","CCRPI CM Weighted Achievement Rate","Are we on target? "]
[null,"All 3-5 Students",{"$nulls":4},{"$f":"SUM(C30:F30)","v":0},{"$f":"((C30*0)+(D30*0.5)+(E30*1)+(F30*1.5))/G30","v":{"$error":"#DIV/0!"}},{"$nulls":4},"All 3-5 Students",{"$nulls":4},{"$f":"SUM(N30:Q30)","v":0},{"$f":"((N30*0)+(O30*0.5)+(P30*1)+(Q30*1.5))/R30","v":{"$error":"#DIV/0!"}}]
[null,"Black",{"$nulls":4},{"$f":"SUM(C31:F31)","v":0},{"$error":"#DIV/0!"},{"$nulls":4},"Black",{"$nulls":4},{"$f":"SUM(N31:Q31)","v":0},{"$f":"((N31*0)+(O31*0.5)+(P31*1)+(Q31*1.5))/R31","v":{"$error":"#DIV/0!"}}]
[null,"White",{"$nulls":4},{"$f":"SUM(C32:F32)","v":0},{"$error":"#DIV/0!"},{"$nulls":4},"White",{"$nulls":4},0,{"$error":"#DIV/0!"}]
[null,"Hispanic",{"$nulls":4},0,{"$error":"#DIV/0!"},{"$nulls":4},"Hispanic",{"$nulls":4},0,{"$error":"#DIV/0!"}]
[null,"EL",{"$nulls":4},0,{"$error":"#DIV/0!"},{"$nulls":4},"EL",{"$nulls":4},0,{"$error":"#DIV/0!"}]
[null,"ED",{"$nulls":4},{"$f":"SUM(C35:F35)","v":0},{"$error":"#DIV/0!"},{"$nulls":4},"ED",{"$nulls":4},0,{"$error":"#DIV/0!"}]
[null,"SWD",{"$nulls":4},{"$f":"SUM(C36:F36)","v":0},{"$error":"#DIV/0!"},{"$nulls":4},"SWD",{"$nulls":4},0,{"$error":"#DIV/0!"}]
[null,"# of Subgroups Meeting N-Size of 15 Students",{"$nulls":10},"# of Subgroups Meeting N-Size of 15 Students"]
[null,"All 6-8 Students",{"$nulls":4},{"$f":"SUM(C38:F38)","v":0},{"$f":"((C38*0)+(D38*0.5)+(E38*1)+(F38*1.5))/G38","v":{"$error":"#DIV/0!"}},{"$nulls":4},"All 6-8 Students",{"$nulls":4},{"$f":"SUM(N38:Q38)","v":0},{"$f":"((N38*0)+(O38*0.5)+(P38*1)+(Q38*1.5))/R38","v":{"$error":"#DIV/0!"}}]
[null,"Black",{"$nulls":4},0,{"$error":"#DIV/0!"},{"$nulls":4},"Black",{"$nulls":4},0,{"$f":"((N39*0)+(O39*0.5)+(P39*1)+(Q39*1.5))/R39","v":{"$error":"#DIV/0!"}}]
[null,"White",{"$nulls":4},0,{"$error":"#DIV/0!"},{"$nulls":4},"White",{"$nulls":4},0,{"$error":"#DIV/0!"}]
[null,"Hispanic",{"$nulls":4},0,{"$error":"#DIV/0!"},{"$nulls":4},"Hispanic",{"$nulls":4},0,{"$error":"#DIV/0!"}]
[null,"EL",{"$nulls":4},0,{"$error":"#DIV/0!"},{"$nulls":4},"EL",{"$nulls":4},0,{"$error":"#DIV/0!"}]
[null,"ED",{"$nulls":4},0,{"$error":"#DIV/0!"},{"$nulls":4},"ED",{"$nulls":4},0,{"$error":"#DIV/0!"}]
[null,"SWD",{"$nulls":4},0,{"$error":"#DIV/0!"},{"$nulls":4},"SWD",{"$nulls":4},0,{"$error":"#DIV/0!"}]
[]
[]
[]
[]
[null," ELA Subgroup DATA",{"$nulls":11},"Math Subgroup DATA",{"$nulls":4},"CCRPI Prediction"]
[null,"Winter 2023-24","BEG\n(0 pts)","DEV\n(.5 pts)","PRO\n(1 pt)","DIS\n(1.5 pts)","Total Testers","CCRPI CM Weighted Achievement Rate","Are we on target? ",{"$nulls":3},"Winter 2023-24","BEG\n(0 pts)","DEV\n(.5 pts)","PRO\n(1 pt)","DIS\n(1.5 pts)","Total Testers","CCRPI CM Weighted Achievement Rate","Are we on target? "]
[null,"All 3-5 Students",{"$nulls":4},{"$f":"SUM(C51:F51)","v":0},{"$f":"((C51*0)+(D51*0.5)+(E51*1)+(F51*1.5))/G51","v":{"$error":"#DIV/0!"}},{"$nulls":4},"All 3-5 Students",{"$nulls":4},{"$f":"SUM(N51:Q51)","v":0},{"$f":"((N51*0)+(O51*0.5)+(P51*1)+(Q51*1.5))/R51","v":{"$error":"#DIV/0!"}}]
[null,"Black",{"$nulls":4},{"$f":"SUM(C52:F52)","v":0},{"$error":"#DIV/0!"},{"$nulls":4},"Black",{"$nulls":4},{"$f":"SUM(N52:Q52)","v":0},{"$f":"((N52*0)+(O52*0.5)+(P52*1)+(Q52*1.5))/R52","v":{"$error":"#DIV/0!"}}]
[null,"White",{"$nulls":4},0,{"$error":"#DIV/0!"},{"$nulls":4},"White",{"$nulls":4},0,{"$error":"#DIV/0!"}]
[null,"Hispanic",{"$nulls":4},0,{"$error":"#DIV/0!"},{"$nulls":4},"Hispanic",{"$nulls":4},0,{"$error":"#DIV/0!"}]
[null,"EL",{"$nulls":4},0,{"$error":"#DIV/0!"},{"$nulls":4},"EL",{"$nulls":4},0,{"$error":"#DIV/0!"}]
[null,"ED",{"$nulls":4},0,{"$error":"#DIV/0!"},{"$nulls":4},"ED",{"$nulls":4},0,{"$error":"#DIV/0!"}]
[null,"SWD",{"$nulls":4},0,{"$error":"#DIV/0!"},{"$nulls":4},"SWD",{"$nulls":4},0,{"$error":"#DIV/0!"}]
[null,"# of Subgroups Meeting N-Size of 15 Students",{"$nulls":10},"# of Subgroups Meeting N-Size of 15 Students"]
[null,"All 6-8 Students",{"$nulls":4},{"$f":"SUM(C59:F59)","v":0},{"$f":"((C59*0)+(D59*0.5)+(E59*1)+(F59*1.5))/G59","v":{"$error":"#DIV/0!"}},{"$nulls":4},"All 6-8 Students",{"$nulls":4},{"$f":"SUM(N59:Q59)","v":0},{"$f":"((N59*0)+(O59*0.5)+(P59*1)+(Q59*1.5))/R59","v":{"$error":"#DIV/0!"}}]
[null,"Black",{"$nulls":4},0,{"$error":"#DIV/0!"},{"$nulls":4},"Black",{"$nulls":4},0,{"$f":"((N60*0)+(O60*0.5)+(P60*1)+(Q60*1.5))/R60","v":{"$error":"#DIV/0!"}}]
[null,"White",{"$nulls":4},0,{"$error":"#DIV/0!"},{"$nulls":4},"White",{"$nulls":4},0,{"$error":"#DIV/0!"}]
[null,"Hispanic",{"$nulls":4},0,{"$error":"#DIV/0!"},{"$nulls":4},"Hispanic",{"$nulls":4},0,{"$error":"#DIV/0!"}]
[null,"EL",{"$nulls":4},0,{"$error":"#DIV/0!"},{"$nulls":4},"EL",{"$nulls":4},0,{"$error":"#DIV/0!"}]
[null,"ED",{"$nulls":4},0,{"$error":"#DIV/0!"},{"$nulls":4},"ED",{"$nulls":4},0,{"$error":"#DIV/0!"}]
[null,"SWD",{"$nulls":4},0,{"$error":"#DIV/0!"},{"$nulls":4},"SWD",{"$nulls":4},0,{"$error":"#DIV/0!"}]
[]
[]
[]
[null," ELA Subgroup DATA",{"$nulls":10}," Math Subgroup DATA"]
[null,"Spring 2024","BEG\n(0 pts)","DEV\n(.5 pts)","PRO\n(1 pt)","DIS\n(1.5 pts)","Total Testers","CCRPI CM Weighted Achievement Rate","Are we on target? ",{"$nulls":3},"Spring 2024","BEG\n(0 pts)","DEV\n(.5 pts)","PRO\n(1 pt)","DIS\n(1.5 pts)","Total Testers","CCRPI CM Weighted Achievement Rate","Are we on target? "]
[null,"All 3-5 Students",{"$nulls":4},{"$f":"SUM(C71:F71)","v":0},{"$f":"((C71*0)+(D71*0.5)+(E71*1)+(F71*1.5))/G71","v":{"$error":"#DIV/0!"}},{"$nulls":4},"All 3-5 Students",{"$nulls":4},{"$f":"SUM(N71:Q71)","v":0},{"$f":"((O71*0.5)+(P71)+(Q71*1.5))/R71","v":{"$error":"#DIV/0!"}}]
[null,"Black",{"$nulls":4},{"$f":"SUM(C72:F72)","v":0},{"$error":"#DIV/0!"},{"$nulls":4},"Black",{"$nulls":4},{"$f":"SUM(N72:Q72)","v":0},{"$f":"((O72*0.5)+(P72)+(Q72*1.5))/R72","v":{"$error":"#DIV/0!"}}]
[null,"White",{"$nulls":4},0,{"$error":"#DIV/0!"},{"$nulls":4},"White",{"$nulls":4},0,{"$error":"#DIV/0!"}]
[null,"Hispanic",{"$nulls":4},0,{"$error":"#DIV/0!"},{"$nulls":4},"Hispanic",{"$nulls":4},0,{"$error":"#DIV/0!"}]
[null,"EL",{"$nulls":4},0,{"$error":"#DIV/0!"},{"$nulls":4},"EL",{"$nulls":4},0,{"$error":"#DIV/0!"}]
[null,"ED",{"$nulls":4},0,{"$error":"#DIV/0!"},{"$nulls":4},"ED",{"$nulls":4},0,{"$error":"#DIV/0!"}]
[null,"SWD",{"$nulls":4},0,{"$error":"#DIV/0!"},{"$nulls":4},"SWD",{"$nulls":4},0,{"$error":"#DIV/0!"}]
[null,"# of Subgroups Meeting N-Size of 15 Students",{"$nulls":10},"# of Subgroups Meeting N-Size of 15 Students"]
[null,"All 6-8 Students",{"$nulls":4},{"$f":"SUM(C79:F79)","v":0},{"$f":"((C79*0)+(D79*0.5)+(E79*1)+(F79*1.5))/G79","v":{"$error":"#DIV/0!"}},{"$nulls":4},"All 6-8 Students",{"$nulls":4},{"$f":"SUM(N79:Q79)","v":0},{"$f":"((N79*0)+(O79*0.5)+(P79*1)+(Q79*1.5))/R79","v":{"$error":"#DIV/0!"}}]
[null,"Black",{"$nulls":4},0,{"$error":"#DIV/0!"},{"$nulls":4},"Black",{"$nulls":4},0,{"$f":"((N80*0)+(O80*0.5)+(P80*1)+(Q80*1.5))/R80","v":{"$error":"#DIV/0!"}}]
[null,"White",{"$nulls":4},0,{"$error":"#DIV/0!"},{"$nulls":4},"White",{"$nulls":4},0,{"$error":"#DIV/0!"}]
[null,"Hispanic",{"$nulls":4},0,{"$error":"#DIV/0!"},{"$nulls":4},"Hispanic",{"$nulls":4},0,{"$error":"#DIV/0!"}]
[null,"EL",{"$nulls":4},0,{"$error":"#DIV/0!"},{"$nulls":4},"EL",{"$nulls":4},0,{"$error":"#DIV/0!"}]
[null,"ED",{"$nulls":4},0,{"$error":"#DIV/0!"},{"$nulls":4},"ED",{"$nulls":4},0,{"$error":"#DIV/0!"}]
[null,"SWD",{"$nulls":4},0,{"$error":"#DIV/0!"},{"$nulls":4},"SWD",{"$nulls":4},0,{"$error":"#DIV/0!"}]
[]
[null," ELA Subgroup DATA",{"$nulls":10}," Math Subgroup DATA"]
[null,"GMAS  2024","BEG\n(0 pts)","DEV\n(.5 pts)","PRO\n(1 pt)","DIS\n(1.5 pts)","Total Testers","CCRPI CM Weighted Achievement Rate","Are we on target? ",{"$nulls":3},"GMAS 2024","BEG\n(0 pts)","DEV\n(.5 pts)","PRO\n(1 pt)","DIS\n(1.5 pts)","Total Testers","CCRPI CM Weighted Achievement Rate","Are we on target? "]
[null,"All Students",{"$nulls":4},{"$f":"SUM(C89:F89)","v":0},{"$f":"((C89*0)+(D89*0.5)+(E89*1)+(F89*1.5))/G89","v":{"$error":"#DIV/0!"}},{"$nulls":4},"All 3-5 Students",{"$nulls":4},{"$f":"SUM(N89:Q89)","v":0},{"$f":"((O89*0.5)+(P89)+(Q89*1.5))/R89","v":{"$error":"#DIV/0!"}}]
[null,"Black",{"$nulls":4},{"$f":"SUM(C90:F90)","v":0},{"$error":"#DIV/0!"},{"$nulls":4},"Black",{"$nulls":4},{"$f":"SUM(N90:Q90)","v":0},{"$f":"((O90*0.5)+(P90)+(Q90*1.5))/R90","v":{"$error":"#DIV/0!"}}]
[null,"White",{"$nulls":4},0,{"$error":"#DIV/0!"},{"$nulls":4},"White",{"$nulls":4},0,{"$error":"#DIV/0!"}]
[null,"Hispanic ",{"$nulls":4},0,{"$error":"#DIV/0!"},{"$nulls":4},"Hispanic ",{"$nulls":4},0,{"$error":"#DIV/0!"}]
[null,"EL",{"$nulls":4},0,{"$error":"#DIV/0!"},{"$nulls":4},"EL",{"$nulls":4},0,{"$error":"#DIV/0!"}]
[null,"ED",{"$nulls":4},0,{"$error":"#DIV/0!"},{"$nulls":4},"ED",{"$nulls":4},0,{"$error":"#DIV/0!"}]
[null,"SWD",{"$nulls":4},0,{"$error":"#DIV/0!"},{"$nulls":4},"SWD",{"$nulls":4},0,{"$error":"#DIV/0!"}]
[null,"# of Subgroups Meeting N-Size of 15 Students",{"$nulls":10},"# of Subgroups Meeting N-Size of 15 Students"]
[null,"All 6-8 Students",{"$nulls":4},{"$f":"SUM(C97:F97)","v":0},{"$f":"((C97*0)+(D97*0.5)+(E97*1)+(F97*1.5))/G97","v":{"$error":"#DIV/0!"}},{"$nulls":4},"All 6-8 Students",{"$nulls":4},{"$f":"SUM(N97:Q97)","v":0},{"$f":"((N97*0)+(O97*0.5)+(P97*1)+(Q97*1.5))/R97","v":{"$error":"#DIV/0!"}}]
[null,"Black",{"$nulls":4},0,{"$error":"#DIV/0!"},{"$nulls":4},"Black",{"$nulls":4},0,{"$f":"((N98*0)+(O98*0.5)+(P98*1)+(Q98*1.5))/R98","v":{"$error":"#DIV/0!"}}]
[null,"White",{"$nulls":4},0,{"$error":"#DIV/0!"},{"$nulls":4},"White",{"$nulls":4},0,{"$error":"#DIV/0!"}]
[null,"Hispanic",{"$nulls":4},0,{"$error":"#DIV/0!"},{"$nulls":4},"Hispanic",{"$nulls":4},0,{"$error":"#DIV/0!"}]
[null,"EL",{"$nulls":4},0,{"$error":"#DIV/0!"},{"$nulls":4},"EL",{"$nulls":4},0,{"$error":"#DIV/0!"}]
[null,"ED",{"$nulls":4},0,{"$error":"#DIV/0!"},{"$nulls":4},"ED",{"$nulls":4},0,{"$error":"#DIV/0!"}]
[null,"SWD",{"$nulls":4},0,{"$error":"#DIV/0!"},{"$nulls":4},"SWD",{"$nulls":4},0,{"$error":"#DIV/0!"}]
[]
[]
[]
[null,"Update the Closing Gaps improvement target formula to align with the maintenance level • Improvement Target = (90 – baseline2022) * 0.03 "]
[null,"Reward districts and schools that meet improvement targets for the most at-risk student populations (ED, EL, SWD)"]

{"sheet":"Lexiles","index":5,"n_rows":21,"n_cols":50,"rows_kept":21,"merged":[[0,1,0,4],[0,5,0,13],[0,14,0,22],[0,23,0,31],[0,32,0,40],[0,41,0,49],[5,0,5,4],[9,0,9,4]]}
["Grade","Targets",{"$nulls":3},"BENCHMARK 1",{"$nulls":8},"Benchmark 2",{"$nulls":8},"Benchmark 3 ",{"$nulls":8},"Benchmark 4 ",{"$nulls":8},"GMAS "]
[null,"Below Grade Level ","Grade Level ","Grade Level Plus ","Above Grade Level ","Total # Students Tested","# of Students Reading Below Grade Level ","% Students Reading Below Grade Level ","# Students   Reading on Grade Level ","% Students Reading On Grade Level  ","# Students Reading Grade Level Plus ","% Students Reading Grade level Plus","# Students Reading Above Grade Level ","% Students Reading Above Grade Level","Total # Students Tested","# of Students Reading Below Grade Level ","% Students Reading Below Grade Level ","# Students   Reading on Grade Level ","% Students Reading On Grade Level  ","# Students Reading Grade Level Plus ","% Students Reading Grade level Plus","# Students Reading Above Grade Level ","% Students Reading Above Grade Level","Total # Students Tested","# of Students Reading Below Grade Level ","% Students Reading Below Grade Level ","# Students   Reading on Grade Level ","% Students Reading On Grade Level  ","# Students Reading Grade Level Plus ","% Students Reading Grade level Plus","# Students Reading Above Grade Level ","% Students Reading Above Grade Level","Total # Students Tested","# of Students Reading Below Grade Level ","% Students Reading Below Grade Level ","# Students   Reading on Grade Level ","% Students Reading On Grade Level  ","# Students Reading Grade Level Plus ","% Students Reading Grade level Plus","# Students Reading Above Grade Level ","% Students Reading Above Grade Level","Total # Students Tested","# of Students Reading Below Grade Level ","% Students Reading Below Grade Level ","# Students   Reading on Grade Level ","% Students Reading On Grade Level  ","# Students Reading Grade Level Plus ","% Students Reading Grade level Plus","# Students Reading Above Grade Level ","% Students Reading Above Grade Level"]
[3,"<520L","520L - 669L","670L-820L",">820L",null,null,{"$f":"G3/F3*100","v":{"$error":"#DIV/0!"}},null,{"$f":"I3/F3*100","v":{"$error":"#DIV/0!"}},null,{"$f":"K3/F3*100","v":{"$error":"#DIV/0!"}},null,{"$f":"M3/F3*100","v":{"$error":"#DIV/0!"}},null,null,{"$f":"P3/O3*100","v":{"$error":"#DIV/0!"}},null,{"$f":"R3/O3*100","v":{"$error":"#DIV/0!"}},null,{"$f":"T3/O3*100","v":{"$error":"#DIV/0!"}},null,{"$f":"V3/O3*100","v":{"$error":"#DIV/0!"}},null,null,{"$f":"Y3/X3*100","v":{"$error":"#DIV/0!"}},null,{"$f":"AA3/X3*100","v":{"$error":"#DIV/0!"}},null,{"$f":"AC3/X3*100","v":{"$error":"#DIV/0!"}},null,{"$f":"AE3/X3*100","v":{"$error":"#DIV/0!"}},null,null,{"$f":"AH3/AG3*100","v":{"$error":"#DIV/0!"}},null,{"$f":"AJ3/AG3*100","v":{"$error":"#DIV/0!"}},null,{"$f":"AL3/AG3*100","v":{"$error":"#DIV/0!"}},null,{"$f":"AN3/AG3*100","v":{"$error":"#DIV/0!"}},null,null,{"$f":"AQ3/AP3*100","v":{"$error":"#DIV/0!"}},null,{"$f":"AS3/AP3*100","v":{"$error":"#DIV/0!"}},null,{"$f":"AU3/AP3*100","v":{"$error":"#DIV/0!"}},null,{"$f":"AW3/AP3*100","v":{"$error":"#DIV/0!"}}]
[4,"<740L","740L-839L","840L-940L",">940L",null,null,{"$f":"G4/F4*100","v":{"$error":"#DIV/0!"}},null,{"$f":"I4/F4*100","v":{"$error":"#DIV/0!"}},null,{"$f":"K4/F4*100","v":{"$error":"#DIV/0!"}},null,{"$f":"M4/F4*100","v":{"$error":"#DIV/0!"}},null,null,{"$f":"P4/O4*100","v":{"$error":"#DIV/0!"}},null,{"$f":"R4/O4*100","v":{"$error":"#DIV/0!"}},null,{"$f":"T4/O4*100","v":{"$error":"#DIV/0!"}},null,{"$f":"V4/O4*100","v":{"$error":"#DIV/0!"}},null,null,{"$f":"Y4/X4*100","v":{"$error":"#DIV/0!"}},null,{"$f":"AA4/X4*100","v":{"$error":"#DIV/0!"}},null,{"$f":"AC4/X4*100","v":{"$error":"#DIV/0!"}},null,{"$f":"AE4/X4*100","v":{"$error":"#DIV/0!"}},null,null,{"$f":"AH4/AG4*100","v":{"$error":"#DIV/0!"}},null,{"$f":"AJ4/AG4*100","v":{"$error":"#DIV/0!"}},null,{"$f":"AL4/AG4*100","v":{"$error":"#DIV/0!"}},null,{"$f":"AN4/AG4*100","v":{"$error":"#DIV/0!"}},null,null,{"$f":"AQ4/AP4*100","v":{"$error":"#DIV/0!"}},null,{"$f":"AS4/AP4*100","v":{"$error":"#DIV/0!"}},null,{"$f":"AU4/AP4*100","v":{"$error":"#DIV/0!"}},null,{"$f":"AW4/AP4*100","v":{"$error":"#DIV/0!"}}]
[5,"<830L","830L-919L","920L-1010L",">1010L",null,null,{"$error":"#DIV/0!"},null,{"$error":"#DIV/0!"},null,{"$error":"#DIV/0!"},null,{"$error":"#DIV/0!"},null,null,{"$error":"#DIV/0!"},null,{"$error":"#DIV/0!"},null,{"$error":"#DIV/0!"},null,{"$error":"#DIV/0!"},null,null,{"$error":"#DIV/0!"},null,{"$error":"#DIV/0!"},null,{"$error":"#DIV/0!"},null,{"$error":"#DIV/0!"},null,null,{"$error":"#DIV/0!"},null,{"$error":"#DIV/0!"},null,{"$error":"#DIV/0!"},null,{"$error":"#DIV/0!"},null,null,{"$error":"#DIV/0!"},null,{"$error":"#DIV/0!"},null,{"$error":"#DIV/0!"},null,{"$error":"#DIV/0!"}]
["Totals",{"$nulls":4},{"$f":"SUM(F3:F5)","v":0},{"$f":"SUM(G3:G5)","v":0},{"$error":"#DIV/0!"},{"$f":"SUM(I3:I5)","v":0},{"$error":"#DIV/0!"},{"$f":"SUM(K3:K5)","v":0},{"$error":"#DIV/0!"},{"$f":"SUM(M3:M5)","v":0},{"$error":"#DIV/0!"},{"$f":"SUM(O3:O5)","v":0},{"$f":"SUM(P3:P5)","v":0},{"$error":"#DIV/0!"},{"$f":"SUM(R3:R5)","v":0},{"$error":"#DIV/0!"},{"$f":"SUM(T3:T5)","v":0},{"$error":"#DIV/0!"},{"$f":"SUM(V3:V5)","v":0},{"$error":"#DIV/0!"},{"$f":"SUM(X3:X5)","v":0},{"$f":"SUM(Y3:Y5)","v":0},{"$error":"#DIV/0!"},{"$f":"SUM(AA3:AA5)","v":0},{"$error":"#DIV/0!"},{"$f":"SUM(AC3:AC5)","v":0},{"$error":"#DIV/0!"},{"$f":"SUM(AE3:AE5)","v":0},{"$error":"#DIV/0!"},{"$f":"SUM(AG3:AG5)","v":0},{"$f":"SUM(AH3:AH5)","v":0},{"$error":"#DIV/0!"},{"$f":"SUM(AJ3:AJ5)","v":0},{"$error":"#DIV/0!"},{"$f":"SUM(AL3:AL5)","v":0},{"$error":"#DIV/0!"},{"$f":"SUM(AN3:AN5)","v":0},{"$error":"#DIV/0!"},{"$f":"SUM(AP3:AP5)","v":0},{"$f":"SUM(AQ3:AQ5)","v":0},{"$error":"#DIV/0!"},{"$f":"SUM(AS3:AS5)","v":0},{"$error":"#DIV/0!"},{"$f":"SUM(AU3:AU5)","v":0},{"$error":"#DIV/0!"},{"$f":"SUM(AW3:AW5)","v":0},{"$error":"#DIV/0!"}]
[6,"<925L","925L-996L","997L-1070L",">1070L",null,null,{"$error":"#DIV/0!"},null,{"$error":"#DIV/0!"},null,{"$error":"#DIV/0!"},null,{"$error":"#DIV/0!"},null,null,{"$error":"#DIV/0!"},null,{"$error":"#DIV/0!"},null,{"$error":"#DIV/0!"},null,{"$error":"#DIV/0!"},null,null,{"$error":"#DIV/0!"},null,{"$error":"#DIV/0!"},null,{"$error":"#DIV/0!"},null,{"$error":"#DIV/0!"},null,null,{"$error":"#DIV/0!"},null,{"$error":"#DIV/0!"},null,{"$error":"#DIV/0!"},null,{"$error":"#DIV/0!"},null,null,{"$error":"#DIV/0!"},null,{"$error":"#DIV/0!"},null,{"$error":"#DIV/0!"},null,{"$error":"#DIV/0!"}]
[7,"<970L","970L-1044L","1045L-1120L",">1120L",null,null,{"$error":"#DIV/0!"},null,{"$error":"#DIV/0!"},null,{"$error":"#DIV/0!"},null,{"$error":"#DIV/0!"},null,null,{"$error":"#DIV/0!"},null,{"$error":"#DIV/0!"},null,{"$error":"#DIV/0!"},null,{"$error":"#DIV/0!"},null,null,{"$error":"#DIV/0!"},null,{"$error":"#DIV/0!"},null,{"$error":"#DIV/0!"},null,{"$error":"#DIV/0!"},null,null,{"$error":"#DIV/0!"},null,{"$error":"#DIV/0!"},null,{"$error":"#DIV/0!"},null,{"$error":"#DIV/0!"},null,null,{"$error":"#DIV/0!"},null,{"$error":"#DIV/0!"},null,{"$error":"#DIV/0!"},null,{"$error":"#DIV/0!"}]
[8,"<1010L","1010L-1096L ","1097L-1185L",">1185L",null,null,{"$error":"#DIV/0!"},null,{"$error":"#DIV/0!"},null,{"$error":"#DIV/0!"},null,{"$error":"#DIV/0!"},null,null,{"$error":"#DIV/0!"},null,{"$error":"#DIV/0!"},null,{"$error":"#DIV/0!"},null,{"$error":"#DIV/0!"},null,null,{"$error":"#DIV/0!"},null,{"$error":"#DIV/0!"},null,{"$error":"#DIV/0!"},null,{"$error":"#DIV/0!"},null,null,{"$error":"#DIV/0!"},null,{"$error":"#DIV/0!"},null,{"$error":"#DIV/0!"},null,{"$error":"#DIV/0!"},null,null,{"$error":"#DIV/0!"},null,{"$error":"#DIV/0!"},null,{"$error":"#DIV/0!"},null,{"$error":"#DIV/0!"}]
["Totals ",{"$nulls":4},{"$f":"SUM(F7:F9)","v":0},{"$f":"SUM(G7:G9)","v":0},{"$f":"G10/F10*100","v":{"$error":"#DIV/0!"}},{"$f":"SUM(I7:I9)","v":0},{"$error":"#DIV/0!"},{"$f":"SUM(K7:K9)","v":0},{"$error":"#DIV/0!"},{"$f":"SUM(M7:M9)","v":0},{"$error":"#DIV/0!"},{"$f":"SUM(O7:O9)","v":0},{"$f":"SUM(P7:P9)","v":0},{"$error":"#DIV/0!"},{"$f":"SUM(R7:R9)","v":0},{"$error":"#DIV/0!"},{"$f":"SUM(T7:T9)","v":0},{"$error":"#DIV/0!"},{"$f":"SUM(V7:V9)","v":0},{"$error":"#DIV/0!"},{"$f":"SUM(X7:X9)","v":0},{"$f":"SUM(Y7:Y9)","v":0},{"$error":"#DIV/0!"},{"$f":"SUM(AA7:AA9)","v":0},{"$error":"#DIV/0!"},{"$f":"SUM(AC7:AC9)","v":0},{"$error":"#DIV/0!"},{"$f":"SUM(AE7:AE9)","v":0},{"$error":"#DIV/0!"},{"$f":"SUM(AG7:AG9)","v":0},{"$f":"SUM(AH7:AH9)","v":0},{"$error":"#DIV/0!"},{"$f":"SUM(AJ7:AJ9)","v":0},{"$error":"#DIV/0!"},{"$f":"SUM(AL7:AL9)","v":0},{"$error":"#DIV/0!"},{"$f":"SUM(AN7:AN9)","v":0},{"$error":"#DIV/0!"},{"$f":"SUM(AP7:AP9)","v":0},{"$f":"SUM(AQ7:AQ9)","v":0},{"$f":"AQ10/AP10*100","v":{"$error":"#DIV/0!"}},{"$f":"SUM(AS7:AS9)","v":0},{"$error":"#DIV/0!"},{"$f":"SUM(AU7:AU9)","v":0},{"$error":"#DIV/0!"},{"$f":"SUM(AW7:AW9)","v":0},{"$error":"#DIV/0!"}]
[]
[null,"BM1","BM2","BM3","BM4","GMAS"]
["Grade Level ","Percentage of Reading on Grade Level or Above","Percentage of Reading on Grade Level or Above","Precentage of Reading on Grade Level or Above","Percentage of Reading on Grade Level or Above","Percentage of Reading on Grade Level or Above",{"$nulls":4},"Use_of_Lexile_Scores.pdf (gadoe.org)"]
[3,{"$f":"((I3+K3+M3)/F3)*100","v":{"$error":"#DIV/0!"}},{"$f":"((R3+T3+V3)/O3)*100","v":{"$error":"#DIV/0!"}},{"$f":"((AA3+AC3+AE3)/X3)*100","v":{"$error":"#DIV/0!"}},{"$f":"((AJ3+AL3+AN3)/AG3)*100","v":{"$error":"#DIV/0!"}},{"$f":"((AS3+AU3+AW3)/AP3)*100","v":{"$error":"#DIV/0!"}}]
[4,{"$f":"((I4+K4+M4)/F4)*100","v":{"$error":"#DIV/0!"}},{"$f":"((R4+T4+V4)/O4)*100","v":{"$error":"#DIV/0!"}},{"$f":"((AA4+AC4+AE4)/X4)*100","v":{"$error":"#DIV/0!"}},{"$f":"((AJ4+AL4+AN4)/AG4)*100","v":{"$error":"#DIV/0!"}},{"$f":"((AS4+AU4+AW4)/AP4)*100","v":{"$error":"#DIV/0!"}}]
[5,{"$error":"#DIV/0!"},{"$error":"#DIV/0!"},{"$error":"#DIV/0!"},{"$error":"#DIV/0!"},{"$error":"#DIV/0!"}]
["Total",{"$error":"#DIV/0!"},{"$error":"#DIV/0!"},{"$error":"#DIV/0!"},{"$error":"#DIV/0!"},{"$error":"#DIV/0!"}]
[6,{"$error":"#DIV/0!"},{"$error":"#DIV/0!"},{"$error":"#DIV/0!"},{"$error":"#DIV/0!"},{"$error":"#DIV/0!"}]
[7,{"$error":"#DIV/0!"},{"$error":"#DIV/0!"},{"$error":"#DIV/0!"},{"$error":"#DIV/0!"},{"$error":"#DIV/0!"}]
[8,{"$error":"#DIV/0!"},{"$error":"#DIV/0!"},{"$error":"#DIV/0!"},{"$error":"#DIV/0!"},{"$error":"#DIV/0!"}]
["Total ",{"$error":"#DIV/0!"},{"$error":"#DIV/0!"},{"$error":"#DIV/0!"},{"$error":"#DIV/0!"},{"$error":"#DIV/0!"}]

{"sheet":"Progress for Student Growth","index":6,"n_rows":25,"n_cols":17,"rows_kept":25,"merged":[[0,0,0,16],[0,23,0,24],[1,0,1,7],[1,9,1,16],[1,23,1,24],[2,0,2,1],[2,2,2,4],[2,5,2,7],[2,9,2,10],[2,11,2,13],[2,14,2,16],[2,19,2,20],[2,31,2,32],[3,27,3,28],[4,2,7,2],[4,5,7,5],[4,11,7,11],[4,14,7,14],[4,27,4,28],[5,27,5,28],[6,27,6,28],[7,27,7,28],[8,31,8,32],[9,13,9,14],[9,37,9,38],[10,0,10,1],[10,2,10,4],[10,5,10,7],[10,9,10,10],[10,11,10,13],[10,14,10,16],[10,17,10,18],[11,17,11,18],[12,2,15,2],[12,5,15,5],[12,11,15,11],[12,14,15,14],[12,29,12,30],[13,29,13,30],[14,29,14,30],[15,29,15,30],[16,32,16,33],[17,13,17,14],[17,37,17,38],[18,13,18,14],[18,37,18,38],[19,0,19,4],[19,9,19,13],[19,37,19,38],[20,37,20,38],[21,37,21,38],[22,37,22,38],[23,23,23,24],[24,0,24,10],[24,23,24,24],[25,23,25,24],[26,23,26,24],[27,23,27,24],[28,23,28,24],[29,23,29,24],[30,23,30,24],[31,23,31,24],[32,23,32,24],[33,23,33,24],[34,23,34,24],[35,23,35,24],[36,23,36,24],[37,23,37,24],[38,23,38,24],[39,23,39,24],[40,0,40,4],[40,23,40,24],[41,0,41,4],[41,23,41,24],[42,23,42,24]]}
["Monitoring Progress towards Yearlong Growth"]
["Elementary",{"$nulls":8},"Middle"]
["ELA",null,"Winter 2023-2024",null,null,"Spring 2024",{"$nulls":3},"ELA",null,"Winter 2023-2024",null,null,"Spring 204 "]
["Student Growth Percentile Ranges","GMAS 2023 Performance (Enter the # of students at each level below)","Total # Grade 4-5 Students with SGP","Enter # of students at each level below","SGP  Points Earned","Total # Grade 4-5 Students with SGP","Enter # of students at each level below","SGP  Points Earned",null,"Student Growth Percentile Ranges","GMAS 2023 Performance (Enter the # of students at each level below)","Total # Grades 6-8 Students with SGP","Enter # of students at each level below","SGP  Points Earned","Total # Grade 6-8 Students Tested ","Enter # of students at each level below","SGP  Points Earned"]
["SGPs 1 - 29         (0 points)",null,{"$f":"SUM(D5:D8)","v":0},null,{"$f":"(D5/C5)*0","v":{"$error":"#DIV/0!"}},{"$f":"SUM(G5:G8)","v":0},null,{"$f":"(G5/F5)*0","v":{"$error":"#DIV/0!"}},null,"SGPs 1 - 29         (0 points)",null,{"$f":"SUM(M5:M9)","v":0},null,{"$f":"(M5/L5)*0","v":{"$error":"#DIV/0!"}},{"$f":"SUM(P5:P8)","v":0},null,{"$f":"(P5/O5)*0","v":{"$error":"#DIV/0!"}}]
["SGPs 30-40       (.5 points)",{"$nulls":3},{"$f":"(D6/$C$5)*0.5","v":{"$error":"#DIV/0!"}},null,null,{"$f":"(G6/F5)*0.5","v":{"$error":"#DIV/0!"}},null,"SGPs 30-40       (.5 points)",{"$nulls":3},{"$f":"(M6/L5)*0.5","v":{"$error":"#DIV/0!"}},null,null,{"$f":"(P6/O5)*0.5","v":{"$error":"#DIV/0!"}}]
["SGPs 41-65         (1 point)",{"$nulls":3},{"$f":"D7/C5","v":{"$error":"#DIV/0!"}},null,null,{"$f":"G7/F5","v":{"$error":"#DIV/0!"}},null,"SGPs 41-65         (1 point)",{"$nulls":3},{"$f":"M7/L5","v":{"$error":"#DIV/0!"}},null,null,{"$f":"P7/O5","v":{"$error":"#DIV/0!"}}]
["SGPs 66-99     (1.5 points)",{"$nulls":3},{"$f":"D8/C5*1.5","v":{"$error":"#DIV/0!"}},null,null,{"$f":"(G8/F5)*1.5","v":{"$error":"#DIV/0!"}},null,"SGPs 66-99     (1.5 points)",{"$nulls":3},{"$f":"(M8/L5)*1.5","v":{"$error":"#DIV/0!"}},null,null,{"$f":"(P8/O5)*1.5","v":{"$error":"#DIV/0!"}}]
[{"$nulls":4},{"$f":"SUM(E6:E8)*100","v":{"$error":"#DIV/0!"}},null,null,{"$f":"SUM(H6:H8)*100","v":{"$error":"#DIV/0!"}},{"$nulls":5},{"$f":"SUM(N6:N8)*100","v":{"$error":"#DIV/0!"}},null,null,{"$f":"SUM(Q6:Q8)*100","v":{"$error":"#DIV/0!"}}]
[]
["Math",null,"Winter 2023-24",null,null,"Spring 2024",{"$nulls":3},"Math",null,"Winter 2023-24",null,null,"Spring 2024"]
["Student Growth Percentile Ranges","GMAS 2023 Performance (Enter the # of students at each level below)","Total # Grade 4-5 Students with SGP","Enter # of students at each level below","SGP  Points Earned","Total # Grade 4-5 Students with SGP","Enter # of students at each level below","SGP  Points Earned",null,"Student Growth Percentile Ranges","GMAS 2023 Performance (Enter the # of students at each level below)","Total # Grade 6-8 Students Tested ","Enter # of students at each level below","SGP  Points Earned","Total # Grade   6-8 Students Tested ","Enter # of students at each level below","SGP  Points Earned"]
["SGPs 1 - 29         (0 points)",null,{"$f":"SUM(D13:D16)","v":0},null,{"$f":"(D13/C13)*0","v":{"$error":"#DIV/0!"}},{"$f":"SUM(G13:G16)","v":0},null,{"$f":"(G13/F13)*0","v":{"$error":"#DIV/0!"}},null,"SGPs 1 - 29         (0 points)",null,{"$f":"SUM(M13:M16)","v":0},null,{"$f":"(M13/L13)*0","v":{"$error":"#DIV/0!"}},{"$f":"SUM(P13:P16)","v":0},null,{"$f":"(P13/O13)*0","v":{"$error":"#DIV/0!"}}]
["SGPs 30-40       (.5 points)",{"$nulls":3},{"$f":"(D14/C13)*0.5","v":{"$error":"#DIV/0!"}},null,null,{"$f":"(G14/F13)*0.5","v":{"$error":"#DIV/0!"}},null,"SGPs 30-40       (.5 points)",{"$nulls":3},{"$f":"(M14/L13)*0.5","v":{"$error":"#DIV/0!"}},null,null,{"$f":"(P14/O13)*0.5","v":{"$error":"#DIV/0!"}}]
["SGPs 41-65         (1 point)",{"$nulls":3},{"$f":"D15/C13","v":{"$error":"#DIV/0!"}},null,null,{"$f":"G15/F13","v":{"$error":"#DIV/0!"}},null,"SGPs 41-65         (1 point)",{"$nulls":3},{"$f":"M15/L13","v":{"$error":"#DIV/0!"}},null,null,{"$f":"P15/O13","v":{"$error":"#DIV/0!"}}]
["SGPs 66-99     (1.5 points)",{"$nulls":3},{"$f":"(D16/C13)*1.5","v":{"$error":"#DIV/0!"}},null,null,{"$f":"(G16/F13)*1.5","v":{"$error":"#DIV/0!"}},null,"SGPs 66-99     (1.5 points)",{"$nulls":3},{"$f":"(M16/L13)*1.5","v":{"$error":"#DIV/0!"}},null,null,{"$f":"(P16/O13)*1.5","v":{"$error":"#DIV/0!"}}]
[{"$nulls":4},{"$f":"SUM(E14:E16)*100","v":{"$error":"#DIV/0!"}},null,null,{"$f":"SUM(H14:H16)*100","v":{"$error":"#DIV/0!"}},{"$nulls":5},{"$f":"SUM(N14:N16)*100","v":{"$error":"#DIV/0!"}},null,null,{"$f":"SUM(Q14:Q16)*100","v":{"$error":"#DIV/0!"}}]
[]
[]
["CCRPI Projected Progress Calculation for Grades 4-5",{"$nulls":8},"CCRPI Projected Progress Calculation for Grades 6-8"]
[null,null,"ELA","Math","Predicted Progress Score",{"$nulls":6},"ELA","Math","Predicted Progress Score"]
["Winter  2023-24",null,{"$f":"E9","v":{"$error":"#DIV/0!"}},{"$f":"E17","v":{"$error":"#DIV/0!"}},{"$f":"SUM(C22:D22/2)","v":{"$error":"#DIV/0!"}}," ",{"$nulls":3},"Winter  2023-24",null,{"$f":"N9","v":{"$error":"#DIV/0!"}},{"$f":"N17","v":{"$error":"#DIV/0!"}},{"$f":"SUM(L22:M22)/2","v":{"$error":"#DIV/0!"}}]
["Spring 2024",null,{"$f":"H9","v":{"$error":"#DIV/0!"}},{"$f":"H17","v":{"$error":"#DIV/0!"}},{"$f":"SUM(C23:D23/2)","v":{"$error":"#DIV/0!"}},{"$nulls":4},"Spring 2024",null,{"$f":"Q9","v":{"$error":"#DIV/0!"}},{"$f":"Q17","v":{"$error":"#DIV/0!"}},{"$f":"SUM(L23:M23)/2","v":{"$error":"#DIV/0!"}}]
[]
["Resource Needed: MAP, STAR or other Conditional Growth Percentile Report per administration to determine the % of students showing growth at the various SGP ranges in ELA & Math calculate a projected progress scores. "]

{"sheet":"Student Attendance","index":7,"n_rows":25,"n_cols":12,"rows_kept":25,"merged":[[0,1,0,11],[7,1,7,11],[15,0,15,5]]}
[null,"Grades K-5 Students "]
["Student Attendance","July (Ex.)","August","September","October","November","December","January","February","March","April","May"]
["Total # students enrolled schoolwide (on the last day of the month)",874]
["Total # students absent 10% or more days enrolled (i.e. 10% of 20 days=2)  This is not the Average Daily Attendance Report most SIS provide.It's best to run a query that contains a student list (by student with days enrolled and days absent)",52]
["Percentage of students absent 10% or more days enrolled                                                  What are we going to do with these students?",{"$f":"B4/B3*100","v":{"v":5.949656750572083,"d":"5.95"}},{"$f":"C4/C3*100","v":{"$error":"#DIV/0!"}},{"$error":"#DIV/0!"},{"$error":"#DIV/0!"},{"$error":"#DIV/0!"},{"$error":"#DIV/0!"},{"$error":"#DIV/0!"},{"$error":"#DIV/0!"},{"$error":"#DIV/0!"},{"$error":"#DIV/0!"},{"$error":"#DIV/0!"}]
["Percent of students in grades K-5 absent less than 10% of enrolled days. (This data appears in the Readiness indicator. )",{"$f":"100-B5","v":{"v":94.05034324942791,"d":"94.05"}},{"$f":"100-C5","v":{"$error":"#DIV/0!"}},{"$error":"#DIV/0!"},{"$error":"#DIV/0!"},{"$error":"#DIV/0!"},{"$error":"#DIV/0!"},{"$error":"#DIV/0!"},{"$error":"#DIV/0!"},{"$error":"#DIV/0!"},{"$error":"#DIV/0!"},{"$error":"#DIV/0!"}]
[]
[null,"Grades 6-8 Students "]
["Student Attendance","July (Ex.)","August","September","October","November","December","January","February","March","April","May"]
["Total # students enrolled schoolwide (on the last day of the month)",874]
["Total # students absent 10% or more days enrolled (i.e. 10% of 20 days=2)  This is not the Average Daily Attendance Report most SIS provide.It's best to run a query that contains a student list (by student with days enrolled and days absent)",52]
["Percentage of students absent 10% or more days enrolled                                                  What are we going to do with these students?",{"$f":"B11/B10*100","v":{"v":5.949656750572083,"d":"5.95"}},{"$f":"C11/C10*100","v":{"$error":"#DIV/0!"}},{"$error":"#DIV/0!"},{"$error":"#DIV/0!"},{"$error":"#DIV/0!"},{"$error":"#DIV/0!"},{"$error":"#DIV/0!"},{"$error":"#DIV/0!"},{"$error":"#DIV/0!"},{"$error":"#DIV/0!"},{"$error":"#DIV/0!"}]
["Percent of students in grades 6-8 absent less than 10% of enrolled days. (This data appears in the Readiness indicator. )",{"$f":"100-B12","v":{"v":94.05034324942791,"d":"94.05"}},{"$f":"100-C12","v":{"$error":"#DIV/0!"}},{"$error":"#DIV/0!"},{"$error":"#DIV/0!"},{"$error":"#DIV/0!"},{"$error":"#DIV/0!"},{"$error":"#DIV/0!"},{"$error":"#DIV/0!"},{"$error":"#DIV/0!"},{"$error":"#DIV/0!"},{"$error":"#DIV/0!"}]
[]
[]
["All students with an enrollment record are considered. Note: WD or inactive students meeting the 30 day enrollment expectation are included in the final calculation. Only students not meeting the 30 day enrollment are considered for exclusion. Students who have attended multiple schools in a district must be reconciled.   "]
{"$rows_empty":8}
["Add I wonder questions here"]

{"sheet":"Beyond the Core","index":8,"n_rows":34,"n_cols":18,"rows_kept":34,"merged":[[0,0,0,10],[1,13,1,16],[2,0,2,10],[8,0,8,10],[8,13,8,17],[14,0,14,10],[15,0,15,8],[18,0,18,3],[28,0,28,3]]}
["Note: The names of the courses are shown as examples. You may change the courses to the courses that align with your program. "]
["PASS/FAIL","Aug","Sept","Oct","Nov","Dec","Jan","Feb","Mar","Apr","May",null,null,"Pass-Fail"]
["Fine Arts (Music)",{"$nulls":12},"Course","Active Year End (EOY) Enrollment","pass #","fail #","percentage passing"]
["Enrollment",551,{"$nulls":11},"All BTC Courses Combined",{"$nulls":3},{"$f":"P4/O4*100","v":{"$error":"#DIV/0!"}}]
["# Pass",551,{"$nulls":11},"CCRPI BTC Target",{"v":1,"d":"100%"}]
["# Fail",0,{"$nulls":11},"CCRPI EOY BTC Passing %",{"$f":"R4","v":{"$error":"#DIV/0!"}}]
["% Fail",0,{"$nulls":11},"Target Met Y/N"]
["% Pass",100,{"$f":"C5/C4*100","v":{"$error":"#DIV/0!"}},{"$f":"D5/D4*100","v":{"$error":"#DIV/0!"}},{"$error":"#DIV/0!"},{"$error":"#DIV/0!"},{"$error":"#DIV/0!"},{"$error":"#DIV/0!"},{"$error":"#DIV/0!"},{"$error":"#DIV/0!"},{"$error":"#DIV/0!"}]
["Computer Science",{"$nulls":12},"Note: Students only count once; avoid duplicated #'s."]
["Enrollment",551]
["# Pass",551]
["# Fail",0]
["% Fail",0]
["% Pass",100,{"$f":"C11/C10*100","v":{"$error":"#DIV/0!"}},{"$f":"D11/D10*100","v":{"$error":"#DIV/0!"}},{"$error":"#DIV/0!"},{"$error":"#DIV/0!"},{"$error":"#DIV/0!"},{"$error":"#DIV/0!"},{"$error":"#DIV/0!"},{"$error":"#DIV/0!"},{"$error":"#DIV/0!"}]
[]
["Resource Needed: Student Information submitted to Student Record. See description below. "]
[]
["PASS/FAIL","Aug","Sept","Oct","Nov","Dec","Jan","Feb","Mar","Apr","May"]
["Enter Name of Other Subject in next cell."]
["Enrollment",551]
["# Pass",551]
["# Fail",0]
["% Fail",0]
["% Pass",100,{"$f":"C21/C20*100","v":{"$error":"#DIV/0!"}},{"$f":"D21/D20*100","v":{"$error":"#DIV/0!"}},{"$error":"#DIV/0!"},{"$error":"#DIV/0!"},{"$error":"#DIV/0!"},{"$error":"#DIV/0!"},{"$error":"#DIV/0!"},{"$error":"#DIV/0!"},{"$error":"#DIV/0!"}]
[]
[]
[]
["PASS/FAIL","Aug","Sept","Oct","Nov","Dec","Jan","Feb","Mar","Apr","May"]
["Enter Name of Other Subject in next cell."]
["Enrollment",551]
["# Pass",551]
["# Fail",0]
["% Fail",0]
["% Pass",100,{"$f":"C31/C30*100","v":{"$error":"#DIV/0!"}},{"$f":"D31/D30*100","v":{"$error":"#DIV/0!"}},{"$error":"#DIV/0!"},{"$error":"#DIV/0!"},{"$error":"#DIV/0!"},{"$error":"#DIV/0!"},{"$error":"#DIV/0!"},{"$error":"#DIV/0!"},{"$error":"#DIV/0!"}]